BEGIN:VCALENDAR
VERSION:2.0
PRODID:-//Wilmington Brew Works - ECPv6.15.20//NONSGML v1.0//EN
CALSCALE:GREGORIAN
METHOD:PUBLISH
X-WR-CALNAME:Wilmington Brew Works
X-ORIGINAL-URL:https://wilmingtonbrewworks.com
X-WR-CALDESC:Events for Wilmington Brew Works
REFRESH-INTERVAL;VALUE=DURATION:PT1H
X-Robots-Tag:noindex
X-PUBLISHED-TTL:PT1H
BEGIN:VTIMEZONE
TZID:America/New_York
BEGIN:DAYLIGHT
TZOFFSETFROM:-0500
TZOFFSETTO:-0400
TZNAME:EDT
DTSTART:20220313T070000
END:DAYLIGHT
BEGIN:STANDARD
TZOFFSETFROM:-0400
TZOFFSETTO:-0500
TZNAME:EST
DTSTART:20221106T060000
END:STANDARD
BEGIN:DAYLIGHT
TZOFFSETFROM:-0500
TZOFFSETTO:-0400
TZNAME:EDT
DTSTART:20230312T070000
END:DAYLIGHT
BEGIN:STANDARD
TZOFFSETFROM:-0400
TZOFFSETTO:-0500
TZNAME:EST
DTSTART:20231105T060000
END:STANDARD
BEGIN:DAYLIGHT
TZOFFSETFROM:-0500
TZOFFSETTO:-0400
TZNAME:EDT
DTSTART:20240310T070000
END:DAYLIGHT
BEGIN:STANDARD
TZOFFSETFROM:-0400
TZOFFSETTO:-0500
TZNAME:EST
DTSTART:20241103T060000
END:STANDARD
BEGIN:DAYLIGHT
TZOFFSETFROM:-0500
TZOFFSETTO:-0400
TZNAME:EDT
DTSTART:20250309T070000
END:DAYLIGHT
BEGIN:STANDARD
TZOFFSETFROM:-0400
TZOFFSETTO:-0500
TZNAME:EST
DTSTART:20251102T060000
END:STANDARD
END:VTIMEZONE
BEGIN:VEVENT
DTSTART;VALUE=DATE:20231222
DTEND;VALUE=DATE:20240102
DTSTAMP:20260420T074734
CREATED:20231222T153525Z
LAST-MODIFIED:20231222T153525Z
UID:10001082-1703203200-1704153599@wilmingtonbrewworks.com
SUMMARY:Christmas Week Hours
DESCRIPTION:Extended Hours! \nFRI – 12/22 – 12-11pm\nSAT – 12/23 – 12-11PM\nSUN – 12/24 – 12 – 5ish\nMON – 12/25 – CLOSED\nTUE – 12/26 – 12-9pm\nWED – 12/27 – 12-10pm\nTHU – 12/28 – 12-10pm\nFRI – 12/29 – 12-11PM\nSAT – 12/30 – 12-11PM\nSUN – 12/31 – 12-6pm\nMON – 1/1 – CLOSED
URL:https://wilmingtonbrewworks.com/event/christmas-week-hours/
LOCATION:DE
CATEGORIES:Taproom Events
ATTACH;FMTTYPE=image/png:https://wilmingtonbrewworks.com/wp-content/uploads/2023/12/Christmas-Week-2023-TV.png
END:VEVENT
BEGIN:VEVENT
DTSTART;TZID=America/New_York:20231229T180000
DTEND;TZID=America/New_York:20231229T203000
DTSTAMP:20260420T074734
CREATED:20231218T145946Z
LAST-MODIFIED:20240102T153240Z
UID:10001011-1703872800-1703881800@wilmingtonbrewworks.com
SUMMARY:The Queen Presents Live & Local: Music at WBW
DESCRIPTION:The Queen presents Live & Local acts in the Wilmington Brew Works Taproom! \n12/29 – Sweetman & Spadola\n1/5 – Scott Mathews\n1/12 – Adam McCue\n1/19 – Red Smith\n1/26 – John Brennan\n2/2 – Hailey & Nero\n2/9 – Mike DiEleuterio\n2/16 – Side Piece Acoustic Duo\n2/23 – Dave Cudrak\n3/1 – Jenni Schick\n3/8 – Sharon & Q
URL:https://wilmingtonbrewworks.com/event/the-queen-presents-live-local-music-at-wbw/2023-12-29/
LOCATION:Wilmington Brew Works\, 3129 Miller Road\, Wilmington\, DE\, 19802\, United States
CATEGORIES:Taproom Events
ATTACH;FMTTYPE=image/png:https://wilmingtonbrewworks.com/wp-content/uploads/2023/12/WBW_LiveLocal_Q1202416by9.png
END:VEVENT
BEGIN:VEVENT
DTSTART;TZID=America/New_York:20231229T210000
DTEND;TZID=America/New_York:20231229T230000
DTSTAMP:20260420T074734
CREATED:20231218T144121Z
LAST-MODIFIED:20231226T035627Z
UID:10000846-1703883600-1703890800@wilmingtonbrewworks.com
SUMMARY:WBW Late Night
DESCRIPTION:Every Friday and Saturday Night in December\, we’re staying open until 11pm! \nLast Call for kids is 8:30\, and at 9:00 we’re 21+. We’ll lower the lights\, pump up the volume\, and keep enjoying great beer!
URL:https://wilmingtonbrewworks.com/event/wbw-late-night/2023-12-29/
LOCATION:Wilmington Brew Works\, 3129 Miller Road\, Wilmington\, DE\, 19802\, United States
CATEGORIES:Taproom Events
ATTACH;FMTTYPE=image/png:https://wilmingtonbrewworks.com/wp-content/uploads/2023/11/WBW-Late-NightTV.png
END:VEVENT
END:VCALENDAR