BEGIN:VCALENDAR
VERSION:2.0
PRODID:-//Wilmington Brew Works - ECPv6.15.20//NONSGML v1.0//EN
CALSCALE:GREGORIAN
METHOD:PUBLISH
X-ORIGINAL-URL:https://wilmingtonbrewworks.com
X-WR-CALDESC:Events for Wilmington Brew Works
REFRESH-INTERVAL;VALUE=DURATION:PT1H
X-Robots-Tag:noindex
X-PUBLISHED-TTL:PT1H
BEGIN:VTIMEZONE
TZID:America/New_York
BEGIN:DAYLIGHT
TZOFFSETFROM:-0500
TZOFFSETTO:-0400
TZNAME:EDT
DTSTART:20230312T070000
END:DAYLIGHT
BEGIN:STANDARD
TZOFFSETFROM:-0400
TZOFFSETTO:-0500
TZNAME:EST
DTSTART:20231105T060000
END:STANDARD
BEGIN:DAYLIGHT
TZOFFSETFROM:-0500
TZOFFSETTO:-0400
TZNAME:EDT
DTSTART:20240310T070000
END:DAYLIGHT
BEGIN:STANDARD
TZOFFSETFROM:-0400
TZOFFSETTO:-0500
TZNAME:EST
DTSTART:20241103T060000
END:STANDARD
BEGIN:DAYLIGHT
TZOFFSETFROM:-0500
TZOFFSETTO:-0400
TZNAME:EDT
DTSTART:20250309T070000
END:DAYLIGHT
BEGIN:STANDARD
TZOFFSETFROM:-0400
TZOFFSETTO:-0500
TZNAME:EST
DTSTART:20251102T060000
END:STANDARD
END:VTIMEZONE
BEGIN:VEVENT
DTSTART;TZID=America/New_York:20240222T080000
DTEND;TZID=America/New_York:20240222T170000
DTSTAMP:20260420T044322
CREATED:20240222T211600Z
LAST-MODIFIED:20240222T211600Z
UID:10001508-1708588800-1708621200@wilmingtonbrewworks.com
SUMMARY:Fearless Improv @ Wilmington Brew Works!
DESCRIPTION:Laugh with the most Fearless people in Wilmington in the Alamo Room at Wilmington Brew Works!\n\nFearless Improv creates comedy\, on the spot\, that has never been seen before and will never be seen again. The show is based on audience suggestions\, so you’re a part of the show too!\n\nDoors open at 7:30pm; show starts at 8:00pm. A cash bar featuring WBW beverages is available for purchase before\, during and after show.\n\nFearless Improv’s season is generously sponsored by a gift from Artisans’ Bank.\n\nPLEASE NOTE: This show is geared toward age 18+. Some material may not be suitable for those under age 18.\n\nTICKETS
URL:https://wilmingtonbrewworks.com/event/fearless-improv-wilmington-brew-works/
LOCATION:DE
CATEGORIES:Alamo Room Events,Ticketed Events
ATTACH;FMTTYPE=image/png:https://wilmingtonbrewworks.com/wp-content/uploads/2023/01/Fearless-ImprovArtboard-1.png
END:VEVENT
BEGIN:VEVENT
DTSTART;TZID=America/New_York:20240222T180000
DTEND;TZID=America/New_York:20240222T193000
DTSTAMP:20260420T044322
CREATED:20240130T204830Z
LAST-MODIFIED:20240326T210324Z
UID:10001234-1708624800-1708630200@wilmingtonbrewworks.com
SUMMARY:Run Club w/Omega Project
DESCRIPTION:WBW has teamed up with Omega Project PT for a weekly Run Club. Come on out for an Active Evening!\n\n– Thursday Nights at 6pm. Start and finish at the taproom.\n– 3 Mile Run Loop or 1 Mile Walk Loop from Taproom\n– All Runners and Walkers of any skill level welcome!\n– No membership required\n\nHang out and Socialize afterwards! 15% off post-run Beer and Cider!
URL:https://wilmingtonbrewworks.com/event/run-club-w-omega-project/2024-02-22/
LOCATION:Wilmington Brew Works\, 3129 Miller Road\, Wilmington\, DE\, 19802\, United States
CATEGORIES:Taproom Events
ATTACH;FMTTYPE=image/png:https://wilmingtonbrewworks.com/wp-content/uploads/2024/01/runClub2024TV2.png
END:VEVENT
END:VCALENDAR