BEGIN:VCALENDAR
VERSION:2.0
PRODID:-//Wilmington Brew Works - ECPv6.15.20//NONSGML v1.0//EN
CALSCALE:GREGORIAN
METHOD:PUBLISH
X-WR-CALNAME:Wilmington Brew Works
X-ORIGINAL-URL:https://wilmingtonbrewworks.com
X-WR-CALDESC:Events for Wilmington Brew Works
REFRESH-INTERVAL;VALUE=DURATION:PT1H
X-Robots-Tag:noindex
X-PUBLISHED-TTL:PT1H
BEGIN:VTIMEZONE
TZID:America/New_York
BEGIN:DAYLIGHT
TZOFFSETFROM:-0500
TZOFFSETTO:-0400
TZNAME:EDT
DTSTART:20230312T070000
END:DAYLIGHT
BEGIN:STANDARD
TZOFFSETFROM:-0400
TZOFFSETTO:-0500
TZNAME:EST
DTSTART:20231105T060000
END:STANDARD
BEGIN:DAYLIGHT
TZOFFSETFROM:-0500
TZOFFSETTO:-0400
TZNAME:EDT
DTSTART:20240310T070000
END:DAYLIGHT
BEGIN:STANDARD
TZOFFSETFROM:-0400
TZOFFSETTO:-0500
TZNAME:EST
DTSTART:20241103T060000
END:STANDARD
BEGIN:DAYLIGHT
TZOFFSETFROM:-0500
TZOFFSETTO:-0400
TZNAME:EDT
DTSTART:20250309T070000
END:DAYLIGHT
BEGIN:STANDARD
TZOFFSETFROM:-0400
TZOFFSETTO:-0500
TZNAME:EST
DTSTART:20251102T060000
END:STANDARD
END:VTIMEZONE
BEGIN:VEVENT
DTSTART;VALUE=DATE:20240227
DTEND;VALUE=DATE:20240304
DTSTAMP:20260421T043136
CREATED:20240111T133443Z
LAST-MODIFIED:20240111T133540Z
UID:10001225-1708992000-1709510399@wilmingtonbrewworks.com
SUMMARY:Wilmington Beer Week
DESCRIPTION:The Greater Wilmington Beer Week\, sponsored by Out & About Magazine\, runs from February 27 – March 3rd. Stay tuned for all kinds of events!
URL:https://wilmingtonbrewworks.com/event/wilmington-beer-week/
LOCATION:Wilmington Brew Works\, 3129 Miller Road\, Wilmington\, DE\, 19802\, United States
CATEGORIES:Taproom Events
ATTACH;FMTTYPE=image/jpeg:https://wilmingtonbrewworks.com/wp-content/uploads/2024/01/WilmBeerWeek.jpg
END:VEVENT
BEGIN:VEVENT
DTSTART;TZID=America/New_York:20240227T170000
DTEND;TZID=America/New_York:20240227T200000
DTSTAMP:20260421T043136
CREATED:20240227T120226Z
LAST-MODIFIED:20240227T120226Z
UID:10001517-1709053200-1709064000@wilmingtonbrewworks.com
SUMMARY:Girl Scouts Troop 60 Cookie Sale
DESCRIPTION:FSMA Troop 60 will be selling cookies tonight – perfect for the first night of Beer Week!
URL:https://wilmingtonbrewworks.com/event/girl-scouts-troop-60-cookie-sale/
LOCATION:Wilmington Brew Works\, 3129 Miller Road\, Wilmington\, DE\, 19802\, United States
CATEGORIES:Taproom Events
ATTACH;FMTTYPE=image/png:https://wilmingtonbrewworks.com/wp-content/uploads/2024/02/Troop-60-GS-CookiesEvent.png
END:VEVENT
BEGIN:VEVENT
DTSTART;TZID=America/New_York:20240227T170000
DTEND;TZID=America/New_York:20240227T210000
DTSTAMP:20260421T043136
CREATED:20240219T211123Z
LAST-MODIFIED:20240219T211123Z
UID:10001507-1709053200-1709067600@wilmingtonbrewworks.com
SUMMARY:Wilm. Beer Week Kickoff and Collab Beer Launch
DESCRIPTION:Come on out to WBW to kickoff the Great Wilmington Beer Week! \nWe’ll debut collaboration Beers we did with Iron Hill and Stitch House!
URL:https://wilmingtonbrewworks.com/event/wilm-beer-week-kickoff-and-collab-beer-launch/
LOCATION:Wilmington Brew Works\, 3129 Miller Road\, Wilmington\, DE\, 19802\, United States
CATEGORIES:Taproom Events
ATTACH;FMTTYPE=image/png:https://wilmingtonbrewworks.com/wp-content/uploads/2024/02/Beer-Week-KickoffTV.png
END:VEVENT
BEGIN:VEVENT
DTSTART;TZID=America/New_York:20240227T180000
DTEND;TZID=America/New_York:20240227T210000
DTSTAMP:20260421T043136
CREATED:20240102T142606Z
LAST-MODIFIED:20250106T193351Z
UID:10001088-1709056800-1709067600@wilmingtonbrewworks.com
SUMMARY:Vinyl Pop-Up Shops
DESCRIPTION:Pop Up Vinyl Sale in coordination with Turntable Tuesday.\n\nNew and Vintage Vinyl for sale in the Alamo Room\, along with guest vinyl DJs.\n\n4th Thursday Each Month\, multiple Vinyl Vendors and Record Shops each month!\n\nFind\, Buy and Listen to new tracks all at once.
URL:https://wilmingtonbrewworks.com/event/vinyl-pop-up-shops/2024-02-27/
LOCATION:Wilmington Brew Works\, 3129 Miller Road\, Wilmington\, DE\, 19802\, United States
CATEGORIES:Alamo Room Events
ATTACH;FMTTYPE=image/png:https://wilmingtonbrewworks.com/wp-content/uploads/2022/12/TTT-2022Facebook-event.png
END:VEVENT
BEGIN:VEVENT
DTSTART;TZID=America/New_York:20240227T180000
DTEND;TZID=America/New_York:20240227T210000
DTSTAMP:20260421T043136
CREATED:20240209T143115Z
LAST-MODIFIED:20240326T204102Z
UID:10000271-1709056800-1709067600@wilmingtonbrewworks.com
SUMMARY:Turntable Tuesday
DESCRIPTION:Spinning Vinyl in the Taproom! \nBring Your Own Vinyl and we’ll play it. Weird and rare stuff are a plus\, but we’ll play anything you got! Take a seat\, have a beer and listen to some deep cuts. \nThumb through our collection and make a request! Got something to Trade? Bring it on in and find a match!
URL:https://wilmingtonbrewworks.com/event/turntable-tuesday-2/2024-02-27/
LOCATION:Wilmington Brew Works\, 3129 Miller Road\, Wilmington\, DE\, 19802\, United States
CATEGORIES:Taproom Events
ATTACH;FMTTYPE=image/png:https://wilmingtonbrewworks.com/wp-content/uploads/2022/11/TTT-2022Facebook-event_1.png
END:VEVENT
BEGIN:VEVENT
DTSTART;TZID=America/New_York:20240227T180000
DTEND;TZID=America/New_York:20240227T210000
DTSTAMP:20260421T043136
CREATED:20250106T194533Z
LAST-MODIFIED:20250106T194533Z
UID:10002952-1709056800-1709067600@wilmingtonbrewworks.com
SUMMARY:Vinyl Pop-Up Shops
DESCRIPTION:Pop Up Vinyl Sale in coordination with Turntable Tuesday.\n\nNew and Vintage Vinyl for sale in the Alamo Room\, along with guest vinyl DJs.\n\n4th Thursday Each Month\, multiple Vinyl Vendors and Record Shops each month!\n\nFind\, Buy and Listen to new tracks all at once.
URL:https://wilmingtonbrewworks.com/event/vinyl-pop-up-shops-2/2024-02-27/
LOCATION:Wilmington Brew Works\, 3129 Miller Road\, Wilmington\, DE\, 19802\, United States
CATEGORIES:Alamo Room Events
ATTACH;FMTTYPE=image/png:https://wilmingtonbrewworks.com/wp-content/uploads/2022/12/TTT-2022Facebook-event.png
END:VEVENT
END:VCALENDAR