BEGIN:VCALENDAR
VERSION:2.0
PRODID:-//Wilmington Brew Works - ECPv6.15.20//NONSGML v1.0//EN
CALSCALE:GREGORIAN
METHOD:PUBLISH
X-ORIGINAL-URL:https://wilmingtonbrewworks.com
X-WR-CALDESC:Events for Wilmington Brew Works
REFRESH-INTERVAL;VALUE=DURATION:PT1H
X-Robots-Tag:noindex
X-PUBLISHED-TTL:PT1H
BEGIN:VTIMEZONE
TZID:America/New_York
BEGIN:DAYLIGHT
TZOFFSETFROM:-0500
TZOFFSETTO:-0400
TZNAME:EDT
DTSTART:20230312T070000
END:DAYLIGHT
BEGIN:STANDARD
TZOFFSETFROM:-0400
TZOFFSETTO:-0500
TZNAME:EST
DTSTART:20231105T060000
END:STANDARD
BEGIN:DAYLIGHT
TZOFFSETFROM:-0500
TZOFFSETTO:-0400
TZNAME:EDT
DTSTART:20240310T070000
END:DAYLIGHT
BEGIN:STANDARD
TZOFFSETFROM:-0400
TZOFFSETTO:-0500
TZNAME:EST
DTSTART:20241103T060000
END:STANDARD
BEGIN:DAYLIGHT
TZOFFSETFROM:-0500
TZOFFSETTO:-0400
TZNAME:EDT
DTSTART:20250309T070000
END:DAYLIGHT
BEGIN:STANDARD
TZOFFSETFROM:-0400
TZOFFSETTO:-0500
TZNAME:EST
DTSTART:20251102T060000
END:STANDARD
END:VTIMEZONE
BEGIN:VEVENT
DTSTART;TZID=America/New_York:20240908T183000
DTEND;TZID=America/New_York:20240908T200000
DTSTAMP:20260420T093952
CREATED:20240621T142959Z
LAST-MODIFIED:20240923T233202Z
UID:10002092-1725820200-1725825600@wilmingtonbrewworks.com
SUMMARY:Off-Site Event: Bellevue State Park Concerts
DESCRIPTION:Serving Beer at The Bellevue State Park concert series on Sunday Nights! \nAll Sales benefit the Friends of Bellevue State Park. \nhttps://destateparks.com/Concerts/Bellevue
URL:https://wilmingtonbrewworks.com/event/off-site-event-bellevue-state-park-concerts/2024-09-08/
LOCATION:Bellevue State Park\, 800 Carr Rd\, Wilmington\, DE\, 19809\, United States
CATEGORIES:Off-Site Events
ATTACH;FMTTYPE=image/jpeg:https://wilmingtonbrewworks.com/wp-content/uploads/2024/06/BVSPConcert-Hero.jpg
END:VEVENT
END:VCALENDAR