BEGIN:VCALENDAR
VERSION:2.0
PRODID:-//Wilmington Brew Works - ECPv6.15.20//NONSGML v1.0//EN
CALSCALE:GREGORIAN
METHOD:PUBLISH
X-WR-CALNAME:Wilmington Brew Works
X-ORIGINAL-URL:https://wilmingtonbrewworks.com
X-WR-CALDESC:Events for Wilmington Brew Works
REFRESH-INTERVAL;VALUE=DURATION:PT1H
X-Robots-Tag:noindex
X-PUBLISHED-TTL:PT1H
BEGIN:VTIMEZONE
TZID:America/New_York
BEGIN:DAYLIGHT
TZOFFSETFROM:-0500
TZOFFSETTO:-0400
TZNAME:EDT
DTSTART:20230312T070000
END:DAYLIGHT
BEGIN:STANDARD
TZOFFSETFROM:-0400
TZOFFSETTO:-0500
TZNAME:EST
DTSTART:20231105T060000
END:STANDARD
BEGIN:DAYLIGHT
TZOFFSETFROM:-0500
TZOFFSETTO:-0400
TZNAME:EDT
DTSTART:20240310T070000
END:DAYLIGHT
BEGIN:STANDARD
TZOFFSETFROM:-0400
TZOFFSETTO:-0500
TZNAME:EST
DTSTART:20241103T060000
END:STANDARD
BEGIN:DAYLIGHT
TZOFFSETFROM:-0500
TZOFFSETTO:-0400
TZNAME:EDT
DTSTART:20250309T070000
END:DAYLIGHT
BEGIN:STANDARD
TZOFFSETFROM:-0400
TZOFFSETTO:-0500
TZNAME:EST
DTSTART:20251102T060000
END:STANDARD
END:VTIMEZONE
BEGIN:VEVENT
DTSTART;TZID=America/New_York:20241206T183000
DTEND;TZID=America/New_York:20241206T210000
DTSTAMP:20260420T061847
CREATED:20240423T183623Z
LAST-MODIFIED:20240628T130611Z
UID:10002406-1733509800-1733518800@wilmingtonbrewworks.com
SUMMARY:The Queen Presents Live & Local: Music at WBW
DESCRIPTION:The Queen presents Live & Local acts at Wilmington Brew Works! \nEvent Default is outdoors in the Beer Garden. Inclement weather (including cold temps) will move it inside the taproom.  \nMARCH \n3/15 – Kat Rivers\n3/22 – The Good God Damn Duo\n3/29 – Benny Preston & The Boy on the Box \nAPRIL \n4/5 – PJ’s Pub Tour\n4/12 – 2Step Acoustic\n4/19 – Alinne & David\n4/26 – Zach & Sam \nMAY \n5/3 – Paul Sedacca & Begona Gomez (Flamenco Friday)\n5/10 – Dave Cudrak\n5/17 – Kris V & Richie D\n5/24 – Mike DiEleuterio\n5/31 – Joe Heilman \nJUNE \n6/7  – Sweetman & Spadola\n6/14  – Adam McCue\n6/21  – Hailey & Nero\n6/28 – Dog Paw \nJULY \n7/5  – Liz Watkins & Jerome Malaval\n7/12  – Sharon & Q\n7/19 – Dave Cudrak\n7/26 – Side Piece Acoustic Duo \nAUGUST \n8/2 – J.D. Webb\n8/9 – Kat Rivers\n8/16 – Jenni Schick\n8/23 – Adam McCue\n8/30 – Side Piece Acoustic Duo \nSEPTEMBER \n9/6 – Jamie & The Guarded Heart\n9/13 – Sharon & Q\n9/20 – Kat & Jimmie\n9/27 – Kevin Burns \nOCTOBER \n10/4 – Ed Dwornik\n10/11 – Sharon & Q\n10/18 – Kris V & Richie D\n10/25 – Lucy & Patrick \nNOVEMBER \n11/1  – Jared Obstfeld\n11/8 – Kat Rivers\n11/15  – Jenni Schick\n11/22 – The Knotty G’s\n11/29  – Scott Mathews \nDECEMBER \n12/6 – Joe Grasso\n12/13 – The Honey Badgers\n12/20 – Samantha’s Duo\n12/27 – John Streetz
URL:https://wilmingtonbrewworks.com/event/the-queen-presents-live-local-music-at-wbw-2-2/2024-12-06/
LOCATION:Wilmington Brew Works\, 3129 Miller Road\, Wilmington\, DE\, 19802\, United States
CATEGORIES:Taproom Events
ATTACH;FMTTYPE=image/png:https://wilmingtonbrewworks.com/wp-content/uploads/2024/04/WBWMusic630LiveLocalTV.png
END:VEVENT
END:VCALENDAR