BEGIN:VCALENDAR
VERSION:2.0
PRODID:-//Wilmington Brew Works - ECPv6.15.20//NONSGML v1.0//EN
CALSCALE:GREGORIAN
METHOD:PUBLISH
X-ORIGINAL-URL:https://wilmingtonbrewworks.com
X-WR-CALDESC:Events for Wilmington Brew Works
REFRESH-INTERVAL;VALUE=DURATION:PT1H
X-Robots-Tag:noindex
X-PUBLISHED-TTL:PT1H
BEGIN:VTIMEZONE
TZID:America/New_York
BEGIN:DAYLIGHT
TZOFFSETFROM:-0500
TZOFFSETTO:-0400
TZNAME:EDT
DTSTART:20240310T070000
END:DAYLIGHT
BEGIN:STANDARD
TZOFFSETFROM:-0400
TZOFFSETTO:-0500
TZNAME:EST
DTSTART:20241103T060000
END:STANDARD
BEGIN:DAYLIGHT
TZOFFSETFROM:-0500
TZOFFSETTO:-0400
TZNAME:EDT
DTSTART:20250309T070000
END:DAYLIGHT
BEGIN:STANDARD
TZOFFSETFROM:-0400
TZOFFSETTO:-0500
TZNAME:EST
DTSTART:20251102T060000
END:STANDARD
BEGIN:DAYLIGHT
TZOFFSETFROM:-0500
TZOFFSETTO:-0400
TZNAME:EDT
DTSTART:20260308T070000
END:DAYLIGHT
BEGIN:STANDARD
TZOFFSETFROM:-0400
TZOFFSETTO:-0500
TZNAME:EST
DTSTART:20261101T060000
END:STANDARD
END:VTIMEZONE
BEGIN:VEVENT
DTSTART;TZID=America/New_York:20250225T170000
DTEND;TZID=America/New_York:20250302T180000
DTSTAMP:20260420T203655
CREATED:20250126T214204Z
LAST-MODIFIED:20250129T172133Z
UID:10002992-1740502800-1740938400@wilmingtonbrewworks.com
SUMMARY:WILMINGTON BEER WEEK
DESCRIPTION:Tuesday 2/25 – Beer Week Kickoff at Wilmington Brew Works\n\n“Return of the Lager Night” – a Lineup featuring lots of lagers!\n“Drinks with Friends” WBW & Iron Hill Wilmington Collaboration Beer. (German Style Pilsner with all Hallertau Mittelfruh hop additions.)\nTurntable Tuesday – Spinning Vinyl at the Taproom. Vinyl Vender Pop-Up Night\n\n\nWednesday 2/26\n\nNerd Nite 6pm – Think TED Talks with Beer! Hosted by Nerd Nite Wilmington and the Delaware Museum of Nature and Science. Tickets $10 from Del MNS\nSmall Batch Trivia from Geeks Who Drink – 7pm in the Taproom\n\n\nThursday 2/27\n\nRun (or Walk) Club\, 6pm – Wilmington Brew Works X Omega Project PT. 3 Mile Run or 1 Mile Walk\, all skill levels welcome. 6pm. Runners and Walkers get 15% off draught products after returning to the Taproom!\n\n\nFriday 2/28\n\nLive & Local Music Sponsored by The Queen Wilmington. Artist: Jenni Schick\n\n\nSunday 3/2\n\nEasy like a Sunday Morning Beer Brunch – Finish the week with some chill vinyl in the taproom\, featuring WBW Breakfast Sammies\, Cold-Brew Coffee Stout\, Cider-Mimosas\, House made Micheladas and Bloody Marys. 11AM
URL:https://wilmingtonbrewworks.com/event/wilmington-beer-week-2/
LOCATION:DE
CATEGORIES:Taproom Events
ATTACH;FMTTYPE=image/png:https://wilmingtonbrewworks.com/wp-content/uploads/2025/01/Wilm-Beer-Week2025.png
END:VEVENT
BEGIN:VEVENT
DTSTART;TZID=America/New_York:20250225T180000
DTEND;TZID=America/New_York:20250225T210000
DTSTAMP:20260420T203655
CREATED:20240209T143115Z
LAST-MODIFIED:20240326T204102Z
UID:10000323-1740506400-1740517200@wilmingtonbrewworks.com
SUMMARY:Turntable Tuesday
DESCRIPTION:Spinning Vinyl in the Taproom! \nBring Your Own Vinyl and we’ll play it. Weird and rare stuff are a plus\, but we’ll play anything you got! Take a seat\, have a beer and listen to some deep cuts. \nThumb through our collection and make a request! Got something to Trade? Bring it on in and find a match!
URL:https://wilmingtonbrewworks.com/event/turntable-tuesday-2/2025-02-25/
LOCATION:Wilmington Brew Works\, 3129 Miller Road\, Wilmington\, DE\, 19802\, United States
CATEGORIES:Taproom Events
ATTACH;FMTTYPE=image/png:https://wilmingtonbrewworks.com/wp-content/uploads/2022/11/TTT-2022Facebook-event_1.png
END:VEVENT
BEGIN:VEVENT
DTSTART;TZID=America/New_York:20250225T180000
DTEND;TZID=America/New_York:20250225T210000
DTSTAMP:20260420T203655
CREATED:20250227T025744Z
LAST-MODIFIED:20250227T025745Z
UID:10002978-1740506400-1740517200@wilmingtonbrewworks.com
SUMMARY:Vinyl Pop-Up Shops
DESCRIPTION:Pop Up Vinyl Sale in coordination with Turntable Tuesday.\n\nNew and Vintage Vinyl for sale in the Alamo Room\, along with guest vinyl DJs.\n\n4th Thursday Each Month\, multiple Vinyl Vendors and Record Shops each month!\n\nFind\, Buy and Listen to new tracks all at once.
URL:https://wilmingtonbrewworks.com/event/vinyl-pop-up-shops-3-2/2025-02-25/
LOCATION:Wilmington Brew Works\, 3129 Miller Road\, Wilmington\, DE\, 19802\, United States
CATEGORIES:Alamo Room Events
ATTACH;FMTTYPE=image/png:https://wilmingtonbrewworks.com/wp-content/uploads/2022/12/TTT-2022Facebook-event.png
END:VEVENT
END:VCALENDAR