BEGIN:VCALENDAR
VERSION:2.0
PRODID:-//Wilmington Brew Works - ECPv6.15.20//NONSGML v1.0//EN
CALSCALE:GREGORIAN
METHOD:PUBLISH
X-ORIGINAL-URL:https://wilmingtonbrewworks.com
X-WR-CALDESC:Events for Wilmington Brew Works
REFRESH-INTERVAL;VALUE=DURATION:PT1H
X-Robots-Tag:noindex
X-PUBLISHED-TTL:PT1H
BEGIN:VTIMEZONE
TZID:America/New_York
BEGIN:DAYLIGHT
TZOFFSETFROM:-0500
TZOFFSETTO:-0400
TZNAME:EDT
DTSTART:20240310T070000
END:DAYLIGHT
BEGIN:STANDARD
TZOFFSETFROM:-0400
TZOFFSETTO:-0500
TZNAME:EST
DTSTART:20241103T060000
END:STANDARD
BEGIN:DAYLIGHT
TZOFFSETFROM:-0500
TZOFFSETTO:-0400
TZNAME:EDT
DTSTART:20250309T070000
END:DAYLIGHT
BEGIN:STANDARD
TZOFFSETFROM:-0400
TZOFFSETTO:-0500
TZNAME:EST
DTSTART:20251102T060000
END:STANDARD
BEGIN:DAYLIGHT
TZOFFSETFROM:-0500
TZOFFSETTO:-0400
TZNAME:EDT
DTSTART:20260308T070000
END:DAYLIGHT
BEGIN:STANDARD
TZOFFSETFROM:-0400
TZOFFSETTO:-0500
TZNAME:EST
DTSTART:20261101T060000
END:STANDARD
END:VTIMEZONE
BEGIN:VEVENT
DTSTART;TZID=America/New_York:20250321T183000
DTEND;TZID=America/New_York:20250321T210000
DTSTAMP:20260420T203653
CREATED:20250102T133444Z
LAST-MODIFIED:20250426T173831Z
UID:10002903-1742581800-1742590800@wilmingtonbrewworks.com
SUMMARY:The Queen Presents Live & Local: Music at WBW
DESCRIPTION:The Queen presents Live & Local acts at Wilmington Brew Works! \nJANUARY \n1/3 –Dave Cudrak \n1/10 – Mike DiEleuterio \n1/17 – Tavair Dominique \n1/24 – Ryan Zimmerman \n1/31 – Benny Preston \nFEBRUARY \n2/7 – Sweetman & Spadola \n2/14 – Chris Despo \n2/21 – Liz Watkins Duo \n2/28 – Jenni Schick \nMARCH \n3/7 – 2Step Acoustic \n3/14 – Zach & Sam \n3/21 – Mike DiEleuterio \n3/28 – Kyle Offidani \nAPRIL \n4/4 – Tail Light Rebellion \n4/11 – Dave Cudrak \n4/18 – Rylynn Woods Duo \n4/25 – Abby Lee Duo \nMAY \n5/3 – Paul Sedacca & Begona Gomez (Flamenco Friday) \n5/9 – Kat Rivers \n5/16 – Kris V & Richie D \n5/23 – Kevin Burns \n5/30 – Samuel Mousley \nJUNE \n6/6 – Skinner & Spadola \n6/13 – Sharon Sable Duo \n6/20 – Benny Preston \n6/27 – Eric Levy \nJULY \n7/4 – NO MUSIC \n7/11 – October Oak Music \n7/18 – Ryan Laliberte \n7/25 – Hailey & Nero \nAUGUST \n8/1 – Dave Cudrak \n8/8 – Mike DiEleuterio \n8/15 –  Kevin Burns \n8/22 – Kat Rivers \n8/29- Liz Watkins Duo \nSEPTEMBER \n9/5 – Adam McCue \n9/12 – Sharon Sable Duo \n9/19 – PJ’s Pub Tour \n9/26 – Side Piece Acoustic Duo \nOCTOBER \n10/3 – Damn The Whiskey Duo \n10/10 – Kris V & Richie D \n10/17 – Jenni Schick \n10/24 – Abby Lee Duo \n10/31 – TBD \nNOVEMBER \n11/7 – Mike DiEleuterio \n11/14 – TBD \n11/21 – Kat Rivers \n11/28 – Adam McCue \nDECEMBER \n12/5 – TBD \n12/12 –  Side Piece Acoustic Duo \n12/19 – Dave Cudrak \n12-26 – TBD \n 
URL:https://wilmingtonbrewworks.com/event/the-queen-presents-live-local-music-at-wbw-3/2025-03-21/
LOCATION:Wilmington Brew Works\, 3129 Miller Road\, Wilmington\, DE\, 19802\, United States
CATEGORIES:Taproom Events
ATTACH;FMTTYPE=image/png:https://wilmingtonbrewworks.com/wp-content/uploads/2025/01/LiveLocalFallTV.png
END:VEVENT
BEGIN:VEVENT
DTSTART;TZID=America/New_York:20250321T190000
DTEND;TZID=America/New_York:20250321T213000
DTSTAMP:20260420T203653
CREATED:20250220T224249Z
LAST-MODIFIED:20250220T225136Z
UID:10003025-1742583600-1742592600@wilmingtonbrewworks.com
SUMMARY:ShakesBeer with DelShakes!
DESCRIPTION:Get ready for another curated night of brews with the Bard!\n\nJoin Delaware Shakespeare and the amazing crew at Wilmington Brew Works for a night of select performances highlighted by local craft brews. Listen to Master Brewer Craig Wensell explain tasting notes for three WBW creations alongside curated selections from\nShakespeare (and more!) that will connect to the beers.\n\nDrinking games combined with iambic pentameter: what more could you want?!\n\nLimited seating\, so act fast!\nBeer ticket (includes 3 beer samplings) – $35Gluten-free ticket (includes 2 ciders + 1 mixed drink sampling) – $35Designated driver ticket (includes 3 sodas/slushies) – $25\n\nTickets: Delaware Shakespeare
URL:https://wilmingtonbrewworks.com/event/shakesbeer-with-delshakes/
LOCATION:The Alamo Room\, 3129 Miller Road\, Wilmington\, DE\, 19802\, United States
CATEGORIES:Alamo Room Events
ATTACH;FMTTYPE=image/jpeg:https://wilmingtonbrewworks.com/wp-content/uploads/2025/02/Shakesbeer-Spring-2025.jpg
ORGANIZER;CN="Delaware Shakespeare":MAILTO:info@delshakes.org
END:VEVENT
END:VCALENDAR