BEGIN:VCALENDAR
VERSION:2.0
PRODID:-//Wilmington Brew Works - ECPv6.15.20//NONSGML v1.0//EN
CALSCALE:GREGORIAN
METHOD:PUBLISH
X-ORIGINAL-URL:https://wilmingtonbrewworks.com
X-WR-CALDESC:Events for Wilmington Brew Works
REFRESH-INTERVAL;VALUE=DURATION:PT1H
X-Robots-Tag:noindex
X-PUBLISHED-TTL:PT1H
BEGIN:VTIMEZONE
TZID:America/New_York
BEGIN:DAYLIGHT
TZOFFSETFROM:-0500
TZOFFSETTO:-0400
TZNAME:EDT
DTSTART:20240310T070000
END:DAYLIGHT
BEGIN:STANDARD
TZOFFSETFROM:-0400
TZOFFSETTO:-0500
TZNAME:EST
DTSTART:20241103T060000
END:STANDARD
BEGIN:DAYLIGHT
TZOFFSETFROM:-0500
TZOFFSETTO:-0400
TZNAME:EDT
DTSTART:20250309T070000
END:DAYLIGHT
BEGIN:STANDARD
TZOFFSETFROM:-0400
TZOFFSETTO:-0500
TZNAME:EST
DTSTART:20251102T060000
END:STANDARD
BEGIN:DAYLIGHT
TZOFFSETFROM:-0500
TZOFFSETTO:-0400
TZNAME:EDT
DTSTART:20260308T070000
END:DAYLIGHT
BEGIN:STANDARD
TZOFFSETFROM:-0400
TZOFFSETTO:-0500
TZNAME:EST
DTSTART:20261101T060000
END:STANDARD
END:VTIMEZONE
BEGIN:VEVENT
DTSTART;TZID=America/New_York:20250515T150000
DTEND;TZID=America/New_York:20250515T220000
DTSTAMP:20260420T160719
CREATED:20250508T002337Z
LAST-MODIFIED:20250508T002337Z
UID:10003334-1747321200-1747346400@wilmingtonbrewworks.com
SUMMARY:Brewers Guild - Keep the Pint Night
DESCRIPTION:Delaware craft beer fans\, rejoice! During American Craft Beer Week (on May 15th to be specific) pop by your favorite craft brewery (ahem…..) in the 302 to secure one of these super limited\, super fresh\, first state-inspired pint glasses. \nWe’ve got these in stock! On May 15th\, with the purchase of any pint\, keep this sweet glass for just $2 more! (Cellarman’s Circle Members – your first one is on us!)
URL:https://wilmingtonbrewworks.com/event/brewers-guild-keep-the-pint-night-2/
LOCATION:Wilmington Brew Works\, 3129 Miller Road\, Wilmington\, DE\, 19802\, United States
CATEGORIES:Taproom Events
ATTACH;FMTTYPE=image/jpeg:https://wilmingtonbrewworks.com/wp-content/uploads/2025/05/Keep-the-Pint-Day-US-Letter-scaled.jpg
END:VEVENT
BEGIN:VEVENT
DTSTART;TZID=America/New_York:20250515T180000
DTEND;TZID=America/New_York:20250515T193000
DTSTAMP:20260420T160719
CREATED:20240130T204830Z
LAST-MODIFIED:20240326T210324Z
UID:10001298-1747332000-1747337400@wilmingtonbrewworks.com
SUMMARY:Run Club w/Omega Project
DESCRIPTION:WBW has teamed up with Omega Project PT for a weekly Run Club. Come on out for an Active Evening!\n\n– Thursday Nights at 6pm. Start and finish at the taproom.\n– 3 Mile Run Loop or 1 Mile Walk Loop from Taproom\n– All Runners and Walkers of any skill level welcome!\n– No membership required\n\nHang out and Socialize afterwards! 15% off post-run Beer and Cider!
URL:https://wilmingtonbrewworks.com/event/run-club-w-omega-project/2025-05-15/
LOCATION:Wilmington Brew Works\, 3129 Miller Road\, Wilmington\, DE\, 19802\, United States
CATEGORIES:Taproom Events
ATTACH;FMTTYPE=image/png:https://wilmingtonbrewworks.com/wp-content/uploads/2024/01/runClub2024TV2.png
END:VEVENT
BEGIN:VEVENT
DTSTART;TZID=America/New_York:20250515T190000
DTEND;TZID=America/New_York:20250515T210000
DTSTAMP:20260420T160719
CREATED:20250404T210759Z
LAST-MODIFIED:20250909T225535Z
UID:10003053-1747335600-1747342800@wilmingtonbrewworks.com
SUMMARY:BoomBox Bingo!
DESCRIPTION:From our friends at Geeks Who Drink\, we’re bringing in BoomBox Bingo to the Taproom on Thursday Nights! \nJust like regular bingo\, players will aim to win prizes by completing specific patterns on their bingo boards. Unlike regular bingo\, we’ve swapped out the boring numbers for epic songs from all genres and eras for you to jam out to and sing along with your friends. It’s exactly the kind of laid-back fun that’s perfect for groups of any size. \n“But Geeks\,” you enquire of us\, ever so politely\, “I’ve played music bingo before. How is Boombox Bingo any different?” \nWe’re so glad you asked! Boombox Bingo brings to the bingo world exactly what Geeks Who Drink brings to trivia: accessible gameplay\, creative theming\, hilarious hosts\, and impeccable taste. \nFree to play!
URL:https://wilmingtonbrewworks.com/event/boom-box-bingo/2025-05-15/
LOCATION:Wilmington Brew Works\, 3129 Miller Road\, Wilmington\, DE\, 19802\, United States
CATEGORIES:Taproom Events
ATTACH;FMTTYPE=image/png:https://wilmingtonbrewworks.com/wp-content/uploads/2025/04/GWD-BoomBoxTriviaTV.png
END:VEVENT
END:VCALENDAR