BEGIN:VCALENDAR
VERSION:2.0
PRODID:-//Wilmington Brew Works - ECPv6.15.20//NONSGML v1.0//EN
CALSCALE:GREGORIAN
METHOD:PUBLISH
X-ORIGINAL-URL:https://wilmingtonbrewworks.com
X-WR-CALDESC:Events for Wilmington Brew Works
REFRESH-INTERVAL;VALUE=DURATION:PT1H
X-Robots-Tag:noindex
X-PUBLISHED-TTL:PT1H
BEGIN:VTIMEZONE
TZID:America/New_York
BEGIN:DAYLIGHT
TZOFFSETFROM:-0500
TZOFFSETTO:-0400
TZNAME:EDT
DTSTART:20240310T070000
END:DAYLIGHT
BEGIN:STANDARD
TZOFFSETFROM:-0400
TZOFFSETTO:-0500
TZNAME:EST
DTSTART:20241103T060000
END:STANDARD
BEGIN:DAYLIGHT
TZOFFSETFROM:-0500
TZOFFSETTO:-0400
TZNAME:EDT
DTSTART:20250309T070000
END:DAYLIGHT
BEGIN:STANDARD
TZOFFSETFROM:-0400
TZOFFSETTO:-0500
TZNAME:EST
DTSTART:20251102T060000
END:STANDARD
BEGIN:DAYLIGHT
TZOFFSETFROM:-0500
TZOFFSETTO:-0400
TZNAME:EDT
DTSTART:20260308T070000
END:DAYLIGHT
BEGIN:STANDARD
TZOFFSETFROM:-0400
TZOFFSETTO:-0500
TZNAME:EST
DTSTART:20261101T060000
END:STANDARD
END:VTIMEZONE
BEGIN:VEVENT
DTSTART;TZID=America/New_York:20250619T180000
DTEND;TZID=America/New_York:20250619T193000
DTSTAMP:20260420T111551
CREATED:20240130T204830Z
LAST-MODIFIED:20240326T210324Z
UID:10001303-1750356000-1750361400@wilmingtonbrewworks.com
SUMMARY:Run Club w/Omega Project
DESCRIPTION:WBW has teamed up with Omega Project PT for a weekly Run Club. Come on out for an Active Evening!\n\n– Thursday Nights at 6pm. Start and finish at the taproom.\n– 3 Mile Run Loop or 1 Mile Walk Loop from Taproom\n– All Runners and Walkers of any skill level welcome!\n– No membership required\n\nHang out and Socialize afterwards! 15% off post-run Beer and Cider!
URL:https://wilmingtonbrewworks.com/event/run-club-w-omega-project/2025-06-19/
LOCATION:Wilmington Brew Works\, 3129 Miller Road\, Wilmington\, DE\, 19802\, United States
CATEGORIES:Taproom Events
ATTACH;FMTTYPE=image/png:https://wilmingtonbrewworks.com/wp-content/uploads/2024/01/runClub2024TV2.png
END:VEVENT
BEGIN:VEVENT
DTSTART;TZID=America/New_York:20250619T190000
DTEND;TZID=America/New_York:20250619T210000
DTSTAMP:20260420T111551
CREATED:20250404T210759Z
LAST-MODIFIED:20250909T225535Z
UID:10003058-1750359600-1750366800@wilmingtonbrewworks.com
SUMMARY:BoomBox Bingo!
DESCRIPTION:From our friends at Geeks Who Drink\, we’re bringing in BoomBox Bingo to the Taproom on Thursday Nights! \nJust like regular bingo\, players will aim to win prizes by completing specific patterns on their bingo boards. Unlike regular bingo\, we’ve swapped out the boring numbers for epic songs from all genres and eras for you to jam out to and sing along with your friends. It’s exactly the kind of laid-back fun that’s perfect for groups of any size. \n“But Geeks\,” you enquire of us\, ever so politely\, “I’ve played music bingo before. How is Boombox Bingo any different?” \nWe’re so glad you asked! Boombox Bingo brings to the bingo world exactly what Geeks Who Drink brings to trivia: accessible gameplay\, creative theming\, hilarious hosts\, and impeccable taste. \nFree to play!
URL:https://wilmingtonbrewworks.com/event/boom-box-bingo/2025-06-19/
LOCATION:Wilmington Brew Works\, 3129 Miller Road\, Wilmington\, DE\, 19802\, United States
CATEGORIES:Taproom Events
ATTACH;FMTTYPE=image/png:https://wilmingtonbrewworks.com/wp-content/uploads/2025/04/GWD-BoomBoxTriviaTV.png
END:VEVENT
BEGIN:VEVENT
DTSTART;TZID=America/New_York:20250619T190000
DTEND;TZID=America/New_York:20250619T220000
DTSTAMP:20260420T111551
CREATED:20250120T165209Z
LAST-MODIFIED:20250527T230719Z
UID:10002988-1750359600-1750370400@wilmingtonbrewworks.com
SUMMARY:Brew Better Werk! A Drag Bingo with Jolene Cuisine!
DESCRIPTION:Join the Drag Bear of Delaware\, Jolene Cuisine\, for Beers and Bingo! \nJolene Cuisine hosts Brew Better Werk! the Drag Bingo at Wilmington Brew Works. \nTickets are $12\, include 5 rounds of Bingo with WBW Swag Prizes and a FABULOUS drag show featuring fierce local talent. Bring your cash to tip the entertainers! Seating will be limited so the presale is recommended. \nDoors open at 7 PM \, show starts at 8 PM. \nTickets Available from Jolene Cuisine!
URL:https://wilmingtonbrewworks.com/event/brew-better-werk-a-drag-bingo-with-jolene-cuisine-4/
LOCATION:The Alamo Room\, 3129 Miller Road\, Wilmington\, DE\, 19802\, United States
CATEGORIES:Alamo Room Events,Ticketed Events
ATTACH;FMTTYPE=image/png:https://wilmingtonbrewworks.com/wp-content/uploads/2025/01/Jolene-Pride-2025Event.png
END:VEVENT
END:VCALENDAR