BEGIN:VCALENDAR
VERSION:2.0
PRODID:-//Wilmington Brew Works - ECPv6.15.20//NONSGML v1.0//EN
CALSCALE:GREGORIAN
METHOD:PUBLISH
X-WR-CALNAME:Wilmington Brew Works
X-ORIGINAL-URL:https://wilmingtonbrewworks.com
X-WR-CALDESC:Events for Wilmington Brew Works
REFRESH-INTERVAL;VALUE=DURATION:PT1H
X-Robots-Tag:noindex
X-PUBLISHED-TTL:PT1H
BEGIN:VTIMEZONE
TZID:America/New_York
BEGIN:DAYLIGHT
TZOFFSETFROM:-0500
TZOFFSETTO:-0400
TZNAME:EDT
DTSTART:20240310T070000
END:DAYLIGHT
BEGIN:STANDARD
TZOFFSETFROM:-0400
TZOFFSETTO:-0500
TZNAME:EST
DTSTART:20241103T060000
END:STANDARD
BEGIN:DAYLIGHT
TZOFFSETFROM:-0500
TZOFFSETTO:-0400
TZNAME:EDT
DTSTART:20250309T070000
END:DAYLIGHT
BEGIN:STANDARD
TZOFFSETFROM:-0400
TZOFFSETTO:-0500
TZNAME:EST
DTSTART:20251102T060000
END:STANDARD
BEGIN:DAYLIGHT
TZOFFSETFROM:-0500
TZOFFSETTO:-0400
TZNAME:EDT
DTSTART:20260308T070000
END:DAYLIGHT
BEGIN:STANDARD
TZOFFSETFROM:-0400
TZOFFSETTO:-0500
TZNAME:EST
DTSTART:20261101T060000
END:STANDARD
END:VTIMEZONE
BEGIN:VEVENT
DTSTART;TZID=America/New_York:20250913T160000
DTEND;TZID=America/New_York:20250913T200000
DTSTAMP:20260420T061338
CREATED:20250824T143821Z
LAST-MODIFIED:20250824T143821Z
UID:10003562-1757779200-1757793600@wilmingtonbrewworks.com
SUMMARY:Food Truck @ BWN - Claymont Steaks
DESCRIPTION:Claymont Steak Shop
URL:https://wilmingtonbrewworks.com/event/food-truck-bwn-claymont-steaks/
LOCATION:Brew Works North\, 1851 Marsh Rd\, Wilmington\, DE\, 19810\, United States
CATEGORIES:Food Truck
ATTACH;FMTTYPE=image/png:https://wilmingtonbrewworks.com/wp-content/uploads/2025/07/BWN-FoodTruckEvent.png
END:VEVENT
BEGIN:VEVENT
DTSTART;TZID=America/New_York:20250913T170000
DTEND;TZID=America/New_York:20250913T220000
DTSTAMP:20260420T061338
CREATED:20250905T125827Z
LAST-MODIFIED:20250918T002158Z
UID:10003623-1757782800-1757800800@wilmingtonbrewworks.com
SUMMARY:The Würst Pop-Up
DESCRIPTION:A WBW Pop-Up Event. Celebrate Oktoberfest with Brats in the Biergarten! \nBratwurst – $6.50 \nVegan Bratwurst- $7.50 \nAdd Sauerkraut- $.50 \nAdd Grilled Peppers & Onions – $.50 \nDusseldorf Mustard included upon request \n5PM until Sold Out
URL:https://wilmingtonbrewworks.com/event/the-wurst-pop-up/2025-09-13/
LOCATION:Wilmington Brew Works\, 3129 Miller Road\, Wilmington\, DE\, 19802\, United States
CATEGORIES:Food Truck,Taproom Events
ATTACH;FMTTYPE=image/png:https://wilmingtonbrewworks.com/wp-content/uploads/2025/09/Pop-UpWurst-Event.png
END:VEVENT
BEGIN:VEVENT
DTSTART;TZID=America/New_York:20250913T183000
DTEND;TZID=America/New_York:20250913T210000
DTSTAMP:20260420T061338
CREATED:20250426T145908Z
LAST-MODIFIED:20250426T174644Z
UID:10003330-1757788200-1757797200@wilmingtonbrewworks.com
SUMMARY:Bands in the Beer Garden
DESCRIPTION:Every Saturday Night in the Beer Garden – Live Bands at at Wilmington Brew Works! \n5/3/2025 – Low Tide\n5/10/2025 – The Brandywine Riders\n5/17/2025 – Ty Mathis & Friends\n5/24/2025 – The Audacity\n5/31/2025 – Spokey Speaky\n6/7/2025 – Ben There\, Done That\n6/14/2025  – Chapel St Junction\n6/21/2025 – Madisun Bailey\n6/28/2025 – Sweetman & Spadola\n7/5/2025 – Somethin Like That\n7/12/2025 – Skinner & Spadola\n7/19/2025 – Pearl Street\n7/26/2025 – The Yellowstoners\n8/2/2025 – Around The Bend\n8/9/2025 – 2Step Acoustic\n8/16/2025 – The Brandywine Riders\n8/23/2025 – Abby Lee Duo\n8/30/2025 – October Oak Band\n9/6/2025 – Skip Barthold Band\n9/13/2025 – Five Foot Nothin\n9/20/2025 – Kat Rivers & the Second Sight\n9/27/2025  – Low Tide\n10/4/2024 – Lower Case Blues
URL:https://wilmingtonbrewworks.com/event/bands-in-the-beer-garden/2025-09-13/
LOCATION:Wilmington Brew Works\, 3129 Miller Road\, Wilmington\, DE\, 19802\, United States
CATEGORIES:Taproom Events
ATTACH;FMTTYPE=image/png:https://wilmingtonbrewworks.com/wp-content/uploads/2025/04/WBW-Saturday-MusicTV-Event.png
END:VEVENT
END:VCALENDAR