BEGIN:VCALENDAR
VERSION:2.0
PRODID:-//Wilmington Brew Works - ECPv6.15.20//NONSGML v1.0//EN
CALSCALE:GREGORIAN
METHOD:PUBLISH
X-ORIGINAL-URL:https://wilmingtonbrewworks.com
X-WR-CALDESC:Events for Wilmington Brew Works
REFRESH-INTERVAL;VALUE=DURATION:PT1H
X-Robots-Tag:noindex
X-PUBLISHED-TTL:PT1H
BEGIN:VTIMEZONE
TZID:America/New_York
BEGIN:DAYLIGHT
TZOFFSETFROM:-0500
TZOFFSETTO:-0400
TZNAME:EDT
DTSTART:20240310T070000
END:DAYLIGHT
BEGIN:STANDARD
TZOFFSETFROM:-0400
TZOFFSETTO:-0500
TZNAME:EST
DTSTART:20241103T060000
END:STANDARD
BEGIN:DAYLIGHT
TZOFFSETFROM:-0500
TZOFFSETTO:-0400
TZNAME:EDT
DTSTART:20250309T070000
END:DAYLIGHT
BEGIN:STANDARD
TZOFFSETFROM:-0400
TZOFFSETTO:-0500
TZNAME:EST
DTSTART:20251102T060000
END:STANDARD
BEGIN:DAYLIGHT
TZOFFSETFROM:-0500
TZOFFSETTO:-0400
TZNAME:EDT
DTSTART:20260308T070000
END:DAYLIGHT
BEGIN:STANDARD
TZOFFSETFROM:-0400
TZOFFSETTO:-0500
TZNAME:EST
DTSTART:20261101T060000
END:STANDARD
END:VTIMEZONE
BEGIN:VEVENT
DTSTART;TZID=America/New_York:20250917T150000
DTEND;TZID=America/New_York:20250917T220000
DTSTAMP:20260420T061425
CREATED:20250912T162247Z
LAST-MODIFIED:20250912T162247Z
UID:10003649-1758121200-1758146400@wilmingtonbrewworks.com
SUMMARY:der Kürbis Keep the Pint & Beer Release
DESCRIPTION:Wilmington Brew Works and Brew Works North \nRelease of Pumpkin Festbier! \nKeep the Pint Night! \n$2 Pint Glass with purchase of pint of der Kürbis\, $6 standalone. \nBoth locations while supplies last!
URL:https://wilmingtonbrewworks.com/event/der-kurbis-keep-the-pint-beer-release/
LOCATION:Brew Works North\, 1851 Marsh Rd\, Wilmington\, DE\, 19810\, United States
CATEGORIES:Brew Works North Events,Taproom Events
ATTACH;FMTTYPE=image/png:https://wilmingtonbrewworks.com/wp-content/uploads/2025/09/DerKurbis-Keep-the-PintEvent.png
END:VEVENT
BEGIN:VEVENT
DTSTART;TZID=America/New_York:20250917T170000
DTEND;TZID=America/New_York:20250917T200000
DTSTAMP:20260420T061425
CREATED:20250903T022407Z
LAST-MODIFIED:20250903T022528Z
UID:10003599-1758128400-1758139200@wilmingtonbrewworks.com
SUMMARY:Pop-Up at WBW - Dark Star BBQ
DESCRIPTION:Brisket\, Pork and More. \nhttps://www.instagram.com/dark_starbbq/
URL:https://wilmingtonbrewworks.com/event/pop-up-food-dark-star-bbq-6/2025-09-17/
LOCATION:Wilmington Brew Works\, 3129 Miller Road\, Wilmington\, DE\, 19802\, United States
CATEGORIES:Food Truck
ATTACH;FMTTYPE=image/png:https://wilmingtonbrewworks.com/wp-content/uploads/2024/09/DarkStarFood-Truck.png
END:VEVENT
BEGIN:VEVENT
DTSTART;TZID=America/New_York:20250917T183000
DTEND;TZID=America/New_York:20250917T220000
DTSTAMP:20260420T061425
CREATED:20250908T233146Z
LAST-MODIFIED:20250908T233214Z
UID:10003639-1758133800-1758146400@wilmingtonbrewworks.com
SUMMARY:BWN - Cornhole Blind Draw
DESCRIPTION:Brew Works North – Cornhole Blind Draw Night\, League Warm-ups and Introductions. \nFree to play – show up by 6:30 to be paired. \nPrizes for Winners. \nFall League Starts 10/22 – Inquire at Blind Draw!
URL:https://wilmingtonbrewworks.com/event/bwn-cornhole-blind-draw-2/2025-09-17/
LOCATION:Brew Works North\, 1851 Marsh Rd\, Wilmington\, DE\, 19810\, United States
CATEGORIES:Brew Works North Events
ATTACH;FMTTYPE=image/png:https://wilmingtonbrewworks.com/wp-content/uploads/2025/07/BWN-Cornhole-Blind-DrawEvent.png
END:VEVENT
BEGIN:VEVENT
DTSTART;TZID=America/New_York:20250917T190000
DTEND;TZID=America/New_York:20250917T210000
DTSTAMP:20260420T061425
CREATED:20231218T142348Z
LAST-MODIFIED:20240229T152144Z
UID:10000613-1758135600-1758142800@wilmingtonbrewworks.com
SUMMARY:Small Batch Trivia with Geeks Who Drink
DESCRIPTION:Small Batch Trivia\, the latest offering from Geeks Who Drink brings you a light-hearted night of trivia competition to Wilmington Brew Works! \nOur weekly quiz is free to play and we’ll be giving away gift cards for our top teams at the end of the night. Join us for straight up fun!
URL:https://wilmingtonbrewworks.com/event/small-batch-trivia-with-geeks-who-drink/2025-09-17/
LOCATION:Wilmington Brew Works\, 3129 Miller Road\, Wilmington\, DE\, 19802\, United States
CATEGORIES:Taproom Events
ATTACH;FMTTYPE=image/png:https://wilmingtonbrewworks.com/wp-content/uploads/2023/10/WBW-GWD-TriviaFacebook-Cover.png
END:VEVENT
END:VCALENDAR