BEGIN:VCALENDAR
VERSION:2.0
PRODID:-//Wilmington Brew Works - ECPv6.15.20//NONSGML v1.0//EN
CALSCALE:GREGORIAN
METHOD:PUBLISH
X-ORIGINAL-URL:https://wilmingtonbrewworks.com
X-WR-CALDESC:Events for Wilmington Brew Works
REFRESH-INTERVAL;VALUE=DURATION:PT1H
X-Robots-Tag:noindex
X-PUBLISHED-TTL:PT1H
BEGIN:VTIMEZONE
TZID:America/New_York
BEGIN:DAYLIGHT
TZOFFSETFROM:-0500
TZOFFSETTO:-0400
TZNAME:EDT
DTSTART:20240310T070000
END:DAYLIGHT
BEGIN:STANDARD
TZOFFSETFROM:-0400
TZOFFSETTO:-0500
TZNAME:EST
DTSTART:20241103T060000
END:STANDARD
BEGIN:DAYLIGHT
TZOFFSETFROM:-0500
TZOFFSETTO:-0400
TZNAME:EDT
DTSTART:20250309T070000
END:DAYLIGHT
BEGIN:STANDARD
TZOFFSETFROM:-0400
TZOFFSETTO:-0500
TZNAME:EST
DTSTART:20251102T060000
END:STANDARD
BEGIN:DAYLIGHT
TZOFFSETFROM:-0500
TZOFFSETTO:-0400
TZNAME:EDT
DTSTART:20260308T070000
END:DAYLIGHT
BEGIN:STANDARD
TZOFFSETFROM:-0400
TZOFFSETTO:-0500
TZNAME:EST
DTSTART:20261101T060000
END:STANDARD
END:VTIMEZONE
BEGIN:VEVENT
DTSTART;TZID=America/New_York:20250921T101500
DTEND;TZID=America/New_York:20250921T111500
DTSTAMP:20260420T061529
CREATED:20250907T162012Z
LAST-MODIFIED:20250908T182143Z
UID:10003636-1758449700-1758453300@wilmingtonbrewworks.com
SUMMARY:Yoga Works with Laura - 9/21/25
DESCRIPTION:Namaste! – Ease into Sunday Morning at WBW and join us for Yoga Works. This hour-long class\, including a 15-minute beer meditation\, in the serene environment of the Alamo Room is open to all and has been created to relieve tight muscles and joints without strain. Reconnect with yourself\, and finish with a beer meditation. (Brewer’s Note: “Is there any other kind?”)\n\nThe class is $15 and includes a beer or cider. Open to all\, no experience necessary\, but please bring your own Yoga Mat.\n\n10:15 am – 11:15 am\n\nSession limited to 26 participants\n\n\nJoin our Facebook Group to ensure you see Yoga and Pilates events! https://www.facebook.com/groups/456692375201399
URL:https://wilmingtonbrewworks.com/event/yoga-works-with-laura-9-21-25/
LOCATION:The Alamo Room\, 3129 Miller Road\, Wilmington\, DE\, 19802\, United States
CATEGORIES:Alamo Room Events,Ticketed Events
ATTACH;FMTTYPE=image/png:https://wilmingtonbrewworks.com/wp-content/uploads/2025/01/Yoga-16-9-2025.png
END:VEVENT
END:VCALENDAR