BEGIN:VCALENDAR
VERSION:2.0
PRODID:-//Wilmington Brew Works - ECPv6.15.20//NONSGML v1.0//EN
CALSCALE:GREGORIAN
METHOD:PUBLISH
X-WR-CALNAME:Wilmington Brew Works
X-ORIGINAL-URL:https://wilmingtonbrewworks.com
X-WR-CALDESC:Events for Wilmington Brew Works
REFRESH-INTERVAL;VALUE=DURATION:PT1H
X-Robots-Tag:noindex
X-PUBLISHED-TTL:PT1H
BEGIN:VTIMEZONE
TZID:America/New_York
BEGIN:DAYLIGHT
TZOFFSETFROM:-0500
TZOFFSETTO:-0400
TZNAME:EDT
DTSTART:20240310T070000
END:DAYLIGHT
BEGIN:STANDARD
TZOFFSETFROM:-0400
TZOFFSETTO:-0500
TZNAME:EST
DTSTART:20241103T060000
END:STANDARD
BEGIN:DAYLIGHT
TZOFFSETFROM:-0500
TZOFFSETTO:-0400
TZNAME:EDT
DTSTART:20250309T070000
END:DAYLIGHT
BEGIN:STANDARD
TZOFFSETFROM:-0400
TZOFFSETTO:-0500
TZNAME:EST
DTSTART:20251102T060000
END:STANDARD
BEGIN:DAYLIGHT
TZOFFSETFROM:-0500
TZOFFSETTO:-0400
TZNAME:EDT
DTSTART:20260308T070000
END:DAYLIGHT
BEGIN:STANDARD
TZOFFSETFROM:-0400
TZOFFSETTO:-0500
TZNAME:EST
DTSTART:20261101T060000
END:STANDARD
END:VTIMEZONE
BEGIN:VEVENT
DTSTART;TZID=America/New_York:20250926T170000
DTEND;TZID=America/New_York:20250926T210000
DTSTAMP:20260420T061330
CREATED:20250821T235321Z
LAST-MODIFIED:20250922T220607Z
UID:10003736-1758906000-1758920400@wilmingtonbrewworks.com
SUMMARY:Food Truck @ BWN - Zach's Street Grill
DESCRIPTION:Zach’s Street Grill
URL:https://wilmingtonbrewworks.com/event/food-truck-bwn-zachs-street-grill/2025-09-26/
LOCATION:Brew Works North\, 1851 Marsh Rd\, Wilmington\, DE\, 19810\, United States
CATEGORIES:Food Truck
ATTACH;FMTTYPE=image/png:https://wilmingtonbrewworks.com/wp-content/uploads/2025/07/BWN-FoodTruckEvent.png
END:VEVENT
BEGIN:VEVENT
DTSTART;TZID=America/New_York:20250926T183000
DTEND;TZID=America/New_York:20250926T210000
DTSTAMP:20260420T061330
CREATED:20250829T014331Z
LAST-MODIFIED:20251009T233135Z
UID:10002929-1758911400-1758920400@wilmingtonbrewworks.com
SUMMARY:Friday Night Live: Music at Miller Rd
DESCRIPTION:AUGUST \n8/29 – Lucy & Patrick \nSEPTEMBER \n9/5 – Adam McCue \n9/12 – Sharon Sable Duo \n9/19 – PJ’s Pub Tour \n9/26 – Side Piece Acoustic Duo \nOCTOBER \n10/3 – Damn The Whiskey Duo \n10/10 – Kris V & Richie D \n10/17 – Jenni Schick \n10/24 – Sweetman & Spadola \n10/31 – John & Augie Duo \nNOVEMBER \n11/7 – Mike DiEleuterio \n11/14 – Brian Turner \n11/21 – Kat Rivers \n11/28 – Adam McCue \nDECEMBER \n12/5 – Leech Phase \n12/12 –  Side Piece Acoustic Duo \n12/19 – Dave Cudrak \n12-26 – Josh Borders \n 
URL:https://wilmingtonbrewworks.com/event/friday-night-live/2025-09-26/
LOCATION:Wilmington Brew Works\, 3129 Miller Road\, Wilmington\, DE\, 19802\, United States
CATEGORIES:Taproom Events
ATTACH;FMTTYPE=image/png:https://wilmingtonbrewworks.com/wp-content/uploads/2025/01/Friday-Night-MusicEvent.png
END:VEVENT
END:VCALENDAR