BEGIN:VCALENDAR
VERSION:2.0
PRODID:-//Wilmington Brew Works - ECPv6.15.20//NONSGML v1.0//EN
CALSCALE:GREGORIAN
METHOD:PUBLISH
X-WR-CALNAME:Wilmington Brew Works
X-ORIGINAL-URL:https://wilmingtonbrewworks.com
X-WR-CALDESC:Events for Wilmington Brew Works
REFRESH-INTERVAL;VALUE=DURATION:PT1H
X-Robots-Tag:noindex
X-PUBLISHED-TTL:PT1H
BEGIN:VTIMEZONE
TZID:America/New_York
BEGIN:DAYLIGHT
TZOFFSETFROM:-0500
TZOFFSETTO:-0400
TZNAME:EDT
DTSTART:20240310T070000
END:DAYLIGHT
BEGIN:STANDARD
TZOFFSETFROM:-0400
TZOFFSETTO:-0500
TZNAME:EST
DTSTART:20241103T060000
END:STANDARD
BEGIN:DAYLIGHT
TZOFFSETFROM:-0500
TZOFFSETTO:-0400
TZNAME:EDT
DTSTART:20250309T070000
END:DAYLIGHT
BEGIN:STANDARD
TZOFFSETFROM:-0400
TZOFFSETTO:-0500
TZNAME:EST
DTSTART:20251102T060000
END:STANDARD
BEGIN:DAYLIGHT
TZOFFSETFROM:-0500
TZOFFSETTO:-0400
TZNAME:EDT
DTSTART:20260308T070000
END:DAYLIGHT
BEGIN:STANDARD
TZOFFSETFROM:-0400
TZOFFSETTO:-0500
TZNAME:EST
DTSTART:20261101T060000
END:STANDARD
END:VTIMEZONE
BEGIN:VEVENT
DTSTART;TZID=America/New_York:20251007T173000
DTEND;TZID=America/New_York:20251007T203000
DTSTAMP:20260420T110304
CREATED:20250915T012051Z
LAST-MODIFIED:20250915T015112Z
UID:10003656-1759858200-1759869000@wilmingtonbrewworks.com
SUMMARY:Burger Night at WBW with Zach's Street Grill
DESCRIPTION:$10 Cheeseburger and Fries Special – Tuesday Nights at Wilmington Brew Works!\nZach’s cheeseburger deal features a quarter-pound patty made from a custom blend of Angus ground chuck and brisket. Topped with American cheese and served on a Martin’s potato roll with boardwalk style fries. \nMore Special Menu Items to Come! \nBring your vinyl and enjoy Turntable Tuesday at the same time! \nhttps://www.facebook.com/Zachsgrill/
URL:https://wilmingtonbrewworks.com/event/burger-night-at-wbw-with-zachs-street-grill/2025-10-07/
LOCATION:Wilmington Brew Works\, 3129 Miller Road\, Wilmington\, DE\, 19802\, United States
CATEGORIES:Food Truck,Taproom Events
ATTACH;FMTTYPE=image/png:https://wilmingtonbrewworks.com/wp-content/uploads/2025/09/BurgerNight-ZachsEvent.png
END:VEVENT
BEGIN:VEVENT
DTSTART;TZID=America/New_York:20251007T180000
DTEND;TZID=America/New_York:20251007T210000
DTSTAMP:20260420T110304
CREATED:20240209T143115Z
LAST-MODIFIED:20240326T204102Z
UID:10000355-1759860000-1759870800@wilmingtonbrewworks.com
SUMMARY:Turntable Tuesday
DESCRIPTION:Spinning Vinyl in the Taproom! \nBring Your Own Vinyl and we’ll play it. Weird and rare stuff are a plus\, but we’ll play anything you got! Take a seat\, have a beer and listen to some deep cuts. \nThumb through our collection and make a request! Got something to Trade? Bring it on in and find a match!
URL:https://wilmingtonbrewworks.com/event/turntable-tuesday-2/2025-10-07/
LOCATION:Wilmington Brew Works\, 3129 Miller Road\, Wilmington\, DE\, 19802\, United States
CATEGORIES:Taproom Events
ATTACH;FMTTYPE=image/png:https://wilmingtonbrewworks.com/wp-content/uploads/2022/11/TTT-2022Facebook-event_1.png
END:VEVENT
END:VCALENDAR