BEGIN:VCALENDAR
VERSION:2.0
PRODID:-//Wilmington Brew Works - ECPv6.15.20//NONSGML v1.0//EN
CALSCALE:GREGORIAN
METHOD:PUBLISH
X-ORIGINAL-URL:https://wilmingtonbrewworks.com
X-WR-CALDESC:Events for Wilmington Brew Works
REFRESH-INTERVAL;VALUE=DURATION:PT1H
X-Robots-Tag:noindex
X-PUBLISHED-TTL:PT1H
BEGIN:VTIMEZONE
TZID:America/New_York
BEGIN:DAYLIGHT
TZOFFSETFROM:-0500
TZOFFSETTO:-0400
TZNAME:EDT
DTSTART:20250309T070000
END:DAYLIGHT
BEGIN:STANDARD
TZOFFSETFROM:-0400
TZOFFSETTO:-0500
TZNAME:EST
DTSTART:20251102T060000
END:STANDARD
BEGIN:DAYLIGHT
TZOFFSETFROM:-0500
TZOFFSETTO:-0400
TZNAME:EDT
DTSTART:20260308T070000
END:DAYLIGHT
BEGIN:STANDARD
TZOFFSETFROM:-0400
TZOFFSETTO:-0500
TZNAME:EST
DTSTART:20261101T060000
END:STANDARD
BEGIN:DAYLIGHT
TZOFFSETFROM:-0500
TZOFFSETTO:-0400
TZNAME:EDT
DTSTART:20270314T070000
END:DAYLIGHT
BEGIN:STANDARD
TZOFFSETFROM:-0400
TZOFFSETTO:-0500
TZNAME:EST
DTSTART:20271107T060000
END:STANDARD
END:VTIMEZONE
BEGIN:VEVENT
DTSTART;TZID=America/New_York:20260208T101500
DTEND;TZID=America/New_York:20260208T111500
DTSTAMP:20260421T124333
CREATED:20260112T225642Z
LAST-MODIFIED:20260112T225921Z
UID:10004289-1770545700-1770549300@wilmingtonbrewworks.com
SUMMARY:Yoga Works with Laura - 2/8/2026
DESCRIPTION:Namaste! – Ease into Sunday Morning at WBW and join us for Yoga Works. This hour-long class\, including a 15-minute beer meditation\, in the serene environment of the Alamo Room is open to all and has been created to relieve tight muscles and joints without strain. Reconnect with yourself\, and finish with a beer meditation. (Brewer’s Note: “Is there any other kind?”)\n\nThe class is $15 and includes a beer or cider. Open to all\, no experience necessary\, but please bring your own Yoga Mat.\n\n10:15 am – 11:15 am\n\nSession limited to 26 participants\n\n\nJoin our Facebook Group to ensure you see Yoga and Pilates events! https://www.facebook.com/groups/456692375201399
URL:https://wilmingtonbrewworks.com/event/yoga-works-with-laura-2-8-2026/
LOCATION:The Alamo Room\, 3129 Miller Road\, Wilmington\, DE\, 19802\, United States
CATEGORIES:Alamo Room Events,Ticketed Events
ATTACH;FMTTYPE=image/png:https://wilmingtonbrewworks.com/wp-content/uploads/2025/01/Yoga-16-9-2025.png
END:VEVENT
BEGIN:VEVENT
DTSTART;TZID=America/New_York:20260208T160000
DTEND;TZID=America/New_York:20260208T230000
DTSTAMP:20260421T124333
CREATED:20260129T003334Z
LAST-MODIFIED:20260129T013616Z
UID:10004421-1770566400-1770591600@wilmingtonbrewworks.com
SUMMARY:THE BIG GAME
DESCRIPTION:It may not the team you want (or maybe it is?)\, but all the more reason to watch the big game here at Brew Works North. We’ll have the sound up so you can hear the commercials\, plus you can play darts\,  cornhole or whatever while the game is on! \nBeer and Cocktail Specials! \nDARK STAR BBQ ON SITE! \nSnack Specials from Herr’s! \nFree sample bags of Knotty Pretzels! \nIt’s a Sunday\, so Dog Friendly! (well behaved kids too) \nEverything starts at 4 pm\, kickoff is 6:30\, and we’re here until the Lombardi Trophy is presented!
URL:https://wilmingtonbrewworks.com/event/the-big-game/
LOCATION:Brew Works North\, 1851 Marsh Rd\, Wilmington\, DE\, 19810\, United States
CATEGORIES:Brew Works North Events
ATTACH;FMTTYPE=image/png:https://wilmingtonbrewworks.com/wp-content/uploads/2026/01/BWN-BIG-GAMEEvent.png
END:VEVENT
END:VCALENDAR