BEGIN:VCALENDAR
VERSION:2.0
PRODID:-//Wilmington Brew Works - ECPv6.15.20//NONSGML v1.0//EN
CALSCALE:GREGORIAN
METHOD:PUBLISH
X-WR-CALNAME:Wilmington Brew Works
X-ORIGINAL-URL:https://wilmingtonbrewworks.com
X-WR-CALDESC:Events for Wilmington Brew Works
REFRESH-INTERVAL;VALUE=DURATION:PT1H
X-Robots-Tag:noindex
X-PUBLISHED-TTL:PT1H
BEGIN:VTIMEZONE
TZID:America/New_York
BEGIN:DAYLIGHT
TZOFFSETFROM:-0500
TZOFFSETTO:-0400
TZNAME:EDT
DTSTART:20250309T070000
END:DAYLIGHT
BEGIN:STANDARD
TZOFFSETFROM:-0400
TZOFFSETTO:-0500
TZNAME:EST
DTSTART:20251102T060000
END:STANDARD
BEGIN:DAYLIGHT
TZOFFSETFROM:-0500
TZOFFSETTO:-0400
TZNAME:EDT
DTSTART:20260308T070000
END:DAYLIGHT
BEGIN:STANDARD
TZOFFSETFROM:-0400
TZOFFSETTO:-0500
TZNAME:EST
DTSTART:20261101T060000
END:STANDARD
BEGIN:DAYLIGHT
TZOFFSETFROM:-0500
TZOFFSETTO:-0400
TZNAME:EDT
DTSTART:20270314T070000
END:DAYLIGHT
BEGIN:STANDARD
TZOFFSETFROM:-0400
TZOFFSETTO:-0500
TZNAME:EST
DTSTART:20271107T060000
END:STANDARD
END:VTIMEZONE
BEGIN:VEVENT
DTSTART;TZID=America/New_York:20260228T183000
DTEND;TZID=America/New_York:20260228T210000
DTSTAMP:20260421T124049
CREATED:20251030T024028Z
LAST-MODIFIED:20260126T163723Z
UID:10003940-1772303400-1772312400@wilmingtonbrewworks.com
SUMMARY:Brew Works Live! Local Acts at WBW!
DESCRIPTION:MUSIC AT WBW EVERY FRIDAY AND SATURDAY NIGHT!\n\n\n\n\n\n\n\n\nFRIDAY\nSATURDAY\n\n\n1/2\nJenni Schick\n1/3\nBraeden Means\n\n\n1/9\nLiz Watkins\n1/10\nKevin Burns\n\n\n1/16\nSamantha Seider Duo\n1/17\nFive Food Nothin’\n\n\n1/23\nRylynn Woods Duo\n1/24\nSamantha’s Duo\n\n\n1/30\nMike DiEleuterio\n1/31\nDave Cudrak\n\n\n2/6\nJenni Schick\n2/7\nThe Roomates\n\n\n2/13\nKat Rivers\n2/14\nDamn The Whiskey Duo\n\n\n2/20\nJenni & Josh\n2/21\n2 Step Acoustic\n\n\n2/27\nAllison Landon\n2/28\nMichael Skiles\n\n\n3/6\nJenni Schick\n3/7\nJamie Salvatore\n\n\n3/13\nSam & Ashley\n3/14\nLucy & Patrick\n\n\n3/20\nSpadola Duo\n3/21\nKevin Burns\n\n\n3/27\nMike DiEleuterio\n3/28\nSam & Ashley\n\n\n4/3\nSharon Sable Duo\n4/4\nKris V & Richie D\n\n\n4/10\nBrian Turner\n4/11\nSweetman & Spadola\n\n\n4/17\nKat Rivers\n4/18\nSide Piece Acoustic\n\n\n4/24\nRivers & Rhodes\n4/25\nLucy & Patrick\n\n\n5/1\nMimic Men Trio\n5/2\nMimic Men Band\n\n\n5/8\nJohn Rogers & Augie Parodi\n5/9\nThe Yellowstoners\n\n\n5/15\nMichaela & Ethan\n5/16\nSpokey Speaky\n\n\n5/22\nMike D\n5/23\nSomething Like That\n\n\n5/29\nLeech Phase\n5/30\nTy Mathis & Friends
URL:https://wilmingtonbrewworks.com/event/friday-night-live-2-2/2026-02-28/
LOCATION:Wilmington Brew Works\, 3129 Miller Road\, Wilmington\, DE\, 19802\, United States
CATEGORIES:Taproom Events
ATTACH;FMTTYPE=image/png:https://wilmingtonbrewworks.com/wp-content/uploads/2025/08/Brew-Works-LiveEvent.png
END:VEVENT
END:VCALENDAR