BEGIN:VCALENDAR
VERSION:2.0
PRODID:-//Wilmington Brew Works - ECPv6.15.20//NONSGML v1.0//EN
CALSCALE:GREGORIAN
METHOD:PUBLISH
X-WR-CALNAME:Wilmington Brew Works
X-ORIGINAL-URL:https://wilmingtonbrewworks.com
X-WR-CALDESC:Events for Wilmington Brew Works
REFRESH-INTERVAL;VALUE=DURATION:PT1H
X-Robots-Tag:noindex
X-PUBLISHED-TTL:PT1H
BEGIN:VTIMEZONE
TZID:America/New_York
BEGIN:DAYLIGHT
TZOFFSETFROM:-0500
TZOFFSETTO:-0400
TZNAME:EDT
DTSTART:20250309T070000
END:DAYLIGHT
BEGIN:STANDARD
TZOFFSETFROM:-0400
TZOFFSETTO:-0500
TZNAME:EST
DTSTART:20251102T060000
END:STANDARD
BEGIN:DAYLIGHT
TZOFFSETFROM:-0500
TZOFFSETTO:-0400
TZNAME:EDT
DTSTART:20260308T070000
END:DAYLIGHT
BEGIN:STANDARD
TZOFFSETFROM:-0400
TZOFFSETTO:-0500
TZNAME:EST
DTSTART:20261101T060000
END:STANDARD
BEGIN:DAYLIGHT
TZOFFSETFROM:-0500
TZOFFSETTO:-0400
TZNAME:EDT
DTSTART:20270314T070000
END:DAYLIGHT
BEGIN:STANDARD
TZOFFSETFROM:-0400
TZOFFSETTO:-0500
TZNAME:EST
DTSTART:20271107T060000
END:STANDARD
END:VTIMEZONE
BEGIN:VEVENT
DTSTART;TZID=America/New_York:20260420T180000
DTEND;TZID=America/New_York:20260420T220000
DTSTAMP:20260420T054629
CREATED:20260402T020500Z
LAST-MODIFIED:20260402T021030Z
UID:10004553-1776708000-1776722400@wilmingtonbrewworks.com
SUMMARY:Magic the Gathering Open Play @ BWN
DESCRIPTION:Join us for an Open Play Magic the Gathering night at Brew Works North on the 1st and 3rd Monday of every month! 6pm-10pm\n\nThere’s no charge to play\, and all skill levels are welcome for casual games. You can play Commander\, Modern\, or even Two-Headed Giant.\n\nAs a special offer\, all participating players will receive 10% off all draughts. It’s a great opportunity to meet other players and grow your pods!
URL:https://wilmingtonbrewworks.com/event/magic-the-gathering-open-play-bwn-4/2026-04-20/
LOCATION:Brew Works North\, 1851 Marsh Rd\, Wilmington\, DE\, 19810\, United States
CATEGORIES:Brew Works North Events
ATTACH;FMTTYPE=image/png:https://wilmingtonbrewworks.com/wp-content/uploads/2025/10/BWN-Magic-the-GatheringEvent.png
END:VEVENT
END:VCALENDAR