BEGIN:VCALENDAR
VERSION:2.0
PRODID:-//Wilmington Brew Works - ECPv6.15.20//NONSGML v1.0//EN
CALSCALE:GREGORIAN
METHOD:PUBLISH
X-WR-CALNAME:Wilmington Brew Works
X-ORIGINAL-URL:https://wilmingtonbrewworks.com
X-WR-CALDESC:Events for Wilmington Brew Works
REFRESH-INTERVAL;VALUE=DURATION:PT1H
X-Robots-Tag:noindex
X-PUBLISHED-TTL:PT1H
BEGIN:VTIMEZONE
TZID:America/New_York
BEGIN:DAYLIGHT
TZOFFSETFROM:-0500
TZOFFSETTO:-0400
TZNAME:EDT
DTSTART:20250309T070000
END:DAYLIGHT
BEGIN:STANDARD
TZOFFSETFROM:-0400
TZOFFSETTO:-0500
TZNAME:EST
DTSTART:20251102T060000
END:STANDARD
BEGIN:DAYLIGHT
TZOFFSETFROM:-0500
TZOFFSETTO:-0400
TZNAME:EDT
DTSTART:20260308T070000
END:DAYLIGHT
BEGIN:STANDARD
TZOFFSETFROM:-0400
TZOFFSETTO:-0500
TZNAME:EST
DTSTART:20261101T060000
END:STANDARD
BEGIN:DAYLIGHT
TZOFFSETFROM:-0500
TZOFFSETTO:-0400
TZNAME:EDT
DTSTART:20270314T070000
END:DAYLIGHT
BEGIN:STANDARD
TZOFFSETFROM:-0400
TZOFFSETTO:-0500
TZNAME:EST
DTSTART:20271107T060000
END:STANDARD
END:VTIMEZONE
BEGIN:VEVENT
DTSTART;TZID=America/New_York:20260423T183000
DTEND;TZID=America/New_York:20260423T213000
DTSTAMP:20260421T060746
CREATED:20260205T001622Z
LAST-MODIFIED:20260205T001622Z
UID:10004443-1776969000-1776979800@wilmingtonbrewworks.com
SUMMARY:Heyday Athletic Cornhole League
DESCRIPTION:Thursday Night Cornhole League run by Heyday Athletic. \nRegister at Heyday Athletic.
URL:https://wilmingtonbrewworks.com/event/heyday-athletic-cornhole-league/2026-04-23/
LOCATION:Brew Works North\, 1851 Marsh Rd\, Wilmington\, DE\, 19810\, United States
CATEGORIES:Brew Works North Events
ATTACH;FMTTYPE=image/jpeg:https://wilmingtonbrewworks.com/wp-content/uploads/2026/02/f72d1c9eaed7226ae6ca0e62111d2a9b.jpg
END:VEVENT
BEGIN:VEVENT
DTSTART;TZID=America/New_York:20260425T150000
DTEND;TZID=America/New_York:20260425T210000
DTSTAMP:20260421T060746
CREATED:20260310T001057Z
LAST-MODIFIED:20260331T012345Z
UID:10004526-1777129200-1777150800@wilmingtonbrewworks.com
SUMMARY:Mitch's Mo'Better - Food Truck
DESCRIPTION:Mitch’s Mo’Better and WBW Beer – a BEAUTIFUL COMBINATION! \nNow at Brew Works North!
URL:https://wilmingtonbrewworks.com/event/mitchs-mobetter-food-truck/2026-04-25/
LOCATION:Brew Works North\, 1851 Marsh Rd\, Wilmington\, DE\, 19810\, United States
CATEGORIES:Brew Works North Events,Food Truck
ATTACH;FMTTYPE=image/png:https://wilmingtonbrewworks.com/wp-content/uploads/2026/03/Mitch-at-NorthEvent.png
END:VEVENT
BEGIN:VEVENT
DTSTART;TZID=America/New_York:20260428T173000
DTEND;TZID=America/New_York:20260428T220000
DTSTAMP:20260421T060746
CREATED:20251211T224440Z
LAST-MODIFIED:20251211T224441Z
UID:10004060-1777397400-1777413600@wilmingtonbrewworks.com
SUMMARY:Board Game Social (BWN)
DESCRIPTION:Wilmington Board Game Social! Play games\, drink beers\, and make new friends!\n$5 cover gets you:. Access to a library of games! (or bring your own!). We can teach you how to play\, and walk you through your first game!\n\n\nBoard game nights the fourth Tuesday of every month at Brew Works North!\n\n\n\nOpen your table up to new players and meet new friends! It’s the monthly board game social you’ve been looking for!
URL:https://wilmingtonbrewworks.com/event/board-game-social-bwn/2026-04-28/
LOCATION:Brew Works North\, 1851 Marsh Rd\, Wilmington\, DE\, 19810\, United States
CATEGORIES:Brew Works North Events
ATTACH;FMTTYPE=image/webp:https://wilmingtonbrewworks.com/wp-content/uploads/2025/12/wavelength-landscape-north.webp
END:VEVENT
BEGIN:VEVENT
DTSTART;TZID=America/New_York:20260430T183000
DTEND;TZID=America/New_York:20260430T213000
DTSTAMP:20260421T060746
CREATED:20260205T001622Z
LAST-MODIFIED:20260205T001622Z
UID:10004444-1777573800-1777584600@wilmingtonbrewworks.com
SUMMARY:Heyday Athletic Cornhole League
DESCRIPTION:Thursday Night Cornhole League run by Heyday Athletic. \nRegister at Heyday Athletic.
URL:https://wilmingtonbrewworks.com/event/heyday-athletic-cornhole-league/2026-04-30/
LOCATION:Brew Works North\, 1851 Marsh Rd\, Wilmington\, DE\, 19810\, United States
CATEGORIES:Brew Works North Events
ATTACH;FMTTYPE=image/jpeg:https://wilmingtonbrewworks.com/wp-content/uploads/2026/02/f72d1c9eaed7226ae6ca0e62111d2a9b.jpg
END:VEVENT
BEGIN:VEVENT
DTSTART;TZID=America/New_York:20260504T180000
DTEND;TZID=America/New_York:20260504T220000
DTSTAMP:20260421T060746
CREATED:20260402T020402Z
LAST-MODIFIED:20260402T020913Z
UID:10004073-1777917600-1777932000@wilmingtonbrewworks.com
SUMMARY:Magic the Gathering Open Play @ BWN
DESCRIPTION:Join us for an Open Play Magic the Gathering night at Brew Works North on the 1st and 3rd Monday of every month! 6pm-10pm\n\nThere’s no charge to play\, and all skill levels are welcome for casual games. You can play Commander\, Modern\, or even Two-Headed Giant.\n\nAs a special offer\, all participating players will receive 10% off all draughts. It’s a great opportunity to meet other players and grow your pods!
URL:https://wilmingtonbrewworks.com/event/magic-the-gathering-open-play-bwn-3-2/2026-05-04/
LOCATION:Brew Works North\, 1851 Marsh Rd\, Wilmington\, DE\, 19810\, United States
CATEGORIES:Brew Works North Events
ATTACH;FMTTYPE=image/png:https://wilmingtonbrewworks.com/wp-content/uploads/2025/10/BWN-Magic-the-GatheringEvent.png
END:VEVENT
BEGIN:VEVENT
DTSTART;TZID=America/New_York:20260507T183000
DTEND;TZID=America/New_York:20260507T213000
DTSTAMP:20260421T060746
CREATED:20260205T001622Z
LAST-MODIFIED:20260205T001622Z
UID:10004445-1778178600-1778189400@wilmingtonbrewworks.com
SUMMARY:Heyday Athletic Cornhole League
DESCRIPTION:Thursday Night Cornhole League run by Heyday Athletic. \nRegister at Heyday Athletic.
URL:https://wilmingtonbrewworks.com/event/heyday-athletic-cornhole-league/2026-05-07/
LOCATION:Brew Works North\, 1851 Marsh Rd\, Wilmington\, DE\, 19810\, United States
CATEGORIES:Brew Works North Events
ATTACH;FMTTYPE=image/jpeg:https://wilmingtonbrewworks.com/wp-content/uploads/2026/02/f72d1c9eaed7226ae6ca0e62111d2a9b.jpg
END:VEVENT
BEGIN:VEVENT
DTSTART;TZID=America/New_York:20260514T183000
DTEND;TZID=America/New_York:20260514T213000
DTSTAMP:20260421T060746
CREATED:20260205T001622Z
LAST-MODIFIED:20260205T001622Z
UID:10004446-1778783400-1778794200@wilmingtonbrewworks.com
SUMMARY:Heyday Athletic Cornhole League
DESCRIPTION:Thursday Night Cornhole League run by Heyday Athletic. \nRegister at Heyday Athletic.
URL:https://wilmingtonbrewworks.com/event/heyday-athletic-cornhole-league/2026-05-14/
LOCATION:Brew Works North\, 1851 Marsh Rd\, Wilmington\, DE\, 19810\, United States
CATEGORIES:Brew Works North Events
ATTACH;FMTTYPE=image/jpeg:https://wilmingtonbrewworks.com/wp-content/uploads/2026/02/f72d1c9eaed7226ae6ca0e62111d2a9b.jpg
END:VEVENT
BEGIN:VEVENT
DTSTART;TZID=America/New_York:20260518T180000
DTEND;TZID=America/New_York:20260518T220000
DTSTAMP:20260421T060746
CREATED:20260402T020500Z
LAST-MODIFIED:20260402T021030Z
UID:10004554-1779127200-1779141600@wilmingtonbrewworks.com
SUMMARY:Magic the Gathering Open Play @ BWN
DESCRIPTION:Join us for an Open Play Magic the Gathering night at Brew Works North on the 1st and 3rd Monday of every month! 6pm-10pm\n\nThere’s no charge to play\, and all skill levels are welcome for casual games. You can play Commander\, Modern\, or even Two-Headed Giant.\n\nAs a special offer\, all participating players will receive 10% off all draughts. It’s a great opportunity to meet other players and grow your pods!
URL:https://wilmingtonbrewworks.com/event/magic-the-gathering-open-play-bwn-4/2026-05-18/
LOCATION:Brew Works North\, 1851 Marsh Rd\, Wilmington\, DE\, 19810\, United States
CATEGORIES:Brew Works North Events
ATTACH;FMTTYPE=image/png:https://wilmingtonbrewworks.com/wp-content/uploads/2025/10/BWN-Magic-the-GatheringEvent.png
END:VEVENT
BEGIN:VEVENT
DTSTART;TZID=America/New_York:20260521T183000
DTEND;TZID=America/New_York:20260521T213000
DTSTAMP:20260421T060746
CREATED:20260205T001622Z
LAST-MODIFIED:20260205T001622Z
UID:10004447-1779388200-1779399000@wilmingtonbrewworks.com
SUMMARY:Heyday Athletic Cornhole League
DESCRIPTION:Thursday Night Cornhole League run by Heyday Athletic. \nRegister at Heyday Athletic.
URL:https://wilmingtonbrewworks.com/event/heyday-athletic-cornhole-league/2026-05-21/
LOCATION:Brew Works North\, 1851 Marsh Rd\, Wilmington\, DE\, 19810\, United States
CATEGORIES:Brew Works North Events
ATTACH;FMTTYPE=image/jpeg:https://wilmingtonbrewworks.com/wp-content/uploads/2026/02/f72d1c9eaed7226ae6ca0e62111d2a9b.jpg
END:VEVENT
BEGIN:VEVENT
DTSTART;TZID=America/New_York:20260526T173000
DTEND;TZID=America/New_York:20260526T220000
DTSTAMP:20260421T060746
CREATED:20251211T224440Z
LAST-MODIFIED:20251211T224441Z
UID:10004061-1779816600-1779832800@wilmingtonbrewworks.com
SUMMARY:Board Game Social (BWN)
DESCRIPTION:Wilmington Board Game Social! Play games\, drink beers\, and make new friends!\n$5 cover gets you:. Access to a library of games! (or bring your own!). We can teach you how to play\, and walk you through your first game!\n\n\nBoard game nights the fourth Tuesday of every month at Brew Works North!\n\n\n\nOpen your table up to new players and meet new friends! It’s the monthly board game social you’ve been looking for!
URL:https://wilmingtonbrewworks.com/event/board-game-social-bwn/2026-05-26/
LOCATION:Brew Works North\, 1851 Marsh Rd\, Wilmington\, DE\, 19810\, United States
CATEGORIES:Brew Works North Events
ATTACH;FMTTYPE=image/webp:https://wilmingtonbrewworks.com/wp-content/uploads/2025/12/wavelength-landscape-north.webp
END:VEVENT
BEGIN:VEVENT
DTSTART;TZID=America/New_York:20260528T183000
DTEND;TZID=America/New_York:20260528T213000
DTSTAMP:20260421T060746
CREATED:20260205T001622Z
LAST-MODIFIED:20260205T001622Z
UID:10004448-1779993000-1780003800@wilmingtonbrewworks.com
SUMMARY:Heyday Athletic Cornhole League
DESCRIPTION:Thursday Night Cornhole League run by Heyday Athletic. \nRegister at Heyday Athletic.
URL:https://wilmingtonbrewworks.com/event/heyday-athletic-cornhole-league/2026-05-28/
LOCATION:Brew Works North\, 1851 Marsh Rd\, Wilmington\, DE\, 19810\, United States
CATEGORIES:Brew Works North Events
ATTACH;FMTTYPE=image/jpeg:https://wilmingtonbrewworks.com/wp-content/uploads/2026/02/f72d1c9eaed7226ae6ca0e62111d2a9b.jpg
END:VEVENT
BEGIN:VEVENT
DTSTART;TZID=America/New_York:20260601T180000
DTEND;TZID=America/New_York:20260601T220000
DTSTAMP:20260421T060746
CREATED:20260402T020402Z
LAST-MODIFIED:20260402T020913Z
UID:10004074-1780336800-1780351200@wilmingtonbrewworks.com
SUMMARY:Magic the Gathering Open Play @ BWN
DESCRIPTION:Join us for an Open Play Magic the Gathering night at Brew Works North on the 1st and 3rd Monday of every month! 6pm-10pm\n\nThere’s no charge to play\, and all skill levels are welcome for casual games. You can play Commander\, Modern\, or even Two-Headed Giant.\n\nAs a special offer\, all participating players will receive 10% off all draughts. It’s a great opportunity to meet other players and grow your pods!
URL:https://wilmingtonbrewworks.com/event/magic-the-gathering-open-play-bwn-3-2/2026-06-01/
LOCATION:Brew Works North\, 1851 Marsh Rd\, Wilmington\, DE\, 19810\, United States
CATEGORIES:Brew Works North Events
ATTACH;FMTTYPE=image/png:https://wilmingtonbrewworks.com/wp-content/uploads/2025/10/BWN-Magic-the-GatheringEvent.png
END:VEVENT
BEGIN:VEVENT
DTSTART;TZID=America/New_York:20260604T183000
DTEND;TZID=America/New_York:20260604T213000
DTSTAMP:20260421T060746
CREATED:20260205T001622Z
LAST-MODIFIED:20260205T001622Z
UID:10004449-1780597800-1780608600@wilmingtonbrewworks.com
SUMMARY:Heyday Athletic Cornhole League
DESCRIPTION:Thursday Night Cornhole League run by Heyday Athletic. \nRegister at Heyday Athletic.
URL:https://wilmingtonbrewworks.com/event/heyday-athletic-cornhole-league/2026-06-04/
LOCATION:Brew Works North\, 1851 Marsh Rd\, Wilmington\, DE\, 19810\, United States
CATEGORIES:Brew Works North Events
ATTACH;FMTTYPE=image/jpeg:https://wilmingtonbrewworks.com/wp-content/uploads/2026/02/f72d1c9eaed7226ae6ca0e62111d2a9b.jpg
END:VEVENT
BEGIN:VEVENT
DTSTART;TZID=America/New_York:20260611T183000
DTEND;TZID=America/New_York:20260611T213000
DTSTAMP:20260421T060746
CREATED:20260205T001622Z
LAST-MODIFIED:20260205T001622Z
UID:10004450-1781202600-1781213400@wilmingtonbrewworks.com
SUMMARY:Heyday Athletic Cornhole League
DESCRIPTION:Thursday Night Cornhole League run by Heyday Athletic. \nRegister at Heyday Athletic.
URL:https://wilmingtonbrewworks.com/event/heyday-athletic-cornhole-league/2026-06-11/
LOCATION:Brew Works North\, 1851 Marsh Rd\, Wilmington\, DE\, 19810\, United States
CATEGORIES:Brew Works North Events
ATTACH;FMTTYPE=image/jpeg:https://wilmingtonbrewworks.com/wp-content/uploads/2026/02/f72d1c9eaed7226ae6ca0e62111d2a9b.jpg
END:VEVENT
BEGIN:VEVENT
DTSTART;TZID=America/New_York:20260615T180000
DTEND;TZID=America/New_York:20260615T220000
DTSTAMP:20260421T060746
CREATED:20260402T020500Z
LAST-MODIFIED:20260402T021030Z
UID:10004555-1781546400-1781560800@wilmingtonbrewworks.com
SUMMARY:Magic the Gathering Open Play @ BWN
DESCRIPTION:Join us for an Open Play Magic the Gathering night at Brew Works North on the 1st and 3rd Monday of every month! 6pm-10pm\n\nThere’s no charge to play\, and all skill levels are welcome for casual games. You can play Commander\, Modern\, or even Two-Headed Giant.\n\nAs a special offer\, all participating players will receive 10% off all draughts. It’s a great opportunity to meet other players and grow your pods!
URL:https://wilmingtonbrewworks.com/event/magic-the-gathering-open-play-bwn-4/2026-06-15/
LOCATION:Brew Works North\, 1851 Marsh Rd\, Wilmington\, DE\, 19810\, United States
CATEGORIES:Brew Works North Events
ATTACH;FMTTYPE=image/png:https://wilmingtonbrewworks.com/wp-content/uploads/2025/10/BWN-Magic-the-GatheringEvent.png
END:VEVENT
BEGIN:VEVENT
DTSTART;TZID=America/New_York:20260618T183000
DTEND;TZID=America/New_York:20260618T213000
DTSTAMP:20260421T060746
CREATED:20260205T001622Z
LAST-MODIFIED:20260205T001622Z
UID:10004451-1781807400-1781818200@wilmingtonbrewworks.com
SUMMARY:Heyday Athletic Cornhole League
DESCRIPTION:Thursday Night Cornhole League run by Heyday Athletic. \nRegister at Heyday Athletic.
URL:https://wilmingtonbrewworks.com/event/heyday-athletic-cornhole-league/2026-06-18/
LOCATION:Brew Works North\, 1851 Marsh Rd\, Wilmington\, DE\, 19810\, United States
CATEGORIES:Brew Works North Events
ATTACH;FMTTYPE=image/jpeg:https://wilmingtonbrewworks.com/wp-content/uploads/2026/02/f72d1c9eaed7226ae6ca0e62111d2a9b.jpg
END:VEVENT
BEGIN:VEVENT
DTSTART;TZID=America/New_York:20260623T173000
DTEND;TZID=America/New_York:20260623T220000
DTSTAMP:20260421T060746
CREATED:20251211T224440Z
LAST-MODIFIED:20251211T224441Z
UID:10004062-1782235800-1782252000@wilmingtonbrewworks.com
SUMMARY:Board Game Social (BWN)
DESCRIPTION:Wilmington Board Game Social! Play games\, drink beers\, and make new friends!\n$5 cover gets you:. Access to a library of games! (or bring your own!). We can teach you how to play\, and walk you through your first game!\n\n\nBoard game nights the fourth Tuesday of every month at Brew Works North!\n\n\n\nOpen your table up to new players and meet new friends! It’s the monthly board game social you’ve been looking for!
URL:https://wilmingtonbrewworks.com/event/board-game-social-bwn/2026-06-23/
LOCATION:Brew Works North\, 1851 Marsh Rd\, Wilmington\, DE\, 19810\, United States
CATEGORIES:Brew Works North Events
ATTACH;FMTTYPE=image/webp:https://wilmingtonbrewworks.com/wp-content/uploads/2025/12/wavelength-landscape-north.webp
END:VEVENT
BEGIN:VEVENT
DTSTART;TZID=America/New_York:20260625T183000
DTEND;TZID=America/New_York:20260625T213000
DTSTAMP:20260421T060746
CREATED:20260205T001622Z
LAST-MODIFIED:20260205T001622Z
UID:10004452-1782412200-1782423000@wilmingtonbrewworks.com
SUMMARY:Heyday Athletic Cornhole League
DESCRIPTION:Thursday Night Cornhole League run by Heyday Athletic. \nRegister at Heyday Athletic.
URL:https://wilmingtonbrewworks.com/event/heyday-athletic-cornhole-league/2026-06-25/
LOCATION:Brew Works North\, 1851 Marsh Rd\, Wilmington\, DE\, 19810\, United States
CATEGORIES:Brew Works North Events
ATTACH;FMTTYPE=image/jpeg:https://wilmingtonbrewworks.com/wp-content/uploads/2026/02/f72d1c9eaed7226ae6ca0e62111d2a9b.jpg
END:VEVENT
BEGIN:VEVENT
DTSTART;TZID=America/New_York:20260702T183000
DTEND;TZID=America/New_York:20260702T213000
DTSTAMP:20260421T060746
CREATED:20260205T001622Z
LAST-MODIFIED:20260205T001622Z
UID:10004453-1783017000-1783027800@wilmingtonbrewworks.com
SUMMARY:Heyday Athletic Cornhole League
DESCRIPTION:Thursday Night Cornhole League run by Heyday Athletic. \nRegister at Heyday Athletic.
URL:https://wilmingtonbrewworks.com/event/heyday-athletic-cornhole-league/2026-07-02/
LOCATION:Brew Works North\, 1851 Marsh Rd\, Wilmington\, DE\, 19810\, United States
CATEGORIES:Brew Works North Events
ATTACH;FMTTYPE=image/jpeg:https://wilmingtonbrewworks.com/wp-content/uploads/2026/02/f72d1c9eaed7226ae6ca0e62111d2a9b.jpg
END:VEVENT
BEGIN:VEVENT
DTSTART;TZID=America/New_York:20260706T180000
DTEND;TZID=America/New_York:20260706T220000
DTSTAMP:20260421T060746
CREATED:20260402T020402Z
LAST-MODIFIED:20260402T020913Z
UID:10004075-1783360800-1783375200@wilmingtonbrewworks.com
SUMMARY:Magic the Gathering Open Play @ BWN
DESCRIPTION:Join us for an Open Play Magic the Gathering night at Brew Works North on the 1st and 3rd Monday of every month! 6pm-10pm\n\nThere’s no charge to play\, and all skill levels are welcome for casual games. You can play Commander\, Modern\, or even Two-Headed Giant.\n\nAs a special offer\, all participating players will receive 10% off all draughts. It’s a great opportunity to meet other players and grow your pods!
URL:https://wilmingtonbrewworks.com/event/magic-the-gathering-open-play-bwn-3-2/2026-07-06/
LOCATION:Brew Works North\, 1851 Marsh Rd\, Wilmington\, DE\, 19810\, United States
CATEGORIES:Brew Works North Events
ATTACH;FMTTYPE=image/png:https://wilmingtonbrewworks.com/wp-content/uploads/2025/10/BWN-Magic-the-GatheringEvent.png
END:VEVENT
BEGIN:VEVENT
DTSTART;TZID=America/New_York:20260709T183000
DTEND;TZID=America/New_York:20260709T213000
DTSTAMP:20260421T060746
CREATED:20260205T001622Z
LAST-MODIFIED:20260205T001622Z
UID:10004454-1783621800-1783632600@wilmingtonbrewworks.com
SUMMARY:Heyday Athletic Cornhole League
DESCRIPTION:Thursday Night Cornhole League run by Heyday Athletic. \nRegister at Heyday Athletic.
URL:https://wilmingtonbrewworks.com/event/heyday-athletic-cornhole-league/2026-07-09/
LOCATION:Brew Works North\, 1851 Marsh Rd\, Wilmington\, DE\, 19810\, United States
CATEGORIES:Brew Works North Events
ATTACH;FMTTYPE=image/jpeg:https://wilmingtonbrewworks.com/wp-content/uploads/2026/02/f72d1c9eaed7226ae6ca0e62111d2a9b.jpg
END:VEVENT
BEGIN:VEVENT
DTSTART;TZID=America/New_York:20260716T183000
DTEND;TZID=America/New_York:20260716T213000
DTSTAMP:20260421T060746
CREATED:20260205T001622Z
LAST-MODIFIED:20260205T001622Z
UID:10004455-1784226600-1784237400@wilmingtonbrewworks.com
SUMMARY:Heyday Athletic Cornhole League
DESCRIPTION:Thursday Night Cornhole League run by Heyday Athletic. \nRegister at Heyday Athletic.
URL:https://wilmingtonbrewworks.com/event/heyday-athletic-cornhole-league/2026-07-16/
LOCATION:Brew Works North\, 1851 Marsh Rd\, Wilmington\, DE\, 19810\, United States
CATEGORIES:Brew Works North Events
ATTACH;FMTTYPE=image/jpeg:https://wilmingtonbrewworks.com/wp-content/uploads/2026/02/f72d1c9eaed7226ae6ca0e62111d2a9b.jpg
END:VEVENT
BEGIN:VEVENT
DTSTART;TZID=America/New_York:20260720T180000
DTEND;TZID=America/New_York:20260720T220000
DTSTAMP:20260421T060746
CREATED:20260402T020500Z
LAST-MODIFIED:20260402T021030Z
UID:10004556-1784570400-1784584800@wilmingtonbrewworks.com
SUMMARY:Magic the Gathering Open Play @ BWN
DESCRIPTION:Join us for an Open Play Magic the Gathering night at Brew Works North on the 1st and 3rd Monday of every month! 6pm-10pm\n\nThere’s no charge to play\, and all skill levels are welcome for casual games. You can play Commander\, Modern\, or even Two-Headed Giant.\n\nAs a special offer\, all participating players will receive 10% off all draughts. It’s a great opportunity to meet other players and grow your pods!
URL:https://wilmingtonbrewworks.com/event/magic-the-gathering-open-play-bwn-4/2026-07-20/
LOCATION:Brew Works North\, 1851 Marsh Rd\, Wilmington\, DE\, 19810\, United States
CATEGORIES:Brew Works North Events
ATTACH;FMTTYPE=image/png:https://wilmingtonbrewworks.com/wp-content/uploads/2025/10/BWN-Magic-the-GatheringEvent.png
END:VEVENT
BEGIN:VEVENT
DTSTART;TZID=America/New_York:20260723T183000
DTEND;TZID=America/New_York:20260723T213000
DTSTAMP:20260421T060746
CREATED:20260205T001622Z
LAST-MODIFIED:20260205T001622Z
UID:10004456-1784831400-1784842200@wilmingtonbrewworks.com
SUMMARY:Heyday Athletic Cornhole League
DESCRIPTION:Thursday Night Cornhole League run by Heyday Athletic. \nRegister at Heyday Athletic.
URL:https://wilmingtonbrewworks.com/event/heyday-athletic-cornhole-league/2026-07-23/
LOCATION:Brew Works North\, 1851 Marsh Rd\, Wilmington\, DE\, 19810\, United States
CATEGORIES:Brew Works North Events
ATTACH;FMTTYPE=image/jpeg:https://wilmingtonbrewworks.com/wp-content/uploads/2026/02/f72d1c9eaed7226ae6ca0e62111d2a9b.jpg
END:VEVENT
BEGIN:VEVENT
DTSTART;TZID=America/New_York:20260728T173000
DTEND;TZID=America/New_York:20260728T220000
DTSTAMP:20260421T060746
CREATED:20251211T224440Z
LAST-MODIFIED:20251211T224441Z
UID:10004063-1785259800-1785276000@wilmingtonbrewworks.com
SUMMARY:Board Game Social (BWN)
DESCRIPTION:Wilmington Board Game Social! Play games\, drink beers\, and make new friends!\n$5 cover gets you:. Access to a library of games! (or bring your own!). We can teach you how to play\, and walk you through your first game!\n\n\nBoard game nights the fourth Tuesday of every month at Brew Works North!\n\n\n\nOpen your table up to new players and meet new friends! It’s the monthly board game social you’ve been looking for!
URL:https://wilmingtonbrewworks.com/event/board-game-social-bwn/2026-07-28/
LOCATION:Brew Works North\, 1851 Marsh Rd\, Wilmington\, DE\, 19810\, United States
CATEGORIES:Brew Works North Events
ATTACH;FMTTYPE=image/webp:https://wilmingtonbrewworks.com/wp-content/uploads/2025/12/wavelength-landscape-north.webp
END:VEVENT
BEGIN:VEVENT
DTSTART;TZID=America/New_York:20260730T183000
DTEND;TZID=America/New_York:20260730T213000
DTSTAMP:20260421T060746
CREATED:20260205T001622Z
LAST-MODIFIED:20260205T001622Z
UID:10004457-1785436200-1785447000@wilmingtonbrewworks.com
SUMMARY:Heyday Athletic Cornhole League
DESCRIPTION:Thursday Night Cornhole League run by Heyday Athletic. \nRegister at Heyday Athletic.
URL:https://wilmingtonbrewworks.com/event/heyday-athletic-cornhole-league/2026-07-30/
LOCATION:Brew Works North\, 1851 Marsh Rd\, Wilmington\, DE\, 19810\, United States
CATEGORIES:Brew Works North Events
ATTACH;FMTTYPE=image/jpeg:https://wilmingtonbrewworks.com/wp-content/uploads/2026/02/f72d1c9eaed7226ae6ca0e62111d2a9b.jpg
END:VEVENT
BEGIN:VEVENT
DTSTART;TZID=America/New_York:20260803T180000
DTEND;TZID=America/New_York:20260803T220000
DTSTAMP:20260421T060746
CREATED:20260402T020402Z
LAST-MODIFIED:20260402T020913Z
UID:10004076-1785780000-1785794400@wilmingtonbrewworks.com
SUMMARY:Magic the Gathering Open Play @ BWN
DESCRIPTION:Join us for an Open Play Magic the Gathering night at Brew Works North on the 1st and 3rd Monday of every month! 6pm-10pm\n\nThere’s no charge to play\, and all skill levels are welcome for casual games. You can play Commander\, Modern\, or even Two-Headed Giant.\n\nAs a special offer\, all participating players will receive 10% off all draughts. It’s a great opportunity to meet other players and grow your pods!
URL:https://wilmingtonbrewworks.com/event/magic-the-gathering-open-play-bwn-3-2/2026-08-03/
LOCATION:Brew Works North\, 1851 Marsh Rd\, Wilmington\, DE\, 19810\, United States
CATEGORIES:Brew Works North Events
ATTACH;FMTTYPE=image/png:https://wilmingtonbrewworks.com/wp-content/uploads/2025/10/BWN-Magic-the-GatheringEvent.png
END:VEVENT
BEGIN:VEVENT
DTSTART;TZID=America/New_York:20260806T183000
DTEND;TZID=America/New_York:20260806T213000
DTSTAMP:20260421T060746
CREATED:20260205T001622Z
LAST-MODIFIED:20260205T001622Z
UID:10004458-1786041000-1786051800@wilmingtonbrewworks.com
SUMMARY:Heyday Athletic Cornhole League
DESCRIPTION:Thursday Night Cornhole League run by Heyday Athletic. \nRegister at Heyday Athletic.
URL:https://wilmingtonbrewworks.com/event/heyday-athletic-cornhole-league/2026-08-06/
LOCATION:Brew Works North\, 1851 Marsh Rd\, Wilmington\, DE\, 19810\, United States
CATEGORIES:Brew Works North Events
ATTACH;FMTTYPE=image/jpeg:https://wilmingtonbrewworks.com/wp-content/uploads/2026/02/f72d1c9eaed7226ae6ca0e62111d2a9b.jpg
END:VEVENT
BEGIN:VEVENT
DTSTART;TZID=America/New_York:20260813T183000
DTEND;TZID=America/New_York:20260813T213000
DTSTAMP:20260421T060746
CREATED:20260205T001622Z
LAST-MODIFIED:20260205T001622Z
UID:10004459-1786645800-1786656600@wilmingtonbrewworks.com
SUMMARY:Heyday Athletic Cornhole League
DESCRIPTION:Thursday Night Cornhole League run by Heyday Athletic. \nRegister at Heyday Athletic.
URL:https://wilmingtonbrewworks.com/event/heyday-athletic-cornhole-league/2026-08-13/
LOCATION:Brew Works North\, 1851 Marsh Rd\, Wilmington\, DE\, 19810\, United States
CATEGORIES:Brew Works North Events
ATTACH;FMTTYPE=image/jpeg:https://wilmingtonbrewworks.com/wp-content/uploads/2026/02/f72d1c9eaed7226ae6ca0e62111d2a9b.jpg
END:VEVENT
BEGIN:VEVENT
DTSTART;TZID=America/New_York:20260817T180000
DTEND;TZID=America/New_York:20260817T220000
DTSTAMP:20260421T060746
CREATED:20260402T020500Z
LAST-MODIFIED:20260402T021030Z
UID:10004557-1786989600-1787004000@wilmingtonbrewworks.com
SUMMARY:Magic the Gathering Open Play @ BWN
DESCRIPTION:Join us for an Open Play Magic the Gathering night at Brew Works North on the 1st and 3rd Monday of every month! 6pm-10pm\n\nThere’s no charge to play\, and all skill levels are welcome for casual games. You can play Commander\, Modern\, or even Two-Headed Giant.\n\nAs a special offer\, all participating players will receive 10% off all draughts. It’s a great opportunity to meet other players and grow your pods!
URL:https://wilmingtonbrewworks.com/event/magic-the-gathering-open-play-bwn-4/2026-08-17/
LOCATION:Brew Works North\, 1851 Marsh Rd\, Wilmington\, DE\, 19810\, United States
CATEGORIES:Brew Works North Events
ATTACH;FMTTYPE=image/png:https://wilmingtonbrewworks.com/wp-content/uploads/2025/10/BWN-Magic-the-GatheringEvent.png
END:VEVENT
END:VCALENDAR