BEGIN:VCALENDAR
VERSION:2.0
PRODID:-//Wilmington Brew Works - ECPv6.15.20//NONSGML v1.0//EN
CALSCALE:GREGORIAN
METHOD:PUBLISH
X-WR-CALNAME:Wilmington Brew Works
X-ORIGINAL-URL:https://wilmingtonbrewworks.com
X-WR-CALDESC:Events for Wilmington Brew Works
REFRESH-INTERVAL;VALUE=DURATION:PT1H
X-Robots-Tag:noindex
X-PUBLISHED-TTL:PT1H
BEGIN:VTIMEZONE
TZID:America/New_York
BEGIN:DAYLIGHT
TZOFFSETFROM:-0500
TZOFFSETTO:-0400
TZNAME:EDT
DTSTART:20250309T070000
END:DAYLIGHT
BEGIN:STANDARD
TZOFFSETFROM:-0400
TZOFFSETTO:-0500
TZNAME:EST
DTSTART:20251102T060000
END:STANDARD
BEGIN:DAYLIGHT
TZOFFSETFROM:-0500
TZOFFSETTO:-0400
TZNAME:EDT
DTSTART:20260308T070000
END:DAYLIGHT
BEGIN:STANDARD
TZOFFSETFROM:-0400
TZOFFSETTO:-0500
TZNAME:EST
DTSTART:20261101T060000
END:STANDARD
BEGIN:DAYLIGHT
TZOFFSETFROM:-0500
TZOFFSETTO:-0400
TZNAME:EDT
DTSTART:20270314T070000
END:DAYLIGHT
BEGIN:STANDARD
TZOFFSETFROM:-0400
TZOFFSETTO:-0500
TZNAME:EST
DTSTART:20271107T060000
END:STANDARD
END:VTIMEZONE
BEGIN:VEVENT
DTSTART;TZID=America/New_York:20260327T170000
DTEND;TZID=America/New_York:20260327T200000
DTSTAMP:20260421T090126
CREATED:20260310T003314Z
LAST-MODIFIED:20260310T003636Z
UID:10004534-1774630800-1774641600@wilmingtonbrewworks.com
SUMMARY:Dark Star BBQ - Pop-Up
DESCRIPTION:Mark and his Texas Style Craft BBQ setting up at Brew Works North!
URL:https://wilmingtonbrewworks.com/event/dark-star-bbq-pop-up-3/2026-03-27/
LOCATION:Brew Works North\, 1851 Marsh Rd\, Wilmington\, DE\, 19810\, United States
CATEGORIES:Brew Works North Events,Food Truck
ATTACH;FMTTYPE=image/png:https://wilmingtonbrewworks.com/wp-content/uploads/2026/01/BWN-Dark-Star-Pop-UpEvent.png
END:VEVENT
BEGIN:VEVENT
DTSTART;TZID=America/New_York:20260326T183000
DTEND;TZID=America/New_York:20260326T213000
DTSTAMP:20260421T090126
CREATED:20260205T001622Z
LAST-MODIFIED:20260205T001622Z
UID:10004439-1774549800-1774560600@wilmingtonbrewworks.com
SUMMARY:Heyday Athletic Cornhole League
DESCRIPTION:Thursday Night Cornhole League run by Heyday Athletic. \nRegister at Heyday Athletic.
URL:https://wilmingtonbrewworks.com/event/heyday-athletic-cornhole-league/2026-03-26/
LOCATION:Brew Works North\, 1851 Marsh Rd\, Wilmington\, DE\, 19810\, United States
CATEGORIES:Brew Works North Events
ATTACH;FMTTYPE=image/jpeg:https://wilmingtonbrewworks.com/wp-content/uploads/2026/02/f72d1c9eaed7226ae6ca0e62111d2a9b.jpg
END:VEVENT
BEGIN:VEVENT
DTSTART;TZID=America/New_York:20260324T173000
DTEND;TZID=America/New_York:20260324T220000
DTSTAMP:20260421T090126
CREATED:20251211T224440Z
LAST-MODIFIED:20251211T224441Z
UID:10004059-1774373400-1774389600@wilmingtonbrewworks.com
SUMMARY:Board Game Social (BWN)
DESCRIPTION:Wilmington Board Game Social! Play games\, drink beers\, and make new friends!\n$5 cover gets you:. Access to a library of games! (or bring your own!). We can teach you how to play\, and walk you through your first game!\n\n\nBoard game nights the fourth Tuesday of every month at Brew Works North!\n\n\n\nOpen your table up to new players and meet new friends! It’s the monthly board game social you’ve been looking for!
URL:https://wilmingtonbrewworks.com/event/board-game-social-bwn/2026-03-24/
LOCATION:Brew Works North\, 1851 Marsh Rd\, Wilmington\, DE\, 19810\, United States
CATEGORIES:Brew Works North Events
ATTACH;FMTTYPE=image/webp:https://wilmingtonbrewworks.com/wp-content/uploads/2025/12/wavelength-landscape-north.webp
END:VEVENT
BEGIN:VEVENT
DTSTART;TZID=America/New_York:20260321T120000
DTEND;TZID=America/New_York:20260321T160000
DTSTAMP:20260421T090126
CREATED:20260310T003314Z
LAST-MODIFIED:20260310T003636Z
UID:10004533-1774094400-1774108800@wilmingtonbrewworks.com
SUMMARY:Dark Star BBQ - Pop-Up
DESCRIPTION:Mark and his Texas Style Craft BBQ setting up at Brew Works North!
URL:https://wilmingtonbrewworks.com/event/dark-star-bbq-pop-up-3/2026-03-21/
LOCATION:Brew Works North\, 1851 Marsh Rd\, Wilmington\, DE\, 19810\, United States
CATEGORIES:Brew Works North Events,Food Truck
ATTACH;FMTTYPE=image/png:https://wilmingtonbrewworks.com/wp-content/uploads/2026/01/BWN-Dark-Star-Pop-UpEvent.png
END:VEVENT
BEGIN:VEVENT
DTSTART;TZID=America/New_York:20260320T120000
DTEND;TZID=America/New_York:20260320T180000
DTSTAMP:20260421T090126
CREATED:20260316T220220Z
LAST-MODIFIED:20260316T220313Z
UID:10004538-1774008000-1774029600@wilmingtonbrewworks.com
SUMMARY:March Madness at Brew Works North!
DESCRIPTION:It’s March Madness! Play Hooky with us at BREW WORKS NORTH! \nWe’re opening at NOON on Thursday and Friday for all the First Round Games! \nSPECIALS NOON – 6PM THURSDAY & FRIDAY \n\n$2 off all Full Size Draught Beer & Cider: Noon until 6pm.\nFree Peanuts on Request\n\nNOTE: Wilmington Brew Works Miller Road is CLOSED on Thursday March 19th. \n**Blue Hen BBQ Food Truck on Site Friday at 5pm!**
URL:https://wilmingtonbrewworks.com/event/march-madness-at-brew-works-north/2026-03-20/
LOCATION:DE
CATEGORIES:Brew Works North Events
ATTACH;FMTTYPE=image/png:https://wilmingtonbrewworks.com/wp-content/uploads/2026/03/BWN-March-Madness-2026Event.png
END:VEVENT
BEGIN:VEVENT
DTSTART;TZID=America/New_York:20260319T183000
DTEND;TZID=America/New_York:20260319T213000
DTSTAMP:20260421T090126
CREATED:20260205T001622Z
LAST-MODIFIED:20260205T001622Z
UID:10004438-1773945000-1773955800@wilmingtonbrewworks.com
SUMMARY:Heyday Athletic Cornhole League
DESCRIPTION:Thursday Night Cornhole League run by Heyday Athletic. \nRegister at Heyday Athletic.
URL:https://wilmingtonbrewworks.com/event/heyday-athletic-cornhole-league/2026-03-19/
LOCATION:Brew Works North\, 1851 Marsh Rd\, Wilmington\, DE\, 19810\, United States
CATEGORIES:Brew Works North Events
ATTACH;FMTTYPE=image/jpeg:https://wilmingtonbrewworks.com/wp-content/uploads/2026/02/f72d1c9eaed7226ae6ca0e62111d2a9b.jpg
END:VEVENT
BEGIN:VEVENT
DTSTART;TZID=America/New_York:20260319T180000
DTEND;TZID=America/New_York:20260319T193000
DTSTAMP:20260421T090126
CREATED:20260306T135717Z
LAST-MODIFIED:20260306T215052Z
UID:10004521-1773943200-1773948600@wilmingtonbrewworks.com
SUMMARY:Run Club *** AT BREW WORKS NORTH THIS WEEK
DESCRIPTION:Due to WBW Special Event\, Run Club will be at Brew Works North this week. Cheers!\n—–\nWBW has teamed up with Omega Project PT for a weekly Run Club. Come on out for an Active Evening!\n\n– Thursday Nights at 6pm. Start and finish at the taproom.\n– 3 Mile Run Loop or 1 Mile Walk Loop from Taproom\n– All Runners and Walkers of any skill level welcome!\n– No membership required\n\nHang out and Socialize afterwards! 15% off post-run Beer and Cider!
URL:https://wilmingtonbrewworks.com/event/run-club-w-omega-project-3/
LOCATION:Brew Works North\, 1851 Marsh Rd\, Wilmington\, DE\, 19810\, United States
CATEGORIES:Brew Works North Events
ATTACH;FMTTYPE=image/png:https://wilmingtonbrewworks.com/wp-content/uploads/2024/01/runClub2024TV2.png
END:VEVENT
BEGIN:VEVENT
DTSTART;TZID=America/New_York:20260319T120000
DTEND;TZID=America/New_York:20260319T180000
DTSTAMP:20260421T090126
CREATED:20260316T220220Z
LAST-MODIFIED:20260316T220313Z
UID:10004537-1773921600-1773943200@wilmingtonbrewworks.com
SUMMARY:March Madness at Brew Works North!
DESCRIPTION:It’s March Madness! Play Hooky with us at BREW WORKS NORTH! \nWe’re opening at NOON on Thursday and Friday for all the First Round Games! \nSPECIALS NOON – 6PM THURSDAY & FRIDAY \n\n$2 off all Full Size Draught Beer & Cider: Noon until 6pm.\nFree Peanuts on Request\n\nNOTE: Wilmington Brew Works Miller Road is CLOSED on Thursday March 19th. \n**Blue Hen BBQ Food Truck on Site Friday at 5pm!**
URL:https://wilmingtonbrewworks.com/event/march-madness-at-brew-works-north/2026-03-19/
LOCATION:DE
CATEGORIES:Brew Works North Events
ATTACH;FMTTYPE=image/png:https://wilmingtonbrewworks.com/wp-content/uploads/2026/03/BWN-March-Madness-2026Event.png
END:VEVENT
BEGIN:VEVENT
DTSTART;TZID=America/New_York:20260314T153000
DTEND;TZID=America/New_York:20260314T180000
DTSTAMP:20260421T090126
CREATED:20260310T003314Z
LAST-MODIFIED:20260310T003636Z
UID:10004532-1773502200-1773511200@wilmingtonbrewworks.com
SUMMARY:Dark Star BBQ - Pop-Up
DESCRIPTION:Mark and his Texas Style Craft BBQ setting up at Brew Works North!
URL:https://wilmingtonbrewworks.com/event/dark-star-bbq-pop-up-3/2026-03-14/
LOCATION:Brew Works North\, 1851 Marsh Rd\, Wilmington\, DE\, 19810\, United States
CATEGORIES:Brew Works North Events,Food Truck
ATTACH;FMTTYPE=image/png:https://wilmingtonbrewworks.com/wp-content/uploads/2026/01/BWN-Dark-Star-Pop-UpEvent.png
END:VEVENT
BEGIN:VEVENT
DTSTART;TZID=America/New_York:20260313T200000
DTEND;TZID=America/New_York:20260313T220000
DTSTAMP:20260421T090126
CREATED:20260312T013420Z
LAST-MODIFIED:20260312T013421Z
UID:10004536-1773432000-1773439200@wilmingtonbrewworks.com
SUMMARY:DJ 3dB at Brew Works North
DESCRIPTION:DJ 3dB dropping beats all night.
URL:https://wilmingtonbrewworks.com/event/dj-3db-at-brew-works-north/
LOCATION:Brew Works North\, 1851 Marsh Rd\, Wilmington\, DE\, 19810\, United States
CATEGORIES:Brew Works North Events
ATTACH;FMTTYPE=image/png:https://wilmingtonbrewworks.com/wp-content/uploads/2026/03/3dbatnorthevent.png
END:VEVENT
BEGIN:VEVENT
DTSTART;TZID=America/New_York:20260313T190000
DTEND;TZID=America/New_York:20260313T200000
DTSTAMP:20260421T090126
CREATED:20260302T233358Z
LAST-MODIFIED:20260302T233358Z
UID:10004498-1773428400-1773432000@wilmingtonbrewworks.com
SUMMARY:Irish Step Dance Performance at Brew Works North
DESCRIPTION:Come Kick Off St. Patrick’s Day Weekend with us as we welcome the Irish Step Dancers from the Harper-Kirk Academy!\n\nBrew Works North will be Family Friendly this Friday until 8pm!
URL:https://wilmingtonbrewworks.com/event/irish-step-dance-performance-at-brew-works-north/
LOCATION:Brew Works North\, 1851 Marsh Rd\, Wilmington\, DE\, 19810\, United States
CATEGORIES:Brew Works North Events
ATTACH;FMTTYPE=image/png:https://wilmingtonbrewworks.com/wp-content/uploads/2026/03/Irish-Dancers-2026BWN-Event.png
END:VEVENT
BEGIN:VEVENT
DTSTART;TZID=America/New_York:20260312T190000
DTEND;TZID=America/New_York:20260312T220000
DTSTAMP:20260421T090126
CREATED:20260106T011548Z
LAST-MODIFIED:20260106T011740Z
UID:10004221-1773342000-1773352800@wilmingtonbrewworks.com
SUMMARY:Winter Dart League at BWN
DESCRIPTION:Regular Dart League at Brew Works North!\n\nFor information email ryan(at)wilmingtonbrewworks.com
URL:https://wilmingtonbrewworks.com/event/winter-dart-league-at-bwn/2026-03-12/
LOCATION:Brew Works North\, 1851 Marsh Rd\, Wilmington\, DE\, 19810\, United States
CATEGORIES:Brew Works North Events
ATTACH;FMTTYPE=image/png:https://wilmingtonbrewworks.com/wp-content/uploads/2026/01/Dart-League-Event.png
END:VEVENT
BEGIN:VEVENT
DTSTART;TZID=America/New_York:20260312T183000
DTEND;TZID=America/New_York:20260312T213000
DTSTAMP:20260421T090126
CREATED:20260205T001622Z
LAST-MODIFIED:20260205T001622Z
UID:10004437-1773340200-1773351000@wilmingtonbrewworks.com
SUMMARY:Heyday Athletic Cornhole League
DESCRIPTION:Thursday Night Cornhole League run by Heyday Athletic. \nRegister at Heyday Athletic.
URL:https://wilmingtonbrewworks.com/event/heyday-athletic-cornhole-league/2026-03-12/
LOCATION:Brew Works North\, 1851 Marsh Rd\, Wilmington\, DE\, 19810\, United States
CATEGORIES:Brew Works North Events
ATTACH;FMTTYPE=image/jpeg:https://wilmingtonbrewworks.com/wp-content/uploads/2026/02/f72d1c9eaed7226ae6ca0e62111d2a9b.jpg
END:VEVENT
BEGIN:VEVENT
DTSTART;TZID=America/New_York:20260305T190000
DTEND;TZID=America/New_York:20260305T220000
DTSTAMP:20260421T090126
CREATED:20260106T011548Z
LAST-MODIFIED:20260106T011740Z
UID:10004220-1772737200-1772748000@wilmingtonbrewworks.com
SUMMARY:Winter Dart League at BWN
DESCRIPTION:Regular Dart League at Brew Works North!\n\nFor information email ryan(at)wilmingtonbrewworks.com
URL:https://wilmingtonbrewworks.com/event/winter-dart-league-at-bwn/2026-03-05/
LOCATION:Brew Works North\, 1851 Marsh Rd\, Wilmington\, DE\, 19810\, United States
CATEGORIES:Brew Works North Events
ATTACH;FMTTYPE=image/png:https://wilmingtonbrewworks.com/wp-content/uploads/2026/01/Dart-League-Event.png
END:VEVENT
BEGIN:VEVENT
DTSTART;TZID=America/New_York:20260305T183000
DTEND;TZID=America/New_York:20260305T213000
DTSTAMP:20260421T090126
CREATED:20260205T001622Z
LAST-MODIFIED:20260205T001622Z
UID:10004436-1772735400-1772746200@wilmingtonbrewworks.com
SUMMARY:Heyday Athletic Cornhole League
DESCRIPTION:Thursday Night Cornhole League run by Heyday Athletic. \nRegister at Heyday Athletic.
URL:https://wilmingtonbrewworks.com/event/heyday-athletic-cornhole-league/2026-03-05/
LOCATION:Brew Works North\, 1851 Marsh Rd\, Wilmington\, DE\, 19810\, United States
CATEGORIES:Brew Works North Events
ATTACH;FMTTYPE=image/jpeg:https://wilmingtonbrewworks.com/wp-content/uploads/2026/02/f72d1c9eaed7226ae6ca0e62111d2a9b.jpg
END:VEVENT
BEGIN:VEVENT
DTSTART;TZID=America/New_York:20260302T180000
DTEND;TZID=America/New_York:20260302T220000
DTSTAMP:20260421T090126
CREATED:20251211T223809Z
LAST-MODIFIED:20251230T002607Z
UID:10004071-1772474400-1772488800@wilmingtonbrewworks.com
SUMMARY:Magic the Gathering Open Play @ BWN
DESCRIPTION:Join us for an Open Play Magic the Gathering night at Wilmington Brew Works on Monday\, November 3rd! 6pm-10pm\n\nThere’s no charge to play\, and all skill levels are welcome for casual games. You can play Commander\, Modern\, or even Two-Headed Giant.\n\nAs a special offer\, all participating players will receive 10% off all draughts. It’s a great opportunity to meet other players and grow your pods!\n\nHappening at Brew Works North the first Monday of every Month!
URL:https://wilmingtonbrewworks.com/event/magic-the-gathering-open-play-bwn-3/2026-03-02/
LOCATION:Brew Works North\, 1851 Marsh Rd\, Wilmington\, DE\, 19810\, United States
CATEGORIES:Brew Works North Events
ATTACH;FMTTYPE=image/png:https://wilmingtonbrewworks.com/wp-content/uploads/2025/10/BWN-Magic-the-GatheringEvent.png
END:VEVENT
BEGIN:VEVENT
DTSTART;TZID=America/New_York:20260226T190000
DTEND;TZID=America/New_York:20260226T220000
DTSTAMP:20260421T090126
CREATED:20260106T011548Z
LAST-MODIFIED:20260106T011740Z
UID:10004219-1772132400-1772143200@wilmingtonbrewworks.com
SUMMARY:Winter Dart League at BWN
DESCRIPTION:Regular Dart League at Brew Works North!\n\nFor information email ryan(at)wilmingtonbrewworks.com
URL:https://wilmingtonbrewworks.com/event/winter-dart-league-at-bwn/2026-02-26/
LOCATION:Brew Works North\, 1851 Marsh Rd\, Wilmington\, DE\, 19810\, United States
CATEGORIES:Brew Works North Events
ATTACH;FMTTYPE=image/png:https://wilmingtonbrewworks.com/wp-content/uploads/2026/01/Dart-League-Event.png
END:VEVENT
BEGIN:VEVENT
DTSTART;TZID=America/New_York:20260226T183000
DTEND;TZID=America/New_York:20260226T213000
DTSTAMP:20260421T090126
CREATED:20260205T001622Z
LAST-MODIFIED:20260205T001622Z
UID:10004435-1772130600-1772141400@wilmingtonbrewworks.com
SUMMARY:Heyday Athletic Cornhole League
DESCRIPTION:Thursday Night Cornhole League run by Heyday Athletic. \nRegister at Heyday Athletic.
URL:https://wilmingtonbrewworks.com/event/heyday-athletic-cornhole-league/2026-02-26/
LOCATION:Brew Works North\, 1851 Marsh Rd\, Wilmington\, DE\, 19810\, United States
CATEGORIES:Brew Works North Events
ATTACH;FMTTYPE=image/jpeg:https://wilmingtonbrewworks.com/wp-content/uploads/2026/02/f72d1c9eaed7226ae6ca0e62111d2a9b.jpg
END:VEVENT
BEGIN:VEVENT
DTSTART;TZID=America/New_York:20260224T173000
DTEND;TZID=America/New_York:20260224T220000
DTSTAMP:20260421T090126
CREATED:20251211T224440Z
LAST-MODIFIED:20251211T224441Z
UID:10004058-1771954200-1771970400@wilmingtonbrewworks.com
SUMMARY:Board Game Social (BWN)
DESCRIPTION:Wilmington Board Game Social! Play games\, drink beers\, and make new friends!\n$5 cover gets you:. Access to a library of games! (or bring your own!). We can teach you how to play\, and walk you through your first game!\n\n\nBoard game nights the fourth Tuesday of every month at Brew Works North!\n\n\n\nOpen your table up to new players and meet new friends! It’s the monthly board game social you’ve been looking for!
URL:https://wilmingtonbrewworks.com/event/board-game-social-bwn/2026-02-24/
LOCATION:Brew Works North\, 1851 Marsh Rd\, Wilmington\, DE\, 19810\, United States
CATEGORIES:Brew Works North Events
ATTACH;FMTTYPE=image/webp:https://wilmingtonbrewworks.com/wp-content/uploads/2025/12/wavelength-landscape-north.webp
END:VEVENT
BEGIN:VEVENT
DTSTART;TZID=America/New_York:20260220T190000
DTEND;TZID=America/New_York:20260220T220000
DTSTAMP:20260421T090126
CREATED:20260119T194454Z
LAST-MODIFIED:20260119T195106Z
UID:10004300-1771614000-1771624800@wilmingtonbrewworks.com
SUMMARY:Wilmington Beer Week Bullseye Bout - An Open Darts Tournament!
DESCRIPTION:Come out to Brew Works North for an Open Darts Tournament on Feb 20!\nGames start at 7pm\, Come at 6:30 for practice rounds and seeding. \nDETAILS:\nBrackets \n\nTwo! Casual and Competitive\nIf you play darts\, hit up the competitive bracket. If it’s your first time\, or learning to play\, join the casual bracket. This is about fun more than anything else\n\nTeam Size \n\nSolo Teams Only\n\nFormat \n\nDouble Elimination Tournament\n\n12 Rounds per match.\n3 Darts per shooter\, per round.\n\n\nScoring: 3 Points in the Red\, 1 Point in the Green.\nHighest Score after 12 rounds wins.\nEach bracket capped at 12 throwers.\n\nFees \n\n$5 registration fee.\nDrink Specials for players\nPrizes for winners\n\nREGISTER ABOVE OR AT BREW WORKS NORTH \n 
URL:https://wilmingtonbrewworks.com/event/wilmington-beer-week-bullseye-bout-an-open-darts-tournament/
LOCATION:Brew Works North\, 1851 Marsh Rd\, Wilmington\, DE\, 19810\, United States
CATEGORIES:Brew Works North Events,Ticketed Events
ATTACH;FMTTYPE=image/png:https://wilmingtonbrewworks.com/wp-content/uploads/2026/01/Beer-Week-Bullseye-BoutEvent.png
END:VEVENT
BEGIN:VEVENT
DTSTART;TZID=America/New_York:20260220T170000
DTEND;TZID=America/New_York:20260220T220000
DTSTAMP:20260421T090126
CREATED:20260204T215554Z
LAST-MODIFIED:20260204T221538Z
UID:10004425-1771606800-1771624800@wilmingtonbrewworks.com
SUMMARY:Wilmington Beer Week! Friday at Brew Works North!
DESCRIPTION:Friday Night at Brew Works North: \n\nBlue Hen BBQ Food Truck on site!\nThe Bullseye Bout! An Open Darts Tournament where we’re just shooting for bullseye! All skill levels welcome! (including “uh\, I’ve never thrown a dart before”) Register for only $5!
URL:https://wilmingtonbrewworks.com/event/wilmington-beer-week-thursday-at-brew-works-north/
LOCATION:Brew Works North\, 1851 Marsh Rd\, Wilmington\, DE\, 19810\, United States
CATEGORIES:Brew Works North Events,Taproom Events
ATTACH;FMTTYPE=image/png:https://wilmingtonbrewworks.com/wp-content/uploads/2026/02/Beer-WeekBWN-Fri.png
END:VEVENT
BEGIN:VEVENT
DTSTART;TZID=America/New_York:20260219T190000
DTEND;TZID=America/New_York:20260219T220000
DTSTAMP:20260421T090126
CREATED:20260106T011548Z
LAST-MODIFIED:20260106T011740Z
UID:10004218-1771527600-1771538400@wilmingtonbrewworks.com
SUMMARY:Winter Dart League at BWN
DESCRIPTION:Regular Dart League at Brew Works North!\n\nFor information email ryan(at)wilmingtonbrewworks.com
URL:https://wilmingtonbrewworks.com/event/winter-dart-league-at-bwn/2026-02-19/
LOCATION:Brew Works North\, 1851 Marsh Rd\, Wilmington\, DE\, 19810\, United States
CATEGORIES:Brew Works North Events
ATTACH;FMTTYPE=image/png:https://wilmingtonbrewworks.com/wp-content/uploads/2026/01/Dart-League-Event.png
END:VEVENT
BEGIN:VEVENT
DTSTART;TZID=America/New_York:20260219T183000
DTEND;TZID=America/New_York:20260219T213000
DTSTAMP:20260421T090126
CREATED:20260205T001622Z
LAST-MODIFIED:20260205T001622Z
UID:10004434-1771525800-1771536600@wilmingtonbrewworks.com
SUMMARY:Heyday Athletic Cornhole League
DESCRIPTION:Thursday Night Cornhole League run by Heyday Athletic. \nRegister at Heyday Athletic.
URL:https://wilmingtonbrewworks.com/event/heyday-athletic-cornhole-league/2026-02-19/
LOCATION:Brew Works North\, 1851 Marsh Rd\, Wilmington\, DE\, 19810\, United States
CATEGORIES:Brew Works North Events
ATTACH;FMTTYPE=image/jpeg:https://wilmingtonbrewworks.com/wp-content/uploads/2026/02/f72d1c9eaed7226ae6ca0e62111d2a9b.jpg
END:VEVENT
BEGIN:VEVENT
DTSTART;TZID=America/New_York:20260219T180000
DTEND;TZID=America/New_York:20260219T220000
DTSTAMP:20260421T090126
CREATED:20260204T222826Z
LAST-MODIFIED:20260204T222826Z
UID:10004427-1771524000-1771538400@wilmingtonbrewworks.com
SUMMARY:Wilmington Beer Week! Thursday at Brew Works North!
DESCRIPTION:Thursday Night at Brew Works North: \n\nWe have a Pin Keg of Experimental Station #16. An Imperial West Coast IPA Served on the hand pump! Tapping at 6pm!
URL:https://wilmingtonbrewworks.com/event/wilmington-beer-week-thursday-at-brew-works-north-2/
LOCATION:Brew Works North\, 1851 Marsh Rd\, Wilmington\, DE\, 19810\, United States
CATEGORIES:Brew Works North Events,Taproom Events
ATTACH;FMTTYPE=image/png:https://wilmingtonbrewworks.com/wp-content/uploads/2026/02/Beer-WeekBWN-Thu.png
END:VEVENT
BEGIN:VEVENT
DTSTART;TZID=America/New_York:20260219T150000
DTEND;TZID=America/New_York:20260219T220000
DTSTAMP:20260421T090126
CREATED:20260204T223158Z
LAST-MODIFIED:20260204T231225Z
UID:10004428-1771513200-1771538400@wilmingtonbrewworks.com
SUMMARY:Wilmington Beer Week! Thursday at Wilmington Brew Works!
DESCRIPTION:Thursday Night at Wilmington Brew Works: \n\nWe have a Firkin Keg of Experimental Station #16. An Imperial West Coast IPA Served on the hand pump! Tapping at 6pm!\nJoin the WBW x Omega Project Run Club for a 3 mile run (or 1 mile walk!) – all skill levels and paces welcome!\nBrew Better Werk! Join Jolene Cuisine and Friends for Drag Bingo in the Alamo Room!
URL:https://wilmingtonbrewworks.com/event/wilmington-beer-week-thursday-at-wilmington-brew-works/
LOCATION:Wilmington Brew Works\, 3129 Miller Road\, Wilmington\, DE\, 19802\, United States
CATEGORIES:Brew Works North Events,Taproom Events
ATTACH;FMTTYPE=image/png:https://wilmingtonbrewworks.com/wp-content/uploads/2026/02/Beer-WeekWBW-Thu.png
END:VEVENT
BEGIN:VEVENT
DTSTART;TZID=America/New_York:20260218T160000
DTEND;TZID=America/New_York:20260218T220000
DTSTAMP:20260421T090126
CREATED:20260204T214244Z
LAST-MODIFIED:20260204T215540Z
UID:10004424-1771430400-1771452000@wilmingtonbrewworks.com
SUMMARY:Wilmington Beer Week! Wednesday at Brew Works North!
DESCRIPTION:Wednesday Night at Brew Works North: \n\nIt’s Wilmington Beer Week Keep the Pint Night – Free with purchase of any WBW pint! (While Supplies Last!)\nStatewide Toast – We’re going to pause the games for 30 seconds at 7pm to participate in a Toast across the top half of the state; TO WILMINGTON BEER WEEK! CHEERS!
URL:https://wilmingtonbrewworks.com/event/wilmington-beer-week-wednesday-at-brew-works-north/
LOCATION:Brew Works North\, 1851 Marsh Rd\, Wilmington\, DE\, 19810\, United States
CATEGORIES:Brew Works North Events,Taproom Events
ATTACH;FMTTYPE=image/png:https://wilmingtonbrewworks.com/wp-content/uploads/2026/02/Beer-WeekBWN-Wed.png
END:VEVENT
BEGIN:VEVENT
DTSTART;TZID=America/New_York:20260218T150000
DTEND;TZID=America/New_York:20260218T220000
DTSTAMP:20260421T090126
CREATED:20260204T222435Z
LAST-MODIFIED:20260204T231108Z
UID:10004426-1771426800-1771452000@wilmingtonbrewworks.com
SUMMARY:Wilmington Beer Week! Wednesday at Wilmington Brew Works!
DESCRIPTION:Wednesday Night at Wilmington Brew Works: \n\nIt’s Wilmington Beer Week Keep the Pint Night – Free with purchase of any WBW pint! (While Supplies Last!)\nStatewide Toast – We’re going to collectively raise a glass at 7pm to participate in a Toast across the top half of the state; TO WILMINGTON BEER WEEK! CHEERS!\nGeeks Who Drink Trivia at 7pm! Free to play!\nDark Star BBQ popping up at WBW at 5pm
URL:https://wilmingtonbrewworks.com/event/wilmington-beer-week-wednesday-at-wilmington-brew-works/
LOCATION:Wilmington Brew Works\, 3129 Miller Road\, Wilmington\, DE\, 19802\, United States
CATEGORIES:Brew Works North Events,Taproom Events
ATTACH;FMTTYPE=image/png:https://wilmingtonbrewworks.com/wp-content/uploads/2026/02/Beer-WeekWBW-Wed.png
END:VEVENT
BEGIN:VEVENT
DTSTART;TZID=America/New_York:20260216T170000
DTEND;TZID=America/New_York:20260216T220000
DTSTAMP:20260421T090126
CREATED:20260204T213719Z
LAST-MODIFIED:20260204T215935Z
UID:10004423-1771261200-1771279200@wilmingtonbrewworks.com
SUMMARY:Wilmington Beer Week! Kickoff at Brew Works North
DESCRIPTION:Kickoff Wilmington Beer week with fun and games! Join in as Breweries and Restaurants face off in Cornhole\, Darts\, Pool\, Pop-a-Shot\, Skeeball and more!
URL:https://wilmingtonbrewworks.com/event/wilmington-beer-week-kickoff-at-brew-works-north/
LOCATION:Brew Works North\, 1851 Marsh Rd\, Wilmington\, DE\, 19810\, United States
CATEGORIES:Brew Works North Events,Taproom Events
ATTACH;FMTTYPE=image/png:https://wilmingtonbrewworks.com/wp-content/uploads/2026/02/Beer-WeekBWN-Mon.png
END:VEVENT
BEGIN:VEVENT
DTSTART;VALUE=DATE:20260216
DTEND;VALUE=DATE:20260223
DTSTAMP:20260421T090126
CREATED:20260204T213424Z
LAST-MODIFIED:20260204T213902Z
UID:10004422-1771200000-1771804799@wilmingtonbrewworks.com
SUMMARY:Wilmington Beer Week!
DESCRIPTION:It’s Wilmington Beer Week! A weeklong celebration of local craft and the places that serve them! \nPlenty of events at both Wilmington Brew Works and Brew Works North all week!
URL:https://wilmingtonbrewworks.com/event/wilmington-beer-week-3/
LOCATION:Wilmington Brew Works\, 3129 Miller Road\, Wilmington\, DE\, 19802\, United States
CATEGORIES:Brew Works North Events,Taproom Events
ATTACH;FMTTYPE=image/png:https://wilmingtonbrewworks.com/wp-content/uploads/2026/02/GWBW_FB.cover_.date_2026.png
END:VEVENT
BEGIN:VEVENT
DTSTART;TZID=America/New_York:20260212T190000
DTEND;TZID=America/New_York:20260212T220000
DTSTAMP:20260421T090126
CREATED:20260106T011548Z
LAST-MODIFIED:20260106T011740Z
UID:10004217-1770922800-1770933600@wilmingtonbrewworks.com
SUMMARY:Winter Dart League at BWN
DESCRIPTION:Regular Dart League at Brew Works North!\n\nFor information email ryan(at)wilmingtonbrewworks.com
URL:https://wilmingtonbrewworks.com/event/winter-dart-league-at-bwn/2026-02-12/
LOCATION:Brew Works North\, 1851 Marsh Rd\, Wilmington\, DE\, 19810\, United States
CATEGORIES:Brew Works North Events
ATTACH;FMTTYPE=image/png:https://wilmingtonbrewworks.com/wp-content/uploads/2026/01/Dart-League-Event.png
END:VEVENT
END:VCALENDAR