BEGIN:VCALENDAR
VERSION:2.0
PRODID:-//Wilmington Brew Works - ECPv6.15.20//NONSGML v1.0//EN
CALSCALE:GREGORIAN
METHOD:PUBLISH
X-WR-CALNAME:Wilmington Brew Works
X-ORIGINAL-URL:https://wilmingtonbrewworks.com
X-WR-CALDESC:Events for Wilmington Brew Works
REFRESH-INTERVAL;VALUE=DURATION:PT1H
X-Robots-Tag:noindex
X-PUBLISHED-TTL:PT1H
BEGIN:VTIMEZONE
TZID:America/New_York
BEGIN:DAYLIGHT
TZOFFSETFROM:-0500
TZOFFSETTO:-0400
TZNAME:EDT
DTSTART:20250309T070000
END:DAYLIGHT
BEGIN:STANDARD
TZOFFSETFROM:-0400
TZOFFSETTO:-0500
TZNAME:EST
DTSTART:20251102T060000
END:STANDARD
BEGIN:DAYLIGHT
TZOFFSETFROM:-0500
TZOFFSETTO:-0400
TZNAME:EDT
DTSTART:20260308T070000
END:DAYLIGHT
BEGIN:STANDARD
TZOFFSETFROM:-0400
TZOFFSETTO:-0500
TZNAME:EST
DTSTART:20261101T060000
END:STANDARD
BEGIN:DAYLIGHT
TZOFFSETFROM:-0500
TZOFFSETTO:-0400
TZNAME:EDT
DTSTART:20270314T070000
END:DAYLIGHT
BEGIN:STANDARD
TZOFFSETFROM:-0400
TZOFFSETTO:-0500
TZNAME:EST
DTSTART:20271107T060000
END:STANDARD
END:VTIMEZONE
BEGIN:VEVENT
DTSTART;TZID=America/New_York:20260728T173000
DTEND;TZID=America/New_York:20260728T220000
DTSTAMP:20260421T092212
CREATED:20251211T224440Z
LAST-MODIFIED:20251211T224441Z
UID:10004063-1785259800-1785276000@wilmingtonbrewworks.com
SUMMARY:Board Game Social (BWN)
DESCRIPTION:Wilmington Board Game Social! Play games\, drink beers\, and make new friends!\n$5 cover gets you:. Access to a library of games! (or bring your own!). We can teach you how to play\, and walk you through your first game!\n\n\nBoard game nights the fourth Tuesday of every month at Brew Works North!\n\n\n\nOpen your table up to new players and meet new friends! It’s the monthly board game social you’ve been looking for!
URL:https://wilmingtonbrewworks.com/event/board-game-social-bwn/2026-07-28/
LOCATION:Brew Works North\, 1851 Marsh Rd\, Wilmington\, DE\, 19810\, United States
CATEGORIES:Brew Works North Events
ATTACH;FMTTYPE=image/webp:https://wilmingtonbrewworks.com/wp-content/uploads/2025/12/wavelength-landscape-north.webp
END:VEVENT
BEGIN:VEVENT
DTSTART;TZID=America/New_York:20260730T183000
DTEND;TZID=America/New_York:20260730T213000
DTSTAMP:20260421T092212
CREATED:20260205T001622Z
LAST-MODIFIED:20260205T001622Z
UID:10004457-1785436200-1785447000@wilmingtonbrewworks.com
SUMMARY:Heyday Athletic Cornhole League
DESCRIPTION:Thursday Night Cornhole League run by Heyday Athletic. \nRegister at Heyday Athletic.
URL:https://wilmingtonbrewworks.com/event/heyday-athletic-cornhole-league/2026-07-30/
LOCATION:Brew Works North\, 1851 Marsh Rd\, Wilmington\, DE\, 19810\, United States
CATEGORIES:Brew Works North Events
ATTACH;FMTTYPE=image/jpeg:https://wilmingtonbrewworks.com/wp-content/uploads/2026/02/f72d1c9eaed7226ae6ca0e62111d2a9b.jpg
END:VEVENT
BEGIN:VEVENT
DTSTART;TZID=America/New_York:20260803T180000
DTEND;TZID=America/New_York:20260803T220000
DTSTAMP:20260421T092212
CREATED:20260402T020402Z
LAST-MODIFIED:20260402T020913Z
UID:10004076-1785780000-1785794400@wilmingtonbrewworks.com
SUMMARY:Magic the Gathering Open Play @ BWN
DESCRIPTION:Join us for an Open Play Magic the Gathering night at Brew Works North on the 1st and 3rd Monday of every month! 6pm-10pm\n\nThere’s no charge to play\, and all skill levels are welcome for casual games. You can play Commander\, Modern\, or even Two-Headed Giant.\n\nAs a special offer\, all participating players will receive 10% off all draughts. It’s a great opportunity to meet other players and grow your pods!
URL:https://wilmingtonbrewworks.com/event/magic-the-gathering-open-play-bwn-3-2/2026-08-03/
LOCATION:Brew Works North\, 1851 Marsh Rd\, Wilmington\, DE\, 19810\, United States
CATEGORIES:Brew Works North Events
ATTACH;FMTTYPE=image/png:https://wilmingtonbrewworks.com/wp-content/uploads/2025/10/BWN-Magic-the-GatheringEvent.png
END:VEVENT
BEGIN:VEVENT
DTSTART;TZID=America/New_York:20260806T183000
DTEND;TZID=America/New_York:20260806T213000
DTSTAMP:20260421T092212
CREATED:20260205T001622Z
LAST-MODIFIED:20260205T001622Z
UID:10004458-1786041000-1786051800@wilmingtonbrewworks.com
SUMMARY:Heyday Athletic Cornhole League
DESCRIPTION:Thursday Night Cornhole League run by Heyday Athletic. \nRegister at Heyday Athletic.
URL:https://wilmingtonbrewworks.com/event/heyday-athletic-cornhole-league/2026-08-06/
LOCATION:Brew Works North\, 1851 Marsh Rd\, Wilmington\, DE\, 19810\, United States
CATEGORIES:Brew Works North Events
ATTACH;FMTTYPE=image/jpeg:https://wilmingtonbrewworks.com/wp-content/uploads/2026/02/f72d1c9eaed7226ae6ca0e62111d2a9b.jpg
END:VEVENT
BEGIN:VEVENT
DTSTART;TZID=America/New_York:20260813T183000
DTEND;TZID=America/New_York:20260813T213000
DTSTAMP:20260421T092212
CREATED:20260205T001622Z
LAST-MODIFIED:20260205T001622Z
UID:10004459-1786645800-1786656600@wilmingtonbrewworks.com
SUMMARY:Heyday Athletic Cornhole League
DESCRIPTION:Thursday Night Cornhole League run by Heyday Athletic. \nRegister at Heyday Athletic.
URL:https://wilmingtonbrewworks.com/event/heyday-athletic-cornhole-league/2026-08-13/
LOCATION:Brew Works North\, 1851 Marsh Rd\, Wilmington\, DE\, 19810\, United States
CATEGORIES:Brew Works North Events
ATTACH;FMTTYPE=image/jpeg:https://wilmingtonbrewworks.com/wp-content/uploads/2026/02/f72d1c9eaed7226ae6ca0e62111d2a9b.jpg
END:VEVENT
BEGIN:VEVENT
DTSTART;TZID=America/New_York:20260817T180000
DTEND;TZID=America/New_York:20260817T220000
DTSTAMP:20260421T092212
CREATED:20260402T020500Z
LAST-MODIFIED:20260402T021030Z
UID:10004557-1786989600-1787004000@wilmingtonbrewworks.com
SUMMARY:Magic the Gathering Open Play @ BWN
DESCRIPTION:Join us for an Open Play Magic the Gathering night at Brew Works North on the 1st and 3rd Monday of every month! 6pm-10pm\n\nThere’s no charge to play\, and all skill levels are welcome for casual games. You can play Commander\, Modern\, or even Two-Headed Giant.\n\nAs a special offer\, all participating players will receive 10% off all draughts. It’s a great opportunity to meet other players and grow your pods!
URL:https://wilmingtonbrewworks.com/event/magic-the-gathering-open-play-bwn-4/2026-08-17/
LOCATION:Brew Works North\, 1851 Marsh Rd\, Wilmington\, DE\, 19810\, United States
CATEGORIES:Brew Works North Events
ATTACH;FMTTYPE=image/png:https://wilmingtonbrewworks.com/wp-content/uploads/2025/10/BWN-Magic-the-GatheringEvent.png
END:VEVENT
BEGIN:VEVENT
DTSTART;TZID=America/New_York:20260820T183000
DTEND;TZID=America/New_York:20260820T213000
DTSTAMP:20260421T092212
CREATED:20260205T001622Z
LAST-MODIFIED:20260205T001622Z
UID:10004460-1787250600-1787261400@wilmingtonbrewworks.com
SUMMARY:Heyday Athletic Cornhole League
DESCRIPTION:Thursday Night Cornhole League run by Heyday Athletic. \nRegister at Heyday Athletic.
URL:https://wilmingtonbrewworks.com/event/heyday-athletic-cornhole-league/2026-08-20/
LOCATION:Brew Works North\, 1851 Marsh Rd\, Wilmington\, DE\, 19810\, United States
CATEGORIES:Brew Works North Events
ATTACH;FMTTYPE=image/jpeg:https://wilmingtonbrewworks.com/wp-content/uploads/2026/02/f72d1c9eaed7226ae6ca0e62111d2a9b.jpg
END:VEVENT
BEGIN:VEVENT
DTSTART;TZID=America/New_York:20260825T173000
DTEND;TZID=America/New_York:20260825T220000
DTSTAMP:20260421T092212
CREATED:20251211T224440Z
LAST-MODIFIED:20251211T224441Z
UID:10004064-1787679000-1787695200@wilmingtonbrewworks.com
SUMMARY:Board Game Social (BWN)
DESCRIPTION:Wilmington Board Game Social! Play games\, drink beers\, and make new friends!\n$5 cover gets you:. Access to a library of games! (or bring your own!). We can teach you how to play\, and walk you through your first game!\n\n\nBoard game nights the fourth Tuesday of every month at Brew Works North!\n\n\n\nOpen your table up to new players and meet new friends! It’s the monthly board game social you’ve been looking for!
URL:https://wilmingtonbrewworks.com/event/board-game-social-bwn/2026-08-25/
LOCATION:Brew Works North\, 1851 Marsh Rd\, Wilmington\, DE\, 19810\, United States
CATEGORIES:Brew Works North Events
ATTACH;FMTTYPE=image/webp:https://wilmingtonbrewworks.com/wp-content/uploads/2025/12/wavelength-landscape-north.webp
END:VEVENT
BEGIN:VEVENT
DTSTART;TZID=America/New_York:20260827T183000
DTEND;TZID=America/New_York:20260827T213000
DTSTAMP:20260421T092212
CREATED:20260205T001622Z
LAST-MODIFIED:20260205T001622Z
UID:10004461-1787855400-1787866200@wilmingtonbrewworks.com
SUMMARY:Heyday Athletic Cornhole League
DESCRIPTION:Thursday Night Cornhole League run by Heyday Athletic. \nRegister at Heyday Athletic.
URL:https://wilmingtonbrewworks.com/event/heyday-athletic-cornhole-league/2026-08-27/
LOCATION:Brew Works North\, 1851 Marsh Rd\, Wilmington\, DE\, 19810\, United States
CATEGORIES:Brew Works North Events
ATTACH;FMTTYPE=image/jpeg:https://wilmingtonbrewworks.com/wp-content/uploads/2026/02/f72d1c9eaed7226ae6ca0e62111d2a9b.jpg
END:VEVENT
BEGIN:VEVENT
DTSTART;TZID=America/New_York:20260903T183000
DTEND;TZID=America/New_York:20260903T213000
DTSTAMP:20260421T092212
CREATED:20260205T001622Z
LAST-MODIFIED:20260205T001622Z
UID:10004462-1788460200-1788471000@wilmingtonbrewworks.com
SUMMARY:Heyday Athletic Cornhole League
DESCRIPTION:Thursday Night Cornhole League run by Heyday Athletic. \nRegister at Heyday Athletic.
URL:https://wilmingtonbrewworks.com/event/heyday-athletic-cornhole-league/2026-09-03/
LOCATION:Brew Works North\, 1851 Marsh Rd\, Wilmington\, DE\, 19810\, United States
CATEGORIES:Brew Works North Events
ATTACH;FMTTYPE=image/jpeg:https://wilmingtonbrewworks.com/wp-content/uploads/2026/02/f72d1c9eaed7226ae6ca0e62111d2a9b.jpg
END:VEVENT
BEGIN:VEVENT
DTSTART;TZID=America/New_York:20260907T180000
DTEND;TZID=America/New_York:20260907T220000
DTSTAMP:20260421T092212
CREATED:20260402T020402Z
LAST-MODIFIED:20260402T020913Z
UID:10004077-1788804000-1788818400@wilmingtonbrewworks.com
SUMMARY:Magic the Gathering Open Play @ BWN
DESCRIPTION:Join us for an Open Play Magic the Gathering night at Brew Works North on the 1st and 3rd Monday of every month! 6pm-10pm\n\nThere’s no charge to play\, and all skill levels are welcome for casual games. You can play Commander\, Modern\, or even Two-Headed Giant.\n\nAs a special offer\, all participating players will receive 10% off all draughts. It’s a great opportunity to meet other players and grow your pods!
URL:https://wilmingtonbrewworks.com/event/magic-the-gathering-open-play-bwn-3-2/2026-09-07/
LOCATION:Brew Works North\, 1851 Marsh Rd\, Wilmington\, DE\, 19810\, United States
CATEGORIES:Brew Works North Events
ATTACH;FMTTYPE=image/png:https://wilmingtonbrewworks.com/wp-content/uploads/2025/10/BWN-Magic-the-GatheringEvent.png
END:VEVENT
BEGIN:VEVENT
DTSTART;TZID=America/New_York:20260910T183000
DTEND;TZID=America/New_York:20260910T213000
DTSTAMP:20260421T092212
CREATED:20260205T001622Z
LAST-MODIFIED:20260205T001622Z
UID:10004463-1789065000-1789075800@wilmingtonbrewworks.com
SUMMARY:Heyday Athletic Cornhole League
DESCRIPTION:Thursday Night Cornhole League run by Heyday Athletic. \nRegister at Heyday Athletic.
URL:https://wilmingtonbrewworks.com/event/heyday-athletic-cornhole-league/2026-09-10/
LOCATION:Brew Works North\, 1851 Marsh Rd\, Wilmington\, DE\, 19810\, United States
CATEGORIES:Brew Works North Events
ATTACH;FMTTYPE=image/jpeg:https://wilmingtonbrewworks.com/wp-content/uploads/2026/02/f72d1c9eaed7226ae6ca0e62111d2a9b.jpg
END:VEVENT
BEGIN:VEVENT
DTSTART;TZID=America/New_York:20260917T183000
DTEND;TZID=America/New_York:20260917T213000
DTSTAMP:20260421T092212
CREATED:20260205T001622Z
LAST-MODIFIED:20260205T001622Z
UID:10004464-1789669800-1789680600@wilmingtonbrewworks.com
SUMMARY:Heyday Athletic Cornhole League
DESCRIPTION:Thursday Night Cornhole League run by Heyday Athletic. \nRegister at Heyday Athletic.
URL:https://wilmingtonbrewworks.com/event/heyday-athletic-cornhole-league/2026-09-17/
LOCATION:Brew Works North\, 1851 Marsh Rd\, Wilmington\, DE\, 19810\, United States
CATEGORIES:Brew Works North Events
ATTACH;FMTTYPE=image/jpeg:https://wilmingtonbrewworks.com/wp-content/uploads/2026/02/f72d1c9eaed7226ae6ca0e62111d2a9b.jpg
END:VEVENT
BEGIN:VEVENT
DTSTART;TZID=America/New_York:20260921T180000
DTEND;TZID=America/New_York:20260921T220000
DTSTAMP:20260421T092212
CREATED:20260402T020500Z
LAST-MODIFIED:20260402T021030Z
UID:10004558-1790013600-1790028000@wilmingtonbrewworks.com
SUMMARY:Magic the Gathering Open Play @ BWN
DESCRIPTION:Join us for an Open Play Magic the Gathering night at Brew Works North on the 1st and 3rd Monday of every month! 6pm-10pm\n\nThere’s no charge to play\, and all skill levels are welcome for casual games. You can play Commander\, Modern\, or even Two-Headed Giant.\n\nAs a special offer\, all participating players will receive 10% off all draughts. It’s a great opportunity to meet other players and grow your pods!
URL:https://wilmingtonbrewworks.com/event/magic-the-gathering-open-play-bwn-4/2026-09-21/
LOCATION:Brew Works North\, 1851 Marsh Rd\, Wilmington\, DE\, 19810\, United States
CATEGORIES:Brew Works North Events
ATTACH;FMTTYPE=image/png:https://wilmingtonbrewworks.com/wp-content/uploads/2025/10/BWN-Magic-the-GatheringEvent.png
END:VEVENT
BEGIN:VEVENT
DTSTART;TZID=America/New_York:20260922T173000
DTEND;TZID=America/New_York:20260922T220000
DTSTAMP:20260421T092212
CREATED:20251211T224440Z
LAST-MODIFIED:20251211T224441Z
UID:10004065-1790098200-1790114400@wilmingtonbrewworks.com
SUMMARY:Board Game Social (BWN)
DESCRIPTION:Wilmington Board Game Social! Play games\, drink beers\, and make new friends!\n$5 cover gets you:. Access to a library of games! (or bring your own!). We can teach you how to play\, and walk you through your first game!\n\n\nBoard game nights the fourth Tuesday of every month at Brew Works North!\n\n\n\nOpen your table up to new players and meet new friends! It’s the monthly board game social you’ve been looking for!
URL:https://wilmingtonbrewworks.com/event/board-game-social-bwn/2026-09-22/
LOCATION:Brew Works North\, 1851 Marsh Rd\, Wilmington\, DE\, 19810\, United States
CATEGORIES:Brew Works North Events
ATTACH;FMTTYPE=image/webp:https://wilmingtonbrewworks.com/wp-content/uploads/2025/12/wavelength-landscape-north.webp
END:VEVENT
BEGIN:VEVENT
DTSTART;TZID=America/New_York:20260924T183000
DTEND;TZID=America/New_York:20260924T213000
DTSTAMP:20260421T092212
CREATED:20260205T001622Z
LAST-MODIFIED:20260205T001622Z
UID:10004465-1790274600-1790285400@wilmingtonbrewworks.com
SUMMARY:Heyday Athletic Cornhole League
DESCRIPTION:Thursday Night Cornhole League run by Heyday Athletic. \nRegister at Heyday Athletic.
URL:https://wilmingtonbrewworks.com/event/heyday-athletic-cornhole-league/2026-09-24/
LOCATION:Brew Works North\, 1851 Marsh Rd\, Wilmington\, DE\, 19810\, United States
CATEGORIES:Brew Works North Events
ATTACH;FMTTYPE=image/jpeg:https://wilmingtonbrewworks.com/wp-content/uploads/2026/02/f72d1c9eaed7226ae6ca0e62111d2a9b.jpg
END:VEVENT
BEGIN:VEVENT
DTSTART;TZID=America/New_York:20261001T183000
DTEND;TZID=America/New_York:20261001T213000
DTSTAMP:20260421T092212
CREATED:20260205T001622Z
LAST-MODIFIED:20260205T001622Z
UID:10004466-1790879400-1790890200@wilmingtonbrewworks.com
SUMMARY:Heyday Athletic Cornhole League
DESCRIPTION:Thursday Night Cornhole League run by Heyday Athletic. \nRegister at Heyday Athletic.
URL:https://wilmingtonbrewworks.com/event/heyday-athletic-cornhole-league/2026-10-01/
LOCATION:Brew Works North\, 1851 Marsh Rd\, Wilmington\, DE\, 19810\, United States
CATEGORIES:Brew Works North Events
ATTACH;FMTTYPE=image/jpeg:https://wilmingtonbrewworks.com/wp-content/uploads/2026/02/f72d1c9eaed7226ae6ca0e62111d2a9b.jpg
END:VEVENT
BEGIN:VEVENT
DTSTART;TZID=America/New_York:20261005T180000
DTEND;TZID=America/New_York:20261005T220000
DTSTAMP:20260421T092212
CREATED:20260402T020402Z
LAST-MODIFIED:20260402T020913Z
UID:10004078-1791223200-1791237600@wilmingtonbrewworks.com
SUMMARY:Magic the Gathering Open Play @ BWN
DESCRIPTION:Join us for an Open Play Magic the Gathering night at Brew Works North on the 1st and 3rd Monday of every month! 6pm-10pm\n\nThere’s no charge to play\, and all skill levels are welcome for casual games. You can play Commander\, Modern\, or even Two-Headed Giant.\n\nAs a special offer\, all participating players will receive 10% off all draughts. It’s a great opportunity to meet other players and grow your pods!
URL:https://wilmingtonbrewworks.com/event/magic-the-gathering-open-play-bwn-3-2/2026-10-05/
LOCATION:Brew Works North\, 1851 Marsh Rd\, Wilmington\, DE\, 19810\, United States
CATEGORIES:Brew Works North Events
ATTACH;FMTTYPE=image/png:https://wilmingtonbrewworks.com/wp-content/uploads/2025/10/BWN-Magic-the-GatheringEvent.png
END:VEVENT
BEGIN:VEVENT
DTSTART;TZID=America/New_York:20261008T183000
DTEND;TZID=America/New_York:20261008T213000
DTSTAMP:20260421T092212
CREATED:20260205T001622Z
LAST-MODIFIED:20260205T001622Z
UID:10004467-1791484200-1791495000@wilmingtonbrewworks.com
SUMMARY:Heyday Athletic Cornhole League
DESCRIPTION:Thursday Night Cornhole League run by Heyday Athletic. \nRegister at Heyday Athletic.
URL:https://wilmingtonbrewworks.com/event/heyday-athletic-cornhole-league/2026-10-08/
LOCATION:Brew Works North\, 1851 Marsh Rd\, Wilmington\, DE\, 19810\, United States
CATEGORIES:Brew Works North Events
ATTACH;FMTTYPE=image/jpeg:https://wilmingtonbrewworks.com/wp-content/uploads/2026/02/f72d1c9eaed7226ae6ca0e62111d2a9b.jpg
END:VEVENT
BEGIN:VEVENT
DTSTART;TZID=America/New_York:20261015T183000
DTEND;TZID=America/New_York:20261015T213000
DTSTAMP:20260421T092212
CREATED:20260205T001622Z
LAST-MODIFIED:20260205T001622Z
UID:10004468-1792089000-1792099800@wilmingtonbrewworks.com
SUMMARY:Heyday Athletic Cornhole League
DESCRIPTION:Thursday Night Cornhole League run by Heyday Athletic. \nRegister at Heyday Athletic.
URL:https://wilmingtonbrewworks.com/event/heyday-athletic-cornhole-league/2026-10-15/
LOCATION:Brew Works North\, 1851 Marsh Rd\, Wilmington\, DE\, 19810\, United States
CATEGORIES:Brew Works North Events
ATTACH;FMTTYPE=image/jpeg:https://wilmingtonbrewworks.com/wp-content/uploads/2026/02/f72d1c9eaed7226ae6ca0e62111d2a9b.jpg
END:VEVENT
BEGIN:VEVENT
DTSTART;TZID=America/New_York:20261019T180000
DTEND;TZID=America/New_York:20261019T220000
DTSTAMP:20260421T092212
CREATED:20260402T020500Z
LAST-MODIFIED:20260402T021030Z
UID:10004559-1792432800-1792447200@wilmingtonbrewworks.com
SUMMARY:Magic the Gathering Open Play @ BWN
DESCRIPTION:Join us for an Open Play Magic the Gathering night at Brew Works North on the 1st and 3rd Monday of every month! 6pm-10pm\n\nThere’s no charge to play\, and all skill levels are welcome for casual games. You can play Commander\, Modern\, or even Two-Headed Giant.\n\nAs a special offer\, all participating players will receive 10% off all draughts. It’s a great opportunity to meet other players and grow your pods!
URL:https://wilmingtonbrewworks.com/event/magic-the-gathering-open-play-bwn-4/2026-10-19/
LOCATION:Brew Works North\, 1851 Marsh Rd\, Wilmington\, DE\, 19810\, United States
CATEGORIES:Brew Works North Events
ATTACH;FMTTYPE=image/png:https://wilmingtonbrewworks.com/wp-content/uploads/2025/10/BWN-Magic-the-GatheringEvent.png
END:VEVENT
BEGIN:VEVENT
DTSTART;TZID=America/New_York:20261022T183000
DTEND;TZID=America/New_York:20261022T213000
DTSTAMP:20260421T092212
CREATED:20260205T001622Z
LAST-MODIFIED:20260205T001622Z
UID:10004469-1792693800-1792704600@wilmingtonbrewworks.com
SUMMARY:Heyday Athletic Cornhole League
DESCRIPTION:Thursday Night Cornhole League run by Heyday Athletic. \nRegister at Heyday Athletic.
URL:https://wilmingtonbrewworks.com/event/heyday-athletic-cornhole-league/2026-10-22/
LOCATION:Brew Works North\, 1851 Marsh Rd\, Wilmington\, DE\, 19810\, United States
CATEGORIES:Brew Works North Events
ATTACH;FMTTYPE=image/jpeg:https://wilmingtonbrewworks.com/wp-content/uploads/2026/02/f72d1c9eaed7226ae6ca0e62111d2a9b.jpg
END:VEVENT
BEGIN:VEVENT
DTSTART;TZID=America/New_York:20261027T173000
DTEND;TZID=America/New_York:20261027T220000
DTSTAMP:20260421T092212
CREATED:20251211T224440Z
LAST-MODIFIED:20251211T224441Z
UID:10004066-1793122200-1793138400@wilmingtonbrewworks.com
SUMMARY:Board Game Social (BWN)
DESCRIPTION:Wilmington Board Game Social! Play games\, drink beers\, and make new friends!\n$5 cover gets you:. Access to a library of games! (or bring your own!). We can teach you how to play\, and walk you through your first game!\n\n\nBoard game nights the fourth Tuesday of every month at Brew Works North!\n\n\n\nOpen your table up to new players and meet new friends! It’s the monthly board game social you’ve been looking for!
URL:https://wilmingtonbrewworks.com/event/board-game-social-bwn/2026-10-27/
LOCATION:Brew Works North\, 1851 Marsh Rd\, Wilmington\, DE\, 19810\, United States
CATEGORIES:Brew Works North Events
ATTACH;FMTTYPE=image/webp:https://wilmingtonbrewworks.com/wp-content/uploads/2025/12/wavelength-landscape-north.webp
END:VEVENT
BEGIN:VEVENT
DTSTART;TZID=America/New_York:20261029T183000
DTEND;TZID=America/New_York:20261029T213000
DTSTAMP:20260421T092212
CREATED:20260205T001622Z
LAST-MODIFIED:20260205T001622Z
UID:10004470-1793298600-1793309400@wilmingtonbrewworks.com
SUMMARY:Heyday Athletic Cornhole League
DESCRIPTION:Thursday Night Cornhole League run by Heyday Athletic. \nRegister at Heyday Athletic.
URL:https://wilmingtonbrewworks.com/event/heyday-athletic-cornhole-league/2026-10-29/
LOCATION:Brew Works North\, 1851 Marsh Rd\, Wilmington\, DE\, 19810\, United States
CATEGORIES:Brew Works North Events
ATTACH;FMTTYPE=image/jpeg:https://wilmingtonbrewworks.com/wp-content/uploads/2026/02/f72d1c9eaed7226ae6ca0e62111d2a9b.jpg
END:VEVENT
BEGIN:VEVENT
DTSTART;TZID=America/New_York:20261102T180000
DTEND;TZID=America/New_York:20261102T220000
DTSTAMP:20260421T092212
CREATED:20260402T020402Z
LAST-MODIFIED:20260402T020913Z
UID:10004079-1793642400-1793656800@wilmingtonbrewworks.com
SUMMARY:Magic the Gathering Open Play @ BWN
DESCRIPTION:Join us for an Open Play Magic the Gathering night at Brew Works North on the 1st and 3rd Monday of every month! 6pm-10pm\n\nThere’s no charge to play\, and all skill levels are welcome for casual games. You can play Commander\, Modern\, or even Two-Headed Giant.\n\nAs a special offer\, all participating players will receive 10% off all draughts. It’s a great opportunity to meet other players and grow your pods!
URL:https://wilmingtonbrewworks.com/event/magic-the-gathering-open-play-bwn-3-2/2026-11-02/
LOCATION:Brew Works North\, 1851 Marsh Rd\, Wilmington\, DE\, 19810\, United States
CATEGORIES:Brew Works North Events
ATTACH;FMTTYPE=image/png:https://wilmingtonbrewworks.com/wp-content/uploads/2025/10/BWN-Magic-the-GatheringEvent.png
END:VEVENT
BEGIN:VEVENT
DTSTART;TZID=America/New_York:20261105T183000
DTEND;TZID=America/New_York:20261105T213000
DTSTAMP:20260421T092212
CREATED:20260205T001622Z
LAST-MODIFIED:20260205T001622Z
UID:10004471-1793903400-1793914200@wilmingtonbrewworks.com
SUMMARY:Heyday Athletic Cornhole League
DESCRIPTION:Thursday Night Cornhole League run by Heyday Athletic. \nRegister at Heyday Athletic.
URL:https://wilmingtonbrewworks.com/event/heyday-athletic-cornhole-league/2026-11-05/
LOCATION:Brew Works North\, 1851 Marsh Rd\, Wilmington\, DE\, 19810\, United States
CATEGORIES:Brew Works North Events
ATTACH;FMTTYPE=image/jpeg:https://wilmingtonbrewworks.com/wp-content/uploads/2026/02/f72d1c9eaed7226ae6ca0e62111d2a9b.jpg
END:VEVENT
BEGIN:VEVENT
DTSTART;TZID=America/New_York:20261112T183000
DTEND;TZID=America/New_York:20261112T213000
DTSTAMP:20260421T092212
CREATED:20260205T001622Z
LAST-MODIFIED:20260205T001622Z
UID:10004472-1794508200-1794519000@wilmingtonbrewworks.com
SUMMARY:Heyday Athletic Cornhole League
DESCRIPTION:Thursday Night Cornhole League run by Heyday Athletic. \nRegister at Heyday Athletic.
URL:https://wilmingtonbrewworks.com/event/heyday-athletic-cornhole-league/2026-11-12/
LOCATION:Brew Works North\, 1851 Marsh Rd\, Wilmington\, DE\, 19810\, United States
CATEGORIES:Brew Works North Events
ATTACH;FMTTYPE=image/jpeg:https://wilmingtonbrewworks.com/wp-content/uploads/2026/02/f72d1c9eaed7226ae6ca0e62111d2a9b.jpg
END:VEVENT
BEGIN:VEVENT
DTSTART;TZID=America/New_York:20261116T180000
DTEND;TZID=America/New_York:20261116T220000
DTSTAMP:20260421T092212
CREATED:20260402T020500Z
LAST-MODIFIED:20260402T021030Z
UID:10004560-1794852000-1794866400@wilmingtonbrewworks.com
SUMMARY:Magic the Gathering Open Play @ BWN
DESCRIPTION:Join us for an Open Play Magic the Gathering night at Brew Works North on the 1st and 3rd Monday of every month! 6pm-10pm\n\nThere’s no charge to play\, and all skill levels are welcome for casual games. You can play Commander\, Modern\, or even Two-Headed Giant.\n\nAs a special offer\, all participating players will receive 10% off all draughts. It’s a great opportunity to meet other players and grow your pods!
URL:https://wilmingtonbrewworks.com/event/magic-the-gathering-open-play-bwn-4/2026-11-16/
LOCATION:Brew Works North\, 1851 Marsh Rd\, Wilmington\, DE\, 19810\, United States
CATEGORIES:Brew Works North Events
ATTACH;FMTTYPE=image/png:https://wilmingtonbrewworks.com/wp-content/uploads/2025/10/BWN-Magic-the-GatheringEvent.png
END:VEVENT
BEGIN:VEVENT
DTSTART;TZID=America/New_York:20261119T183000
DTEND;TZID=America/New_York:20261119T213000
DTSTAMP:20260421T092212
CREATED:20260205T001622Z
LAST-MODIFIED:20260205T001622Z
UID:10004473-1795113000-1795123800@wilmingtonbrewworks.com
SUMMARY:Heyday Athletic Cornhole League
DESCRIPTION:Thursday Night Cornhole League run by Heyday Athletic. \nRegister at Heyday Athletic.
URL:https://wilmingtonbrewworks.com/event/heyday-athletic-cornhole-league/2026-11-19/
LOCATION:Brew Works North\, 1851 Marsh Rd\, Wilmington\, DE\, 19810\, United States
CATEGORIES:Brew Works North Events
ATTACH;FMTTYPE=image/jpeg:https://wilmingtonbrewworks.com/wp-content/uploads/2026/02/f72d1c9eaed7226ae6ca0e62111d2a9b.jpg
END:VEVENT
BEGIN:VEVENT
DTSTART;TZID=America/New_York:20261124T173000
DTEND;TZID=America/New_York:20261124T220000
DTSTAMP:20260421T092212
CREATED:20251211T224440Z
LAST-MODIFIED:20251211T224441Z
UID:10004067-1795541400-1795557600@wilmingtonbrewworks.com
SUMMARY:Board Game Social (BWN)
DESCRIPTION:Wilmington Board Game Social! Play games\, drink beers\, and make new friends!\n$5 cover gets you:. Access to a library of games! (or bring your own!). We can teach you how to play\, and walk you through your first game!\n\n\nBoard game nights the fourth Tuesday of every month at Brew Works North!\n\n\n\nOpen your table up to new players and meet new friends! It’s the monthly board game social you’ve been looking for!
URL:https://wilmingtonbrewworks.com/event/board-game-social-bwn/2026-11-24/
LOCATION:Brew Works North\, 1851 Marsh Rd\, Wilmington\, DE\, 19810\, United States
CATEGORIES:Brew Works North Events
ATTACH;FMTTYPE=image/webp:https://wilmingtonbrewworks.com/wp-content/uploads/2025/12/wavelength-landscape-north.webp
END:VEVENT
END:VCALENDAR