BEGIN:VCALENDAR
VERSION:2.0
PRODID:-//Wilmington Brew Works - ECPv6.15.20//NONSGML v1.0//EN
CALSCALE:GREGORIAN
METHOD:PUBLISH
X-ORIGINAL-URL:https://wilmingtonbrewworks.com
X-WR-CALDESC:Events for Wilmington Brew Works
REFRESH-INTERVAL;VALUE=DURATION:PT1H
X-Robots-Tag:noindex
X-PUBLISHED-TTL:PT1H
BEGIN:VTIMEZONE
TZID:America/New_York
BEGIN:DAYLIGHT
TZOFFSETFROM:-0500
TZOFFSETTO:-0400
TZNAME:EDT
DTSTART:20230312T070000
END:DAYLIGHT
BEGIN:STANDARD
TZOFFSETFROM:-0400
TZOFFSETTO:-0500
TZNAME:EST
DTSTART:20231105T060000
END:STANDARD
BEGIN:DAYLIGHT
TZOFFSETFROM:-0500
TZOFFSETTO:-0400
TZNAME:EDT
DTSTART:20240310T070000
END:DAYLIGHT
BEGIN:STANDARD
TZOFFSETFROM:-0400
TZOFFSETTO:-0500
TZNAME:EST
DTSTART:20241103T060000
END:STANDARD
BEGIN:DAYLIGHT
TZOFFSETFROM:-0500
TZOFFSETTO:-0400
TZNAME:EDT
DTSTART:20250309T070000
END:DAYLIGHT
BEGIN:STANDARD
TZOFFSETFROM:-0400
TZOFFSETTO:-0500
TZNAME:EST
DTSTART:20251102T060000
END:STANDARD
BEGIN:DAYLIGHT
TZOFFSETFROM:-0500
TZOFFSETTO:-0400
TZNAME:EDT
DTSTART:20260308T070000
END:DAYLIGHT
BEGIN:STANDARD
TZOFFSETFROM:-0400
TZOFFSETTO:-0500
TZNAME:EST
DTSTART:20261101T060000
END:STANDARD
BEGIN:DAYLIGHT
TZOFFSETFROM:-0500
TZOFFSETTO:-0400
TZNAME:EDT
DTSTART:20270314T070000
END:DAYLIGHT
BEGIN:STANDARD
TZOFFSETFROM:-0400
TZOFFSETTO:-0500
TZNAME:EST
DTSTART:20271107T060000
END:STANDARD
END:VTIMEZONE
BEGIN:VEVENT
DTSTART;TZID=America/New_York:20241102T140000
DTEND;TZID=America/New_York:20241102T180000
DTSTAMP:20260420T093537
CREATED:20241009T144057Z
LAST-MODIFIED:20241009T144058Z
UID:10002695-1730556000-1730570400@wilmingtonbrewworks.com
SUMMARY:Happy Hour at the Tower
DESCRIPTION:Mark your calendar for the 2024 HHATT!! \n\n\n\n\nHappy Hour At The Tower is a community fundraiser organized to benefit Friends of Wilmington Parks and to promote Wilmington. The event features food trucks\, beer and wine\, live music\, local artists\, and the official seasonal lighting of the Tower. \nBEER BY WILMINGTON BREW WORKS \nMUSIC BY CHORDUROY \n\nTickets available HERE
URL:https://wilmingtonbrewworks.com/event/happy-hour-at-the-tower/
LOCATION:Rockford Park\, Lookout Dr\, Wilmington\, 19806\, United States
CATEGORIES:Off-Site Events
ATTACH;FMTTYPE=image/jpeg:https://wilmingtonbrewworks.com/wp-content/uploads/2024/10/HHATT.jpg
END:VEVENT
BEGIN:VEVENT
DTSTART;TZID=America/New_York:20241123T120000
DTEND;TZID=America/New_York:20241123T160000
DTSTAMP:20260420T093537
CREATED:20241104T190007Z
LAST-MODIFIED:20241104T190007Z
UID:10002735-1732363200-1732377600@wilmingtonbrewworks.com
SUMMARY:Cnal Brewfest @ Grain H20
DESCRIPTION:Get ready for a craft beer lover’s paradise at Canal Brewfest at Grain H2O on Saturday\, November 23rd\, from Noon-4pm! \nFor $65 per person\, experience unlimited tastings of 18 unique beers from 14 of the best local brewers\, each bringing their own spin on craft favorites and seasonal brews. \nPlus\, enjoy a free food buffet and live music by the awesome Walking Lemons band to keep the good times flowing. \nDon’t miss out on this celebration of local craft beer\, delicious bites\, and waterfront fun! \nTickets: https://grainh2o.ticketleap.com/canal-brewfest-2024/
URL:https://wilmingtonbrewworks.com/event/cnal-brewfest-grain-h20/
LOCATION:Grain H20\, 3006 Summit Harbour Lane\, Bear\, DE\, 19701\, United States
CATEGORIES:Off-Site Events
ATTACH;FMTTYPE=image/jpeg:https://wilmingtonbrewworks.com/wp-content/uploads/2024/11/canalbrewfest.jpg
END:VEVENT
BEGIN:VEVENT
DTSTART;TZID=America/New_York:20250206T170000
DTEND;TZID=America/New_York:20250206T210000
DTSTAMP:20260420T093537
CREATED:20250203T181815Z
LAST-MODIFIED:20250203T181827Z
UID:10002994-1738861200-1738875600@wilmingtonbrewworks.com
SUMMARY:WBW Tap Takeover @ Maker's Alley
DESCRIPTION:$6 Pints! \n50% Off Burgers! \n25% Off Wings!
URL:https://wilmingtonbrewworks.com/event/wbw-tap-takeover-makers-alley/
LOCATION:Maker’s Alley\, 804 Orange St\, Wilmington\, DE\, 19801\, United States
CATEGORIES:Off-Site Events
END:VEVENT
BEGIN:VEVENT
DTSTART;TZID=America/New_York:20260429T170000
DTEND;TZID=America/New_York:20260429T190000
DTSTAMP:20260420T093537
CREATED:20260410T145005Z
LAST-MODIFIED:20260410T145006Z
UID:10004564-1777482000-1777489200@wilmingtonbrewworks.com
SUMMARY:WBW Tap Takeover at La Tolteca
DESCRIPTION:Come out to La Tolteca on Wednesday 4/29 for a Tap Takeover!
URL:https://wilmingtonbrewworks.com/event/wbw-tap-takeover-at-la-tolteca/
LOCATION:La Tolteca\, 304 Buckley Ml Rd\, Greenville\, 19807\, United States
CATEGORIES:Off-Site Events
ATTACH;FMTTYPE=image/png:https://wilmingtonbrewworks.com/wp-content/uploads/2026/04/WBW-LaTolteca-Tap-TakeoverTV-Event.png
END:VEVENT
END:VCALENDAR