BEGIN:VCALENDAR
VERSION:2.0
PRODID:-//Wilmington Brew Works - ECPv6.15.20//NONSGML v1.0//EN
CALSCALE:GREGORIAN
METHOD:PUBLISH
X-ORIGINAL-URL:https://wilmingtonbrewworks.com
X-WR-CALDESC:Events for Wilmington Brew Works
REFRESH-INTERVAL;VALUE=DURATION:PT1H
X-Robots-Tag:noindex
X-PUBLISHED-TTL:PT1H
BEGIN:VTIMEZONE
TZID:America/New_York
BEGIN:DAYLIGHT
TZOFFSETFROM:-0500
TZOFFSETTO:-0400
TZNAME:EDT
DTSTART:20250309T070000
END:DAYLIGHT
BEGIN:STANDARD
TZOFFSETFROM:-0400
TZOFFSETTO:-0500
TZNAME:EST
DTSTART:20251102T060000
END:STANDARD
BEGIN:DAYLIGHT
TZOFFSETFROM:-0500
TZOFFSETTO:-0400
TZNAME:EDT
DTSTART:20260308T070000
END:DAYLIGHT
BEGIN:STANDARD
TZOFFSETFROM:-0400
TZOFFSETTO:-0500
TZNAME:EST
DTSTART:20261101T060000
END:STANDARD
BEGIN:DAYLIGHT
TZOFFSETFROM:-0500
TZOFFSETTO:-0400
TZNAME:EDT
DTSTART:20270314T070000
END:DAYLIGHT
BEGIN:STANDARD
TZOFFSETFROM:-0400
TZOFFSETTO:-0500
TZNAME:EST
DTSTART:20271107T060000
END:STANDARD
END:VTIMEZONE
BEGIN:VEVENT
DTSTART;TZID=America/New_York:20260323T180000
DTEND;TZID=America/New_York:20260323T200000
DTSTAMP:20260421T080007
CREATED:20260206T015709Z
LAST-MODIFIED:20260209T214128Z
UID:10004493-1774288800-1774296000@wilmingtonbrewworks.com
SUMMARY:Tavern Talks - Independence or the Bayonet
DESCRIPTION:Have you ever wanted to learn more about Delaware’s Founding Fathers? Or about what Delaware was doing during the lead-up to the Revolutionary War? Independence or the Bayonet covers the stories of Caesar Rodney\, George Read\, and Thomas McKean from their lives prior to the Revolution\, Delaware’s actions during the lead-up to the Declaration of Independence\, the fallout\, and what the three men did after. Join us to learn more about Delaware’s Founding Fathers and their involvement in the Revolutionary War.\n\nPresented by: Maria Meyer\, Delaware Public Archives\nhttps://archives.delaware.gov/events/independence-or-the-bayonet-2/\n\nTHIS IS A FREE EVENT
URL:https://wilmingtonbrewworks.com/event/tavern-talks-independence-or-the-bayonet/
LOCATION:Wilmington Brew Works\, 3129 Miller Road\, Wilmington\, DE\, 19802\, United States
CATEGORIES:Alamo Room Events,Taproom Events
ATTACH;FMTTYPE=image/jpeg:https://wilmingtonbrewworks.com/wp-content/uploads/2026/02/Independence-or-the-Bayonette-WBW-03232026.jpg
END:VEVENT
END:VCALENDAR