BEGIN:VCALENDAR
VERSION:2.0
PRODID:-//Wilmington Brew Works - ECPv6.15.20//NONSGML v1.0//EN
CALSCALE:GREGORIAN
METHOD:PUBLISH
X-WR-CALNAME:Wilmington Brew Works
X-ORIGINAL-URL:https://wilmingtonbrewworks.com
X-WR-CALDESC:Events for Wilmington Brew Works
REFRESH-INTERVAL;VALUE=DURATION:PT1H
X-Robots-Tag:noindex
X-PUBLISHED-TTL:PT1H
BEGIN:VTIMEZONE
TZID:America/New_York
BEGIN:DAYLIGHT
TZOFFSETFROM:-0500
TZOFFSETTO:-0400
TZNAME:EDT
DTSTART:20220313T070000
END:DAYLIGHT
BEGIN:STANDARD
TZOFFSETFROM:-0400
TZOFFSETTO:-0500
TZNAME:EST
DTSTART:20221106T060000
END:STANDARD
BEGIN:DAYLIGHT
TZOFFSETFROM:-0500
TZOFFSETTO:-0400
TZNAME:EDT
DTSTART:20230312T070000
END:DAYLIGHT
BEGIN:STANDARD
TZOFFSETFROM:-0400
TZOFFSETTO:-0500
TZNAME:EST
DTSTART:20231105T060000
END:STANDARD
BEGIN:DAYLIGHT
TZOFFSETFROM:-0500
TZOFFSETTO:-0400
TZNAME:EDT
DTSTART:20240310T070000
END:DAYLIGHT
BEGIN:STANDARD
TZOFFSETFROM:-0400
TZOFFSETTO:-0500
TZNAME:EST
DTSTART:20241103T060000
END:STANDARD
END:VTIMEZONE
BEGIN:VEVENT
DTSTART;TZID=America/New_York:20231221T190000
DTEND;TZID=America/New_York:20231221T220000
DTSTAMP:20260420T121317
CREATED:20231218T142959Z
LAST-MODIFIED:20240521T183547Z
UID:10000783-1703185200-1703196000@wilmingtonbrewworks.com
SUMMARY:Brew Better Werk! A Drag Bingo with Jolene Cuisine!
DESCRIPTION:Join the Drag Bear of Delaware\, Jolene Cuisine\, for Beers and Bingo! \nJolene Cuisine hosts Brew Better Werk! the Drag Bingo at Wilmington Brew Works. \nTickets are $12\, include 5 rounds of Bingo with WBW Swag Prizes and a FABULOUS drag show featuring fierce local talent. Bring your cash to tip the entertainers! Seating will be limited so the presale is recommended. \nThird Thursday of Every Month! Doors open at 7 PM \, show starts at 8 PM. \nTickets Available from Jolene Cuisine!
URL:https://wilmingtonbrewworks.com/event/brew-better-werk-a-drag-bingo-with-jolene-cuisine/2023-12-21/
LOCATION:The Alamo Room\, 3129 Miller Road\, Wilmington\, DE\, 19802\, United States
CATEGORIES:Alamo Room Events,Ticketed Events
ATTACH;FMTTYPE=image/png:https://wilmingtonbrewworks.com/wp-content/uploads/2023/12/Jolene_WBW2024Event.png
END:VEVENT
BEGIN:VEVENT
DTSTART;TZID=America/New_York:20231220T190000
DTEND;TZID=America/New_York:20231220T210000
DTSTAMP:20260420T121317
CREATED:20231218T142348Z
LAST-MODIFIED:20240229T152144Z
UID:10000522-1703098800-1703106000@wilmingtonbrewworks.com
SUMMARY:Small Batch Trivia with Geeks Who Drink
DESCRIPTION:Small Batch Trivia\, the latest offering from Geeks Who Drink brings you a light-hearted night of trivia competition to Wilmington Brew Works! \nOur weekly quiz is free to play and we’ll be giving away gift cards for our top teams at the end of the night. Join us for straight up fun!
URL:https://wilmingtonbrewworks.com/event/small-batch-trivia-with-geeks-who-drink/2023-12-20/
LOCATION:Wilmington Brew Works\, 3129 Miller Road\, Wilmington\, DE\, 19802\, United States
CATEGORIES:Taproom Events
ATTACH;FMTTYPE=image/png:https://wilmingtonbrewworks.com/wp-content/uploads/2023/10/WBW-GWD-TriviaFacebook-Cover.png
END:VEVENT
BEGIN:VEVENT
DTSTART;TZID=America/New_York:20231219T180000
DTEND;TZID=America/New_York:20231219T210000
DTSTAMP:20260420T121317
CREATED:20231218T142025Z
LAST-MODIFIED:20250106T223555Z
UID:10000261-1703008800-1703019600@wilmingtonbrewworks.com
SUMMARY:Turntable Tuesday
DESCRIPTION:Spinning Vinyl in the Taproom! Now with Theme nights! We’ll focus in on a genre each each (check our socials)\, but still spin whatever you bring in! \nBring Your Own Vinyl and we’ll play it. Thumb through our collection and make a request! Have a beer and listen to some deep cuts. \n4th Tuesday Each Month features local Record Shops and Dealers selling new and used vinyl in the Alamo Room. Score! \n 
URL:https://wilmingtonbrewworks.com/event/turntable-tuesday/2023-12-19/
LOCATION:Wilmington Brew Works\, 3129 Miller Road\, Wilmington\, DE\, 19802\, United States
CATEGORIES:Taproom Events
ATTACH;FMTTYPE=image/png:https://wilmingtonbrewworks.com/wp-content/uploads/2022/11/TTT-2022Facebook-event_1.png
END:VEVENT
END:VCALENDAR