BEGIN:VCALENDAR
VERSION:2.0
PRODID:-//Wilmington Brew Works - ECPv6.15.20//NONSGML v1.0//EN
CALSCALE:GREGORIAN
METHOD:PUBLISH
X-ORIGINAL-URL:https://wilmingtonbrewworks.com
X-WR-CALDESC:Events for Wilmington Brew Works
REFRESH-INTERVAL;VALUE=DURATION:PT1H
X-Robots-Tag:noindex
X-PUBLISHED-TTL:PT1H
BEGIN:VTIMEZONE
TZID:America/New_York
BEGIN:DAYLIGHT
TZOFFSETFROM:-0500
TZOFFSETTO:-0400
TZNAME:EDT
DTSTART:20250309T070000
END:DAYLIGHT
BEGIN:STANDARD
TZOFFSETFROM:-0400
TZOFFSETTO:-0500
TZNAME:EST
DTSTART:20251102T060000
END:STANDARD
BEGIN:DAYLIGHT
TZOFFSETFROM:-0500
TZOFFSETTO:-0400
TZNAME:EDT
DTSTART:20260308T070000
END:DAYLIGHT
BEGIN:STANDARD
TZOFFSETFROM:-0400
TZOFFSETTO:-0500
TZNAME:EST
DTSTART:20261101T060000
END:STANDARD
BEGIN:DAYLIGHT
TZOFFSETFROM:-0500
TZOFFSETTO:-0400
TZNAME:EDT
DTSTART:20270314T070000
END:DAYLIGHT
BEGIN:STANDARD
TZOFFSETFROM:-0400
TZOFFSETTO:-0500
TZNAME:EST
DTSTART:20271107T060000
END:STANDARD
BEGIN:DAYLIGHT
TZOFFSETFROM:-0500
TZOFFSETTO:-0400
TZNAME:EDT
DTSTART:20280312T070000
END:DAYLIGHT
BEGIN:STANDARD
TZOFFSETFROM:-0400
TZOFFSETTO:-0500
TZNAME:EST
DTSTART:20281105T060000
END:STANDARD
END:VTIMEZONE
BEGIN:VEVENT
DTSTART;TZID=America/New_York:20261231T183000
DTEND;TZID=America/New_York:20261231T213000
DTSTAMP:20260420T104609
CREATED:20260205T001622Z
LAST-MODIFIED:20260205T001622Z
UID:10004479-1798741800-1798752600@wilmingtonbrewworks.com
SUMMARY:Heyday Athletic Cornhole League
DESCRIPTION:Thursday Night Cornhole League run by Heyday Athletic. \nRegister at Heyday Athletic.
URL:https://wilmingtonbrewworks.com/event/heyday-athletic-cornhole-league/2026-12-31/
LOCATION:Brew Works North\, 1851 Marsh Rd\, Wilmington\, DE\, 19810\, United States
CATEGORIES:Brew Works North Events
ATTACH;FMTTYPE=image/jpeg:https://wilmingtonbrewworks.com/wp-content/uploads/2026/02/f72d1c9eaed7226ae6ca0e62111d2a9b.jpg
END:VEVENT
BEGIN:VEVENT
DTSTART;TZID=America/New_York:20270107T183000
DTEND;TZID=America/New_York:20270107T213000
DTSTAMP:20260420T104609
CREATED:20260205T001622Z
LAST-MODIFIED:20260205T001622Z
UID:10004480-1799346600-1799357400@wilmingtonbrewworks.com
SUMMARY:Heyday Athletic Cornhole League
DESCRIPTION:Thursday Night Cornhole League run by Heyday Athletic. \nRegister at Heyday Athletic.
URL:https://wilmingtonbrewworks.com/event/heyday-athletic-cornhole-league/2027-01-07/
LOCATION:Brew Works North\, 1851 Marsh Rd\, Wilmington\, DE\, 19810\, United States
CATEGORIES:Brew Works North Events
ATTACH;FMTTYPE=image/jpeg:https://wilmingtonbrewworks.com/wp-content/uploads/2026/02/f72d1c9eaed7226ae6ca0e62111d2a9b.jpg
END:VEVENT
BEGIN:VEVENT
DTSTART;TZID=America/New_York:20270114T183000
DTEND;TZID=America/New_York:20270114T213000
DTSTAMP:20260420T104609
CREATED:20260205T001622Z
LAST-MODIFIED:20260205T001622Z
UID:10004481-1799951400-1799962200@wilmingtonbrewworks.com
SUMMARY:Heyday Athletic Cornhole League
DESCRIPTION:Thursday Night Cornhole League run by Heyday Athletic. \nRegister at Heyday Athletic.
URL:https://wilmingtonbrewworks.com/event/heyday-athletic-cornhole-league/2027-01-14/
LOCATION:Brew Works North\, 1851 Marsh Rd\, Wilmington\, DE\, 19810\, United States
CATEGORIES:Brew Works North Events
ATTACH;FMTTYPE=image/jpeg:https://wilmingtonbrewworks.com/wp-content/uploads/2026/02/f72d1c9eaed7226ae6ca0e62111d2a9b.jpg
END:VEVENT
BEGIN:VEVENT
DTSTART;TZID=America/New_York:20270121T183000
DTEND;TZID=America/New_York:20270121T213000
DTSTAMP:20260420T104609
CREATED:20260205T001622Z
LAST-MODIFIED:20260205T001622Z
UID:10004482-1800556200-1800567000@wilmingtonbrewworks.com
SUMMARY:Heyday Athletic Cornhole League
DESCRIPTION:Thursday Night Cornhole League run by Heyday Athletic. \nRegister at Heyday Athletic.
URL:https://wilmingtonbrewworks.com/event/heyday-athletic-cornhole-league/2027-01-21/
LOCATION:Brew Works North\, 1851 Marsh Rd\, Wilmington\, DE\, 19810\, United States
CATEGORIES:Brew Works North Events
ATTACH;FMTTYPE=image/jpeg:https://wilmingtonbrewworks.com/wp-content/uploads/2026/02/f72d1c9eaed7226ae6ca0e62111d2a9b.jpg
END:VEVENT
BEGIN:VEVENT
DTSTART;TZID=America/New_York:20270128T183000
DTEND;TZID=America/New_York:20270128T213000
DTSTAMP:20260420T104609
CREATED:20260205T001622Z
LAST-MODIFIED:20260205T001622Z
UID:10004483-1801161000-1801171800@wilmingtonbrewworks.com
SUMMARY:Heyday Athletic Cornhole League
DESCRIPTION:Thursday Night Cornhole League run by Heyday Athletic. \nRegister at Heyday Athletic.
URL:https://wilmingtonbrewworks.com/event/heyday-athletic-cornhole-league/2027-01-28/
LOCATION:Brew Works North\, 1851 Marsh Rd\, Wilmington\, DE\, 19810\, United States
CATEGORIES:Brew Works North Events
ATTACH;FMTTYPE=image/jpeg:https://wilmingtonbrewworks.com/wp-content/uploads/2026/02/f72d1c9eaed7226ae6ca0e62111d2a9b.jpg
END:VEVENT
BEGIN:VEVENT
DTSTART;TZID=America/New_York:20270204T183000
DTEND;TZID=America/New_York:20270204T213000
DTSTAMP:20260420T104609
CREATED:20260205T001622Z
LAST-MODIFIED:20260205T001622Z
UID:10004484-1801765800-1801776600@wilmingtonbrewworks.com
SUMMARY:Heyday Athletic Cornhole League
DESCRIPTION:Thursday Night Cornhole League run by Heyday Athletic. \nRegister at Heyday Athletic.
URL:https://wilmingtonbrewworks.com/event/heyday-athletic-cornhole-league/2027-02-04/
LOCATION:Brew Works North\, 1851 Marsh Rd\, Wilmington\, DE\, 19810\, United States
CATEGORIES:Brew Works North Events
ATTACH;FMTTYPE=image/jpeg:https://wilmingtonbrewworks.com/wp-content/uploads/2026/02/f72d1c9eaed7226ae6ca0e62111d2a9b.jpg
END:VEVENT
BEGIN:VEVENT
DTSTART;TZID=America/New_York:20270211T183000
DTEND;TZID=America/New_York:20270211T213000
DTSTAMP:20260420T104609
CREATED:20260205T001622Z
LAST-MODIFIED:20260205T001622Z
UID:10004485-1802370600-1802381400@wilmingtonbrewworks.com
SUMMARY:Heyday Athletic Cornhole League
DESCRIPTION:Thursday Night Cornhole League run by Heyday Athletic. \nRegister at Heyday Athletic.
URL:https://wilmingtonbrewworks.com/event/heyday-athletic-cornhole-league/2027-02-11/
LOCATION:Brew Works North\, 1851 Marsh Rd\, Wilmington\, DE\, 19810\, United States
CATEGORIES:Brew Works North Events
ATTACH;FMTTYPE=image/jpeg:https://wilmingtonbrewworks.com/wp-content/uploads/2026/02/f72d1c9eaed7226ae6ca0e62111d2a9b.jpg
END:VEVENT
BEGIN:VEVENT
DTSTART;TZID=America/New_York:20270218T183000
DTEND;TZID=America/New_York:20270218T213000
DTSTAMP:20260420T104609
CREATED:20260205T001622Z
LAST-MODIFIED:20260205T001622Z
UID:10004486-1802975400-1802986200@wilmingtonbrewworks.com
SUMMARY:Heyday Athletic Cornhole League
DESCRIPTION:Thursday Night Cornhole League run by Heyday Athletic. \nRegister at Heyday Athletic.
URL:https://wilmingtonbrewworks.com/event/heyday-athletic-cornhole-league/2027-02-18/
LOCATION:Brew Works North\, 1851 Marsh Rd\, Wilmington\, DE\, 19810\, United States
CATEGORIES:Brew Works North Events
ATTACH;FMTTYPE=image/jpeg:https://wilmingtonbrewworks.com/wp-content/uploads/2026/02/f72d1c9eaed7226ae6ca0e62111d2a9b.jpg
END:VEVENT
BEGIN:VEVENT
DTSTART;TZID=America/New_York:20270225T183000
DTEND;TZID=America/New_York:20270225T213000
DTSTAMP:20260420T104609
CREATED:20260205T001622Z
LAST-MODIFIED:20260205T001622Z
UID:10004487-1803580200-1803591000@wilmingtonbrewworks.com
SUMMARY:Heyday Athletic Cornhole League
DESCRIPTION:Thursday Night Cornhole League run by Heyday Athletic. \nRegister at Heyday Athletic.
URL:https://wilmingtonbrewworks.com/event/heyday-athletic-cornhole-league/2027-02-25/
LOCATION:Brew Works North\, 1851 Marsh Rd\, Wilmington\, DE\, 19810\, United States
CATEGORIES:Brew Works North Events
ATTACH;FMTTYPE=image/jpeg:https://wilmingtonbrewworks.com/wp-content/uploads/2026/02/f72d1c9eaed7226ae6ca0e62111d2a9b.jpg
END:VEVENT
BEGIN:VEVENT
DTSTART;TZID=America/New_York:20270304T183000
DTEND;TZID=America/New_York:20270304T213000
DTSTAMP:20260420T104609
CREATED:20260205T001622Z
LAST-MODIFIED:20260205T001622Z
UID:10004488-1804185000-1804195800@wilmingtonbrewworks.com
SUMMARY:Heyday Athletic Cornhole League
DESCRIPTION:Thursday Night Cornhole League run by Heyday Athletic. \nRegister at Heyday Athletic.
URL:https://wilmingtonbrewworks.com/event/heyday-athletic-cornhole-league/2027-03-04/
LOCATION:Brew Works North\, 1851 Marsh Rd\, Wilmington\, DE\, 19810\, United States
CATEGORIES:Brew Works North Events
ATTACH;FMTTYPE=image/jpeg:https://wilmingtonbrewworks.com/wp-content/uploads/2026/02/f72d1c9eaed7226ae6ca0e62111d2a9b.jpg
END:VEVENT
BEGIN:VEVENT
DTSTART;TZID=America/New_York:20270311T183000
DTEND;TZID=America/New_York:20270311T213000
DTSTAMP:20260420T104609
CREATED:20260205T001622Z
LAST-MODIFIED:20260205T001622Z
UID:10004489-1804789800-1804800600@wilmingtonbrewworks.com
SUMMARY:Heyday Athletic Cornhole League
DESCRIPTION:Thursday Night Cornhole League run by Heyday Athletic. \nRegister at Heyday Athletic.
URL:https://wilmingtonbrewworks.com/event/heyday-athletic-cornhole-league/2027-03-11/
LOCATION:Brew Works North\, 1851 Marsh Rd\, Wilmington\, DE\, 19810\, United States
CATEGORIES:Brew Works North Events
ATTACH;FMTTYPE=image/jpeg:https://wilmingtonbrewworks.com/wp-content/uploads/2026/02/f72d1c9eaed7226ae6ca0e62111d2a9b.jpg
END:VEVENT
BEGIN:VEVENT
DTSTART;TZID=America/New_York:20270318T183000
DTEND;TZID=America/New_York:20270318T213000
DTSTAMP:20260420T104609
CREATED:20260205T001622Z
LAST-MODIFIED:20260205T001622Z
UID:10004490-1805394600-1805405400@wilmingtonbrewworks.com
SUMMARY:Heyday Athletic Cornhole League
DESCRIPTION:Thursday Night Cornhole League run by Heyday Athletic. \nRegister at Heyday Athletic.
URL:https://wilmingtonbrewworks.com/event/heyday-athletic-cornhole-league/2027-03-18/
LOCATION:Brew Works North\, 1851 Marsh Rd\, Wilmington\, DE\, 19810\, United States
CATEGORIES:Brew Works North Events
ATTACH;FMTTYPE=image/jpeg:https://wilmingtonbrewworks.com/wp-content/uploads/2026/02/f72d1c9eaed7226ae6ca0e62111d2a9b.jpg
END:VEVENT
BEGIN:VEVENT
DTSTART;TZID=America/New_York:20270325T183000
DTEND;TZID=America/New_York:20270325T213000
DTSTAMP:20260420T104609
CREATED:20260205T001622Z
LAST-MODIFIED:20260205T001622Z
UID:10004491-1805999400-1806010200@wilmingtonbrewworks.com
SUMMARY:Heyday Athletic Cornhole League
DESCRIPTION:Thursday Night Cornhole League run by Heyday Athletic. \nRegister at Heyday Athletic.
URL:https://wilmingtonbrewworks.com/event/heyday-athletic-cornhole-league/2027-03-25/
LOCATION:Brew Works North\, 1851 Marsh Rd\, Wilmington\, DE\, 19810\, United States
CATEGORIES:Brew Works North Events
ATTACH;FMTTYPE=image/jpeg:https://wilmingtonbrewworks.com/wp-content/uploads/2026/02/f72d1c9eaed7226ae6ca0e62111d2a9b.jpg
END:VEVENT
BEGIN:VEVENT
DTSTART;TZID=America/New_York:20270401T183000
DTEND;TZID=America/New_York:20270401T213000
DTSTAMP:20260420T104609
CREATED:20260205T001622Z
LAST-MODIFIED:20260205T001622Z
UID:10004492-1806604200-1806615000@wilmingtonbrewworks.com
SUMMARY:Heyday Athletic Cornhole League
DESCRIPTION:Thursday Night Cornhole League run by Heyday Athletic. \nRegister at Heyday Athletic.
URL:https://wilmingtonbrewworks.com/event/heyday-athletic-cornhole-league/2027-04-01/
LOCATION:Brew Works North\, 1851 Marsh Rd\, Wilmington\, DE\, 19810\, United States
CATEGORIES:Brew Works North Events
ATTACH;FMTTYPE=image/jpeg:https://wilmingtonbrewworks.com/wp-content/uploads/2026/02/f72d1c9eaed7226ae6ca0e62111d2a9b.jpg
END:VEVENT
END:VCALENDAR