BEGIN:VCALENDAR
VERSION:2.0
PRODID:-//Wilmington Brew Works - ECPv6.15.20//NONSGML v1.0//EN
CALSCALE:GREGORIAN
METHOD:PUBLISH
X-WR-CALNAME:Wilmington Brew Works
X-ORIGINAL-URL:https://wilmingtonbrewworks.com
X-WR-CALDESC:Events for Wilmington Brew Works
REFRESH-INTERVAL;VALUE=DURATION:PT1H
X-Robots-Tag:noindex
X-PUBLISHED-TTL:PT1H
BEGIN:VTIMEZONE
TZID:America/New_York
BEGIN:DAYLIGHT
TZOFFSETFROM:-0500
TZOFFSETTO:-0400
TZNAME:EDT
DTSTART:20250309T070000
END:DAYLIGHT
BEGIN:STANDARD
TZOFFSETFROM:-0400
TZOFFSETTO:-0500
TZNAME:EST
DTSTART:20251102T060000
END:STANDARD
BEGIN:DAYLIGHT
TZOFFSETFROM:-0500
TZOFFSETTO:-0400
TZNAME:EDT
DTSTART:20260308T070000
END:DAYLIGHT
BEGIN:STANDARD
TZOFFSETFROM:-0400
TZOFFSETTO:-0500
TZNAME:EST
DTSTART:20261101T060000
END:STANDARD
BEGIN:DAYLIGHT
TZOFFSETFROM:-0500
TZOFFSETTO:-0400
TZNAME:EDT
DTSTART:20270314T070000
END:DAYLIGHT
BEGIN:STANDARD
TZOFFSETFROM:-0400
TZOFFSETTO:-0500
TZNAME:EST
DTSTART:20271107T060000
END:STANDARD
END:VTIMEZONE
BEGIN:VEVENT
DTSTART;TZID=America/New_York:20260825T173000
DTEND;TZID=America/New_York:20260825T220000
DTSTAMP:20260420T185836
CREATED:20251211T224440Z
LAST-MODIFIED:20251211T224441Z
UID:10004064-1787679000-1787695200@wilmingtonbrewworks.com
SUMMARY:Board Game Social (BWN)
DESCRIPTION:Wilmington Board Game Social! Play games\, drink beers\, and make new friends!\n$5 cover gets you:. Access to a library of games! (or bring your own!). We can teach you how to play\, and walk you through your first game!\n\n\nBoard game nights the fourth Tuesday of every month at Brew Works North!\n\n\n\nOpen your table up to new players and meet new friends! It’s the monthly board game social you’ve been looking for!
URL:https://wilmingtonbrewworks.com/event/board-game-social-bwn/2026-08-25/
LOCATION:Brew Works North\, 1851 Marsh Rd\, Wilmington\, DE\, 19810\, United States
CATEGORIES:Brew Works North Events
ATTACH;FMTTYPE=image/webp:https://wilmingtonbrewworks.com/wp-content/uploads/2025/12/wavelength-landscape-north.webp
END:VEVENT
END:VCALENDAR