BEGIN:VCALENDAR
VERSION:2.0
PRODID:-//Wilmington Brew Works - ECPv6.15.20//NONSGML v1.0//EN
CALSCALE:GREGORIAN
METHOD:PUBLISH
X-ORIGINAL-URL:https://wilmingtonbrewworks.com
X-WR-CALDESC:Events for Wilmington Brew Works
REFRESH-INTERVAL;VALUE=DURATION:PT1H
X-Robots-Tag:noindex
X-PUBLISHED-TTL:PT1H
BEGIN:VTIMEZONE
TZID:America/New_York
BEGIN:DAYLIGHT
TZOFFSETFROM:-0500
TZOFFSETTO:-0400
TZNAME:EDT
DTSTART:20250309T070000
END:DAYLIGHT
BEGIN:STANDARD
TZOFFSETFROM:-0400
TZOFFSETTO:-0500
TZNAME:EST
DTSTART:20251102T060000
END:STANDARD
BEGIN:DAYLIGHT
TZOFFSETFROM:-0500
TZOFFSETTO:-0400
TZNAME:EDT
DTSTART:20260308T070000
END:DAYLIGHT
BEGIN:STANDARD
TZOFFSETFROM:-0400
TZOFFSETTO:-0500
TZNAME:EST
DTSTART:20261101T060000
END:STANDARD
BEGIN:DAYLIGHT
TZOFFSETFROM:-0500
TZOFFSETTO:-0400
TZNAME:EDT
DTSTART:20270314T070000
END:DAYLIGHT
BEGIN:STANDARD
TZOFFSETFROM:-0400
TZOFFSETTO:-0500
TZNAME:EST
DTSTART:20271107T060000
END:STANDARD
END:VTIMEZONE
BEGIN:VEVENT
DTSTART;TZID=America/New_York:20260312T200000
DTEND;TZID=America/New_York:20260312T220000
DTSTAMP:20260421T010138
CREATED:20260302T114636Z
LAST-MODIFIED:20260302T114637Z
UID:10004497-1773345600-1773352800@wilmingtonbrewworks.com
SUMMARY:Stand-Up Comedy Night at Wilmington Brew Works
DESCRIPTION:Stand-Up Comedy Night at Wilmington Brew Works\nFeaturing Dan Frigolette & Lily Lester Wilmington Brew Works Thursday\, March 12 Doors: 7:00 PM | Show: 8:00 PM Tickets: $20\n\nWilmington Brew Works welcomes nationally touring comedians Dan Frigolette and Lily Lester for a night of big laughs on Thursday\, March 12th. This showcase brings together two standout performers seen on television\, streaming platforms\, and major comedy festivals across the country.\n\nDan Frigolette is a veteran stand-up comedian and actor whose credits include HBO’s Boardwalk Empire\, Game Theory with Bomani Jones\, and The Wendy Williams Show. Known for his high-energy performances\, sharp crowd work\, and bold storytelling\, Dan has spent over two decades performing across the U.S. and internationally.\n\nJoining him is Lily Lester\, who has appeared at the prestigious New York Comedy Festival and on FX’s Love Story on Now. With a smart\, engaging stage presence and a sharp comedic voice\, Lily has quickly become a standout performer on stages nationwide.\n\nEnjoy Wilmington Brew Works’ craft beer selection while taking in an unforgettable night of live stand-up comedy. Whether you’re planning a night out with friends or looking to spice up your Thursday evening\, this show is the perfect pairing of great beer and big laughs.\nSeating is limited — arrive early for the best spots before the show begins.
URL:https://wilmingtonbrewworks.com/event/stand-up-comedy-night-at-wilmington-brew-works/
LOCATION:Wilmington Brew Works\, 3129 Miller Road\, Wilmington\, DE\, 19802\, United States
CATEGORIES:Alamo Room Events,Ticketed Events
ATTACH;FMTTYPE=image/png:https://wilmingtonbrewworks.com/wp-content/uploads/2026/03/312-1920-x-1005.png
END:VEVENT
END:VCALENDAR