BEGIN:VCALENDAR
VERSION:2.0
PRODID:-//Wilmington Brew Works - ECPv6.15.20//NONSGML v1.0//EN
CALSCALE:GREGORIAN
METHOD:PUBLISH
X-ORIGINAL-URL:https://wilmingtonbrewworks.com
X-WR-CALDESC:Events for Wilmington Brew Works
REFRESH-INTERVAL;VALUE=DURATION:PT1H
X-Robots-Tag:noindex
X-PUBLISHED-TTL:PT1H
BEGIN:VTIMEZONE
TZID:America/New_York
BEGIN:DAYLIGHT
TZOFFSETFROM:-0500
TZOFFSETTO:-0400
TZNAME:EDT
DTSTART:20250309T070000
END:DAYLIGHT
BEGIN:STANDARD
TZOFFSETFROM:-0400
TZOFFSETTO:-0500
TZNAME:EST
DTSTART:20251102T060000
END:STANDARD
BEGIN:DAYLIGHT
TZOFFSETFROM:-0500
TZOFFSETTO:-0400
TZNAME:EDT
DTSTART:20260308T070000
END:DAYLIGHT
BEGIN:STANDARD
TZOFFSETFROM:-0400
TZOFFSETTO:-0500
TZNAME:EST
DTSTART:20261101T060000
END:STANDARD
BEGIN:DAYLIGHT
TZOFFSETFROM:-0500
TZOFFSETTO:-0400
TZNAME:EDT
DTSTART:20270314T070000
END:DAYLIGHT
BEGIN:STANDARD
TZOFFSETFROM:-0400
TZOFFSETTO:-0500
TZNAME:EST
DTSTART:20271107T060000
END:STANDARD
END:VTIMEZONE
BEGIN:VEVENT
DTSTART;TZID=America/New_York:20260521T200000
DTEND;TZID=America/New_York:20260521T220000
DTSTAMP:20260421T010140
CREATED:20260106T212014Z
LAST-MODIFIED:20260106T212014Z
UID:10004277-1779393600-1779400800@wilmingtonbrewworks.com
SUMMARY:Fearless Improv @ Wilmington Brew Works!
DESCRIPTION:Laugh with the most Fearless people in Wilmington in the Alamo Room at Wilmington Brew Works!\n\nFearless Improv creates comedy\, on the spot\, that has never been seen before and will never be seen again. The show is based on audience suggestions\, so you’re a part of the show too!\n\nDoors open at 7:30pm; show starts at 8:00pm. A cash bar featuring WBW beverages is available for purchase before\, during and after show.\n\nFearless Improv’s season is generously sponsored by a gift from Artisans’ Bank.\n\nPLEASE NOTE: This show is geared toward age 18+. Some material may not be suitable for those under age 18.\n\nTICKETS
URL:https://wilmingtonbrewworks.com/event/fearless-improv-wilmington-brew-works-6/2026-05-21/
LOCATION:The Alamo Room\, 3129 Miller Road\, Wilmington\, DE\, 19802\, United States
CATEGORIES:Alamo Room Events,Ticketed Events
ATTACH;FMTTYPE=image/png:https://wilmingtonbrewworks.com/wp-content/uploads/2023/01/Fearless-ImprovArtboard-1.png
END:VEVENT
END:VCALENDAR