BEGIN:VCALENDAR
VERSION:2.0
PRODID:-//Wilmington Brew Works - ECPv6.15.20//NONSGML v1.0//EN
CALSCALE:GREGORIAN
METHOD:PUBLISH
X-WR-CALNAME:Wilmington Brew Works
X-ORIGINAL-URL:https://wilmingtonbrewworks.com
X-WR-CALDESC:Events for Wilmington Brew Works
REFRESH-INTERVAL;VALUE=DURATION:PT1H
X-Robots-Tag:noindex
X-PUBLISHED-TTL:PT1H
BEGIN:VTIMEZONE
TZID:America/New_York
BEGIN:DAYLIGHT
TZOFFSETFROM:-0500
TZOFFSETTO:-0400
TZNAME:EDT
DTSTART:20240310T070000
END:DAYLIGHT
BEGIN:STANDARD
TZOFFSETFROM:-0400
TZOFFSETTO:-0500
TZNAME:EST
DTSTART:20241103T060000
END:STANDARD
BEGIN:DAYLIGHT
TZOFFSETFROM:-0500
TZOFFSETTO:-0400
TZNAME:EDT
DTSTART:20250309T070000
END:DAYLIGHT
BEGIN:STANDARD
TZOFFSETFROM:-0400
TZOFFSETTO:-0500
TZNAME:EST
DTSTART:20251102T060000
END:STANDARD
BEGIN:DAYLIGHT
TZOFFSETFROM:-0500
TZOFFSETTO:-0400
TZNAME:EDT
DTSTART:20260308T070000
END:DAYLIGHT
BEGIN:STANDARD
TZOFFSETFROM:-0400
TZOFFSETTO:-0500
TZNAME:EST
DTSTART:20261101T060000
END:STANDARD
END:VTIMEZONE
BEGIN:VEVENT
DTSTART;TZID=America/New_York:20250801T170000
DTEND;TZID=America/New_York:20250801T200000
DTSTAMP:20260420T225649
CREATED:20250716T211717Z
LAST-MODIFIED:20250716T211717Z
UID:10003371-1754067600-1754078400@wilmingtonbrewworks.com
SUMMARY:Food Truck @ BWN - The Flying Deutschman
DESCRIPTION:The Flying Deutschman
URL:https://wilmingtonbrewworks.com/event/food-truck-bwn-the-flying-deutschman/
LOCATION:Brew Works North\, 1851 Marsh Rd\, Wilmington\, DE\, 19810\, United States
CATEGORIES:Food Truck
ATTACH;FMTTYPE=image/png:https://wilmingtonbrewworks.com/wp-content/uploads/2025/07/BWN-FoodTruckEvent.png
END:VEVENT
BEGIN:VEVENT
DTSTART;TZID=America/New_York:20250802T150000
DTEND;TZID=America/New_York:20250802T200000
DTSTAMP:20260420T225649
CREATED:20250716T211921Z
LAST-MODIFIED:20250716T211921Z
UID:10003372-1754146800-1754164800@wilmingtonbrewworks.com
SUMMARY:Food Truck @ BWN - The Flavor Lane
DESCRIPTION:Facebook Profile
URL:https://wilmingtonbrewworks.com/event/food-truck-bwn-the-flavor-lane-4/
LOCATION:Brew Works North\, 1851 Marsh Rd\, Wilmington\, DE\, 19810\, United States
CATEGORIES:Food Truck
ATTACH;FMTTYPE=image/png:https://wilmingtonbrewworks.com/wp-content/uploads/2025/07/BWN-FoodTruckEvent.png
END:VEVENT
BEGIN:VEVENT
DTSTART;TZID=America/New_York:20250804T170000
DTEND;TZID=America/New_York:20250804T200000
DTSTAMP:20260420T225649
CREATED:20250728T205633Z
LAST-MODIFIED:20250728T205701Z
UID:10003435-1754326800-1754337600@wilmingtonbrewworks.com
SUMMARY:Food Truck: Southern Fried Vegan
DESCRIPTION:VEGNEWS’ and USA TODAY’s #1 Vegan BBQ Joint in the country is coming to Wilmington! We’re bringing a loaded menu including Southern Staples and Sandwich Specials.\n\nMenu highlights include Fried Chickun\, Smoked Meats\, Mac N Cheeze\, Jambalaya\, Cajun Corn\, Beer-Cheeze Battered Beyond Burgers\, Po Boyz\, Totchos and more!\n\nOur whole Menu is Nut-Free with Several Gluten-Free options.
URL:https://wilmingtonbrewworks.com/event/food-truck-southern-fried-vegan-2/
LOCATION:Wilmington Brew Works\, 3129 Miller Road\, Wilmington\, DE\, 19802\, United States
CATEGORIES:Food Truck
ATTACH;FMTTYPE=image/png:https://wilmingtonbrewworks.com/wp-content/uploads/2024/05/FoodTruckWeb.png
END:VEVENT
BEGIN:VEVENT
DTSTART;TZID=America/New_York:20250807T160000
DTEND;TZID=America/New_York:20250807T200000
DTSTAMP:20260420T225649
CREATED:20250716T212007Z
LAST-MODIFIED:20250716T212007Z
UID:10003373-1754582400-1754596800@wilmingtonbrewworks.com
SUMMARY:Food Truck @ BWN - We Aim To Cheese
DESCRIPTION:We Aim To Cheese \n(Facebook Profile)
URL:https://wilmingtonbrewworks.com/event/food-truck-bwn-we-aim-to-cheese-2/
LOCATION:Brew Works North\, 1851 Marsh Rd\, Wilmington\, DE\, 19810\, United States
CATEGORIES:Food Truck
ATTACH;FMTTYPE=image/png:https://wilmingtonbrewworks.com/wp-content/uploads/2025/07/BWN-FoodTruckEvent.png
END:VEVENT
BEGIN:VEVENT
DTSTART;TZID=America/New_York:20250809T160000
DTEND;TZID=America/New_York:20250809T200000
DTSTAMP:20260420T225649
CREATED:20250716T212204Z
LAST-MODIFIED:20250716T212204Z
UID:10003374-1754755200-1754769600@wilmingtonbrewworks.com
SUMMARY:Food Truck @ BWN - Ranya's Thai Kitchen
DESCRIPTION:Facebook Profile
URL:https://wilmingtonbrewworks.com/event/food-truck-bwn-ranyas-thai-kitchen-2/
LOCATION:Brew Works North\, 1851 Marsh Rd\, Wilmington\, DE\, 19810\, United States
CATEGORIES:Food Truck
ATTACH;FMTTYPE=image/png:https://wilmingtonbrewworks.com/wp-content/uploads/2025/07/BWN-FoodTruckEvent.png
END:VEVENT
BEGIN:VEVENT
DTSTART;TZID=America/New_York:20250814T170000
DTEND;TZID=America/New_York:20250814T200000
DTSTAMP:20260420T225649
CREATED:20250722T210158Z
LAST-MODIFIED:20250722T210158Z
UID:10003434-1755190800-1755201600@wilmingtonbrewworks.com
SUMMARY:Food Truck @ BWN - Koi on the Go
DESCRIPTION:Koi on the Go \n 
URL:https://wilmingtonbrewworks.com/event/food-truck-bwn-koi-on-the-go-2/
LOCATION:Brew Works North\, 1851 Marsh Rd\, Wilmington\, DE\, 19810\, United States
CATEGORIES:Food Truck
ATTACH;FMTTYPE=image/png:https://wilmingtonbrewworks.com/wp-content/uploads/2025/07/BWN-FoodTruckEvent.png
END:VEVENT
BEGIN:VEVENT
DTSTART;TZID=America/New_York:20250822T160000
DTEND;TZID=America/New_York:20250822T200000
DTSTAMP:20260420T225649
CREATED:20250821T232749Z
LAST-MODIFIED:20250821T232749Z
UID:10003436-1755878400-1755892800@wilmingtonbrewworks.com
SUMMARY:Food Truck @ BWN - Ranya's Thai Kitchen
DESCRIPTION:Facebook Profile
URL:https://wilmingtonbrewworks.com/event/food-truck-bwn-ranyas-thai-kitchen-3/
LOCATION:Brew Works North\, 1851 Marsh Rd\, Wilmington\, DE\, 19810\, United States
CATEGORIES:Food Truck
ATTACH;FMTTYPE=image/png:https://wilmingtonbrewworks.com/wp-content/uploads/2025/07/BWN-FoodTruckEvent.png
END:VEVENT
BEGIN:VEVENT
DTSTART;TZID=America/New_York:20250829T160000
DTEND;TZID=America/New_York:20250829T200000
DTSTAMP:20260420T225649
CREATED:20250821T233020Z
LAST-MODIFIED:20250821T233020Z
UID:10003437-1756483200-1756497600@wilmingtonbrewworks.com
SUMMARY:Food Truck @ BWN - The Flying Deutschman
DESCRIPTION:The Flying Deutschman
URL:https://wilmingtonbrewworks.com/event/food-truck-bwn-the-flying-deutschman-2/
LOCATION:Brew Works North\, 1851 Marsh Rd\, Wilmington\, DE\, 19810\, United States
CATEGORIES:Food Truck
ATTACH;FMTTYPE=image/png:https://wilmingtonbrewworks.com/wp-content/uploads/2025/07/BWN-FoodTruckEvent.png
END:VEVENT
BEGIN:VEVENT
DTSTART;TZID=America/New_York:20250830T160000
DTEND;TZID=America/New_York:20250830T200000
DTSTAMP:20260420T225649
CREATED:20250821T233419Z
LAST-MODIFIED:20250821T233419Z
UID:10003553-1756569600-1756584000@wilmingtonbrewworks.com
SUMMARY:Food Truck @ BWN - We Aim To Cheese
DESCRIPTION:We Aim To Cheese \n(Facebook Profile)
URL:https://wilmingtonbrewworks.com/event/food-truck-bwn-we-aim-to-cheese-3/
LOCATION:Brew Works North\, 1851 Marsh Rd\, Wilmington\, DE\, 19810\, United States
CATEGORIES:Food Truck
ATTACH;FMTTYPE=image/png:https://wilmingtonbrewworks.com/wp-content/uploads/2025/07/BWN-FoodTruckEvent.png
END:VEVENT
END:VCALENDAR