BEGIN:VCALENDAR
VERSION:2.0
PRODID:-//Wilmington Brew Works - ECPv6.15.20//NONSGML v1.0//EN
CALSCALE:GREGORIAN
METHOD:PUBLISH
X-WR-CALNAME:Wilmington Brew Works
X-ORIGINAL-URL:https://wilmingtonbrewworks.com
X-WR-CALDESC:Events for Wilmington Brew Works
REFRESH-INTERVAL;VALUE=DURATION:PT1H
X-Robots-Tag:noindex
X-PUBLISHED-TTL:PT1H
BEGIN:VTIMEZONE
TZID:America/New_York
BEGIN:DAYLIGHT
TZOFFSETFROM:-0500
TZOFFSETTO:-0400
TZNAME:EDT
DTSTART:20240310T070000
END:DAYLIGHT
BEGIN:STANDARD
TZOFFSETFROM:-0400
TZOFFSETTO:-0500
TZNAME:EST
DTSTART:20241103T060000
END:STANDARD
BEGIN:DAYLIGHT
TZOFFSETFROM:-0500
TZOFFSETTO:-0400
TZNAME:EDT
DTSTART:20250309T070000
END:DAYLIGHT
BEGIN:STANDARD
TZOFFSETFROM:-0400
TZOFFSETTO:-0500
TZNAME:EST
DTSTART:20251102T060000
END:STANDARD
BEGIN:DAYLIGHT
TZOFFSETFROM:-0500
TZOFFSETTO:-0400
TZNAME:EDT
DTSTART:20260308T070000
END:DAYLIGHT
BEGIN:STANDARD
TZOFFSETFROM:-0400
TZOFFSETTO:-0500
TZNAME:EST
DTSTART:20261101T060000
END:STANDARD
END:VTIMEZONE
BEGIN:VEVENT
DTSTART;TZID=America/New_York:20250804T170000
DTEND;TZID=America/New_York:20250804T200000
DTSTAMP:20260421T004425
CREATED:20250728T205633Z
LAST-MODIFIED:20250728T205701Z
UID:10003435-1754326800-1754337600@wilmingtonbrewworks.com
SUMMARY:Food Truck: Southern Fried Vegan
DESCRIPTION:VEGNEWS’ and USA TODAY’s #1 Vegan BBQ Joint in the country is coming to Wilmington! We’re bringing a loaded menu including Southern Staples and Sandwich Specials.\n\nMenu highlights include Fried Chickun\, Smoked Meats\, Mac N Cheeze\, Jambalaya\, Cajun Corn\, Beer-Cheeze Battered Beyond Burgers\, Po Boyz\, Totchos and more!\n\nOur whole Menu is Nut-Free with Several Gluten-Free options.
URL:https://wilmingtonbrewworks.com/event/food-truck-southern-fried-vegan-2/
LOCATION:Wilmington Brew Works\, 3129 Miller Road\, Wilmington\, DE\, 19802\, United States
CATEGORIES:Food Truck
ATTACH;FMTTYPE=image/png:https://wilmingtonbrewworks.com/wp-content/uploads/2024/05/FoodTruckWeb.png
END:VEVENT
END:VCALENDAR