BEGIN:VCALENDAR
VERSION:2.0
PRODID:-//Wilmington Brew Works - ECPv6.15.20//NONSGML v1.0//EN
CALSCALE:GREGORIAN
METHOD:PUBLISH
X-WR-CALNAME:Wilmington Brew Works
X-ORIGINAL-URL:https://wilmingtonbrewworks.com
X-WR-CALDESC:Events for Wilmington Brew Works
REFRESH-INTERVAL;VALUE=DURATION:PT1H
X-Robots-Tag:noindex
X-PUBLISHED-TTL:PT1H
BEGIN:VTIMEZONE
TZID:America/New_York
BEGIN:DAYLIGHT
TZOFFSETFROM:-0500
TZOFFSETTO:-0400
TZNAME:EDT
DTSTART:20250309T070000
END:DAYLIGHT
BEGIN:STANDARD
TZOFFSETFROM:-0400
TZOFFSETTO:-0500
TZNAME:EST
DTSTART:20251102T060000
END:STANDARD
BEGIN:DAYLIGHT
TZOFFSETFROM:-0500
TZOFFSETTO:-0400
TZNAME:EDT
DTSTART:20260308T070000
END:DAYLIGHT
BEGIN:STANDARD
TZOFFSETFROM:-0400
TZOFFSETTO:-0500
TZNAME:EST
DTSTART:20261101T060000
END:STANDARD
BEGIN:DAYLIGHT
TZOFFSETFROM:-0500
TZOFFSETTO:-0400
TZNAME:EDT
DTSTART:20270314T070000
END:DAYLIGHT
BEGIN:STANDARD
TZOFFSETFROM:-0400
TZOFFSETTO:-0500
TZNAME:EST
DTSTART:20271107T060000
END:STANDARD
END:VTIMEZONE
BEGIN:VEVENT
DTSTART;TZID=America/New_York:20260422T190000
DTEND;TZID=America/New_York:20260422T210000
DTSTAMP:20260420T102706
CREATED:20231218T142348Z
LAST-MODIFIED:20240229T152144Z
UID:10000644-1776884400-1776891600@wilmingtonbrewworks.com
SUMMARY:Small Batch Trivia with Geeks Who Drink
DESCRIPTION:Small Batch Trivia\, the latest offering from Geeks Who Drink brings you a light-hearted night of trivia competition to Wilmington Brew Works! \nOur weekly quiz is free to play and we’ll be giving away gift cards for our top teams at the end of the night. Join us for straight up fun!
URL:https://wilmingtonbrewworks.com/event/small-batch-trivia-with-geeks-who-drink/2026-04-22/
LOCATION:Wilmington Brew Works\, 3129 Miller Road\, Wilmington\, DE\, 19802\, United States
CATEGORIES:Taproom Events
ATTACH;FMTTYPE=image/png:https://wilmingtonbrewworks.com/wp-content/uploads/2023/10/WBW-GWD-TriviaFacebook-Cover.png
END:VEVENT
BEGIN:VEVENT
DTSTART;TZID=America/New_York:20260429T190000
DTEND;TZID=America/New_York:20260429T210000
DTSTAMP:20260420T102706
CREATED:20231218T142348Z
LAST-MODIFIED:20240229T152144Z
UID:10000645-1777489200-1777496400@wilmingtonbrewworks.com
SUMMARY:Small Batch Trivia with Geeks Who Drink
DESCRIPTION:Small Batch Trivia\, the latest offering from Geeks Who Drink brings you a light-hearted night of trivia competition to Wilmington Brew Works! \nOur weekly quiz is free to play and we’ll be giving away gift cards for our top teams at the end of the night. Join us for straight up fun!
URL:https://wilmingtonbrewworks.com/event/small-batch-trivia-with-geeks-who-drink/2026-04-29/
LOCATION:Wilmington Brew Works\, 3129 Miller Road\, Wilmington\, DE\, 19802\, United States
CATEGORIES:Taproom Events
ATTACH;FMTTYPE=image/png:https://wilmingtonbrewworks.com/wp-content/uploads/2023/10/WBW-GWD-TriviaFacebook-Cover.png
END:VEVENT
BEGIN:VEVENT
DTSTART;TZID=America/New_York:20260506T190000
DTEND;TZID=America/New_York:20260506T210000
DTSTAMP:20260420T102706
CREATED:20231218T142348Z
LAST-MODIFIED:20240229T152144Z
UID:10000646-1778094000-1778101200@wilmingtonbrewworks.com
SUMMARY:Small Batch Trivia with Geeks Who Drink
DESCRIPTION:Small Batch Trivia\, the latest offering from Geeks Who Drink brings you a light-hearted night of trivia competition to Wilmington Brew Works! \nOur weekly quiz is free to play and we’ll be giving away gift cards for our top teams at the end of the night. Join us for straight up fun!
URL:https://wilmingtonbrewworks.com/event/small-batch-trivia-with-geeks-who-drink/2026-05-06/
LOCATION:Wilmington Brew Works\, 3129 Miller Road\, Wilmington\, DE\, 19802\, United States
CATEGORIES:Taproom Events
ATTACH;FMTTYPE=image/png:https://wilmingtonbrewworks.com/wp-content/uploads/2023/10/WBW-GWD-TriviaFacebook-Cover.png
END:VEVENT
BEGIN:VEVENT
DTSTART;TZID=America/New_York:20260513T190000
DTEND;TZID=America/New_York:20260513T210000
DTSTAMP:20260420T102706
CREATED:20231218T142348Z
LAST-MODIFIED:20240229T152144Z
UID:10000647-1778698800-1778706000@wilmingtonbrewworks.com
SUMMARY:Small Batch Trivia with Geeks Who Drink
DESCRIPTION:Small Batch Trivia\, the latest offering from Geeks Who Drink brings you a light-hearted night of trivia competition to Wilmington Brew Works! \nOur weekly quiz is free to play and we’ll be giving away gift cards for our top teams at the end of the night. Join us for straight up fun!
URL:https://wilmingtonbrewworks.com/event/small-batch-trivia-with-geeks-who-drink/2026-05-13/
LOCATION:Wilmington Brew Works\, 3129 Miller Road\, Wilmington\, DE\, 19802\, United States
CATEGORIES:Taproom Events
ATTACH;FMTTYPE=image/png:https://wilmingtonbrewworks.com/wp-content/uploads/2023/10/WBW-GWD-TriviaFacebook-Cover.png
END:VEVENT
BEGIN:VEVENT
DTSTART;TZID=America/New_York:20260520T190000
DTEND;TZID=America/New_York:20260520T210000
DTSTAMP:20260420T102706
CREATED:20231218T142348Z
LAST-MODIFIED:20240229T152144Z
UID:10000648-1779303600-1779310800@wilmingtonbrewworks.com
SUMMARY:Small Batch Trivia with Geeks Who Drink
DESCRIPTION:Small Batch Trivia\, the latest offering from Geeks Who Drink brings you a light-hearted night of trivia competition to Wilmington Brew Works! \nOur weekly quiz is free to play and we’ll be giving away gift cards for our top teams at the end of the night. Join us for straight up fun!
URL:https://wilmingtonbrewworks.com/event/small-batch-trivia-with-geeks-who-drink/2026-05-20/
LOCATION:Wilmington Brew Works\, 3129 Miller Road\, Wilmington\, DE\, 19802\, United States
CATEGORIES:Taproom Events
ATTACH;FMTTYPE=image/png:https://wilmingtonbrewworks.com/wp-content/uploads/2023/10/WBW-GWD-TriviaFacebook-Cover.png
END:VEVENT
BEGIN:VEVENT
DTSTART;TZID=America/New_York:20260527T190000
DTEND;TZID=America/New_York:20260527T210000
DTSTAMP:20260420T102706
CREATED:20231218T142348Z
LAST-MODIFIED:20240229T152144Z
UID:10000649-1779908400-1779915600@wilmingtonbrewworks.com
SUMMARY:Small Batch Trivia with Geeks Who Drink
DESCRIPTION:Small Batch Trivia\, the latest offering from Geeks Who Drink brings you a light-hearted night of trivia competition to Wilmington Brew Works! \nOur weekly quiz is free to play and we’ll be giving away gift cards for our top teams at the end of the night. Join us for straight up fun!
URL:https://wilmingtonbrewworks.com/event/small-batch-trivia-with-geeks-who-drink/2026-05-27/
LOCATION:Wilmington Brew Works\, 3129 Miller Road\, Wilmington\, DE\, 19802\, United States
CATEGORIES:Taproom Events
ATTACH;FMTTYPE=image/png:https://wilmingtonbrewworks.com/wp-content/uploads/2023/10/WBW-GWD-TriviaFacebook-Cover.png
END:VEVENT
BEGIN:VEVENT
DTSTART;TZID=America/New_York:20260603T190000
DTEND;TZID=America/New_York:20260603T210000
DTSTAMP:20260420T102706
CREATED:20231218T142348Z
LAST-MODIFIED:20240229T152144Z
UID:10000650-1780513200-1780520400@wilmingtonbrewworks.com
SUMMARY:Small Batch Trivia with Geeks Who Drink
DESCRIPTION:Small Batch Trivia\, the latest offering from Geeks Who Drink brings you a light-hearted night of trivia competition to Wilmington Brew Works! \nOur weekly quiz is free to play and we’ll be giving away gift cards for our top teams at the end of the night. Join us for straight up fun!
URL:https://wilmingtonbrewworks.com/event/small-batch-trivia-with-geeks-who-drink/2026-06-03/
LOCATION:Wilmington Brew Works\, 3129 Miller Road\, Wilmington\, DE\, 19802\, United States
CATEGORIES:Taproom Events
ATTACH;FMTTYPE=image/png:https://wilmingtonbrewworks.com/wp-content/uploads/2023/10/WBW-GWD-TriviaFacebook-Cover.png
END:VEVENT
BEGIN:VEVENT
DTSTART;TZID=America/New_York:20260610T190000
DTEND;TZID=America/New_York:20260610T210000
DTSTAMP:20260420T102706
CREATED:20231218T142348Z
LAST-MODIFIED:20240229T152144Z
UID:10000651-1781118000-1781125200@wilmingtonbrewworks.com
SUMMARY:Small Batch Trivia with Geeks Who Drink
DESCRIPTION:Small Batch Trivia\, the latest offering from Geeks Who Drink brings you a light-hearted night of trivia competition to Wilmington Brew Works! \nOur weekly quiz is free to play and we’ll be giving away gift cards for our top teams at the end of the night. Join us for straight up fun!
URL:https://wilmingtonbrewworks.com/event/small-batch-trivia-with-geeks-who-drink/2026-06-10/
LOCATION:Wilmington Brew Works\, 3129 Miller Road\, Wilmington\, DE\, 19802\, United States
CATEGORIES:Taproom Events
ATTACH;FMTTYPE=image/png:https://wilmingtonbrewworks.com/wp-content/uploads/2023/10/WBW-GWD-TriviaFacebook-Cover.png
END:VEVENT
BEGIN:VEVENT
DTSTART;TZID=America/New_York:20260617T190000
DTEND;TZID=America/New_York:20260617T210000
DTSTAMP:20260420T102706
CREATED:20231218T142348Z
LAST-MODIFIED:20240229T152144Z
UID:10000652-1781722800-1781730000@wilmingtonbrewworks.com
SUMMARY:Small Batch Trivia with Geeks Who Drink
DESCRIPTION:Small Batch Trivia\, the latest offering from Geeks Who Drink brings you a light-hearted night of trivia competition to Wilmington Brew Works! \nOur weekly quiz is free to play and we’ll be giving away gift cards for our top teams at the end of the night. Join us for straight up fun!
URL:https://wilmingtonbrewworks.com/event/small-batch-trivia-with-geeks-who-drink/2026-06-17/
LOCATION:Wilmington Brew Works\, 3129 Miller Road\, Wilmington\, DE\, 19802\, United States
CATEGORIES:Taproom Events
ATTACH;FMTTYPE=image/png:https://wilmingtonbrewworks.com/wp-content/uploads/2023/10/WBW-GWD-TriviaFacebook-Cover.png
END:VEVENT
BEGIN:VEVENT
DTSTART;TZID=America/New_York:20260624T190000
DTEND;TZID=America/New_York:20260624T210000
DTSTAMP:20260420T102706
CREATED:20231218T142348Z
LAST-MODIFIED:20240229T152144Z
UID:10000653-1782327600-1782334800@wilmingtonbrewworks.com
SUMMARY:Small Batch Trivia with Geeks Who Drink
DESCRIPTION:Small Batch Trivia\, the latest offering from Geeks Who Drink brings you a light-hearted night of trivia competition to Wilmington Brew Works! \nOur weekly quiz is free to play and we’ll be giving away gift cards for our top teams at the end of the night. Join us for straight up fun!
URL:https://wilmingtonbrewworks.com/event/small-batch-trivia-with-geeks-who-drink/2026-06-24/
LOCATION:Wilmington Brew Works\, 3129 Miller Road\, Wilmington\, DE\, 19802\, United States
CATEGORIES:Taproom Events
ATTACH;FMTTYPE=image/png:https://wilmingtonbrewworks.com/wp-content/uploads/2023/10/WBW-GWD-TriviaFacebook-Cover.png
END:VEVENT
BEGIN:VEVENT
DTSTART;TZID=America/New_York:20260701T190000
DTEND;TZID=America/New_York:20260701T210000
DTSTAMP:20260420T102706
CREATED:20231218T142348Z
LAST-MODIFIED:20240229T152144Z
UID:10000654-1782932400-1782939600@wilmingtonbrewworks.com
SUMMARY:Small Batch Trivia with Geeks Who Drink
DESCRIPTION:Small Batch Trivia\, the latest offering from Geeks Who Drink brings you a light-hearted night of trivia competition to Wilmington Brew Works! \nOur weekly quiz is free to play and we’ll be giving away gift cards for our top teams at the end of the night. Join us for straight up fun!
URL:https://wilmingtonbrewworks.com/event/small-batch-trivia-with-geeks-who-drink/2026-07-01/
LOCATION:Wilmington Brew Works\, 3129 Miller Road\, Wilmington\, DE\, 19802\, United States
CATEGORIES:Taproom Events
ATTACH;FMTTYPE=image/png:https://wilmingtonbrewworks.com/wp-content/uploads/2023/10/WBW-GWD-TriviaFacebook-Cover.png
END:VEVENT
BEGIN:VEVENT
DTSTART;TZID=America/New_York:20260708T190000
DTEND;TZID=America/New_York:20260708T210000
DTSTAMP:20260420T102706
CREATED:20231218T142348Z
LAST-MODIFIED:20240229T152144Z
UID:10000655-1783537200-1783544400@wilmingtonbrewworks.com
SUMMARY:Small Batch Trivia with Geeks Who Drink
DESCRIPTION:Small Batch Trivia\, the latest offering from Geeks Who Drink brings you a light-hearted night of trivia competition to Wilmington Brew Works! \nOur weekly quiz is free to play and we’ll be giving away gift cards for our top teams at the end of the night. Join us for straight up fun!
URL:https://wilmingtonbrewworks.com/event/small-batch-trivia-with-geeks-who-drink/2026-07-08/
LOCATION:Wilmington Brew Works\, 3129 Miller Road\, Wilmington\, DE\, 19802\, United States
CATEGORIES:Taproom Events
ATTACH;FMTTYPE=image/png:https://wilmingtonbrewworks.com/wp-content/uploads/2023/10/WBW-GWD-TriviaFacebook-Cover.png
END:VEVENT
BEGIN:VEVENT
DTSTART;TZID=America/New_York:20260715T190000
DTEND;TZID=America/New_York:20260715T210000
DTSTAMP:20260420T102706
CREATED:20231218T142348Z
LAST-MODIFIED:20240229T152144Z
UID:10000656-1784142000-1784149200@wilmingtonbrewworks.com
SUMMARY:Small Batch Trivia with Geeks Who Drink
DESCRIPTION:Small Batch Trivia\, the latest offering from Geeks Who Drink brings you a light-hearted night of trivia competition to Wilmington Brew Works! \nOur weekly quiz is free to play and we’ll be giving away gift cards for our top teams at the end of the night. Join us for straight up fun!
URL:https://wilmingtonbrewworks.com/event/small-batch-trivia-with-geeks-who-drink/2026-07-15/
LOCATION:Wilmington Brew Works\, 3129 Miller Road\, Wilmington\, DE\, 19802\, United States
CATEGORIES:Taproom Events
ATTACH;FMTTYPE=image/png:https://wilmingtonbrewworks.com/wp-content/uploads/2023/10/WBW-GWD-TriviaFacebook-Cover.png
END:VEVENT
BEGIN:VEVENT
DTSTART;TZID=America/New_York:20260722T190000
DTEND;TZID=America/New_York:20260722T210000
DTSTAMP:20260420T102706
CREATED:20231218T142348Z
LAST-MODIFIED:20240229T152144Z
UID:10000657-1784746800-1784754000@wilmingtonbrewworks.com
SUMMARY:Small Batch Trivia with Geeks Who Drink
DESCRIPTION:Small Batch Trivia\, the latest offering from Geeks Who Drink brings you a light-hearted night of trivia competition to Wilmington Brew Works! \nOur weekly quiz is free to play and we’ll be giving away gift cards for our top teams at the end of the night. Join us for straight up fun!
URL:https://wilmingtonbrewworks.com/event/small-batch-trivia-with-geeks-who-drink/2026-07-22/
LOCATION:Wilmington Brew Works\, 3129 Miller Road\, Wilmington\, DE\, 19802\, United States
CATEGORIES:Taproom Events
ATTACH;FMTTYPE=image/png:https://wilmingtonbrewworks.com/wp-content/uploads/2023/10/WBW-GWD-TriviaFacebook-Cover.png
END:VEVENT
BEGIN:VEVENT
DTSTART;TZID=America/New_York:20260729T190000
DTEND;TZID=America/New_York:20260729T210000
DTSTAMP:20260420T102706
CREATED:20231218T142348Z
LAST-MODIFIED:20240229T152144Z
UID:10000658-1785351600-1785358800@wilmingtonbrewworks.com
SUMMARY:Small Batch Trivia with Geeks Who Drink
DESCRIPTION:Small Batch Trivia\, the latest offering from Geeks Who Drink brings you a light-hearted night of trivia competition to Wilmington Brew Works! \nOur weekly quiz is free to play and we’ll be giving away gift cards for our top teams at the end of the night. Join us for straight up fun!
URL:https://wilmingtonbrewworks.com/event/small-batch-trivia-with-geeks-who-drink/2026-07-29/
LOCATION:Wilmington Brew Works\, 3129 Miller Road\, Wilmington\, DE\, 19802\, United States
CATEGORIES:Taproom Events
ATTACH;FMTTYPE=image/png:https://wilmingtonbrewworks.com/wp-content/uploads/2023/10/WBW-GWD-TriviaFacebook-Cover.png
END:VEVENT
BEGIN:VEVENT
DTSTART;TZID=America/New_York:20260805T190000
DTEND;TZID=America/New_York:20260805T210000
DTSTAMP:20260420T102706
CREATED:20231218T142348Z
LAST-MODIFIED:20240229T152144Z
UID:10000659-1785956400-1785963600@wilmingtonbrewworks.com
SUMMARY:Small Batch Trivia with Geeks Who Drink
DESCRIPTION:Small Batch Trivia\, the latest offering from Geeks Who Drink brings you a light-hearted night of trivia competition to Wilmington Brew Works! \nOur weekly quiz is free to play and we’ll be giving away gift cards for our top teams at the end of the night. Join us for straight up fun!
URL:https://wilmingtonbrewworks.com/event/small-batch-trivia-with-geeks-who-drink/2026-08-05/
LOCATION:Wilmington Brew Works\, 3129 Miller Road\, Wilmington\, DE\, 19802\, United States
CATEGORIES:Taproom Events
ATTACH;FMTTYPE=image/png:https://wilmingtonbrewworks.com/wp-content/uploads/2023/10/WBW-GWD-TriviaFacebook-Cover.png
END:VEVENT
BEGIN:VEVENT
DTSTART;TZID=America/New_York:20260812T190000
DTEND;TZID=America/New_York:20260812T210000
DTSTAMP:20260420T102706
CREATED:20231218T142348Z
LAST-MODIFIED:20240229T152144Z
UID:10000660-1786561200-1786568400@wilmingtonbrewworks.com
SUMMARY:Small Batch Trivia with Geeks Who Drink
DESCRIPTION:Small Batch Trivia\, the latest offering from Geeks Who Drink brings you a light-hearted night of trivia competition to Wilmington Brew Works! \nOur weekly quiz is free to play and we’ll be giving away gift cards for our top teams at the end of the night. Join us for straight up fun!
URL:https://wilmingtonbrewworks.com/event/small-batch-trivia-with-geeks-who-drink/2026-08-12/
LOCATION:Wilmington Brew Works\, 3129 Miller Road\, Wilmington\, DE\, 19802\, United States
CATEGORIES:Taproom Events
ATTACH;FMTTYPE=image/png:https://wilmingtonbrewworks.com/wp-content/uploads/2023/10/WBW-GWD-TriviaFacebook-Cover.png
END:VEVENT
BEGIN:VEVENT
DTSTART;TZID=America/New_York:20260819T190000
DTEND;TZID=America/New_York:20260819T210000
DTSTAMP:20260420T102706
CREATED:20231218T142348Z
LAST-MODIFIED:20240229T152144Z
UID:10000661-1787166000-1787173200@wilmingtonbrewworks.com
SUMMARY:Small Batch Trivia with Geeks Who Drink
DESCRIPTION:Small Batch Trivia\, the latest offering from Geeks Who Drink brings you a light-hearted night of trivia competition to Wilmington Brew Works! \nOur weekly quiz is free to play and we’ll be giving away gift cards for our top teams at the end of the night. Join us for straight up fun!
URL:https://wilmingtonbrewworks.com/event/small-batch-trivia-with-geeks-who-drink/2026-08-19/
LOCATION:Wilmington Brew Works\, 3129 Miller Road\, Wilmington\, DE\, 19802\, United States
CATEGORIES:Taproom Events
ATTACH;FMTTYPE=image/png:https://wilmingtonbrewworks.com/wp-content/uploads/2023/10/WBW-GWD-TriviaFacebook-Cover.png
END:VEVENT
BEGIN:VEVENT
DTSTART;TZID=America/New_York:20260826T190000
DTEND;TZID=America/New_York:20260826T210000
DTSTAMP:20260420T102706
CREATED:20231218T142348Z
LAST-MODIFIED:20240229T152144Z
UID:10000662-1787770800-1787778000@wilmingtonbrewworks.com
SUMMARY:Small Batch Trivia with Geeks Who Drink
DESCRIPTION:Small Batch Trivia\, the latest offering from Geeks Who Drink brings you a light-hearted night of trivia competition to Wilmington Brew Works! \nOur weekly quiz is free to play and we’ll be giving away gift cards for our top teams at the end of the night. Join us for straight up fun!
URL:https://wilmingtonbrewworks.com/event/small-batch-trivia-with-geeks-who-drink/2026-08-26/
LOCATION:Wilmington Brew Works\, 3129 Miller Road\, Wilmington\, DE\, 19802\, United States
CATEGORIES:Taproom Events
ATTACH;FMTTYPE=image/png:https://wilmingtonbrewworks.com/wp-content/uploads/2023/10/WBW-GWD-TriviaFacebook-Cover.png
END:VEVENT
BEGIN:VEVENT
DTSTART;TZID=America/New_York:20260902T190000
DTEND;TZID=America/New_York:20260902T210000
DTSTAMP:20260420T102706
CREATED:20231218T142348Z
LAST-MODIFIED:20240229T152144Z
UID:10000663-1788375600-1788382800@wilmingtonbrewworks.com
SUMMARY:Small Batch Trivia with Geeks Who Drink
DESCRIPTION:Small Batch Trivia\, the latest offering from Geeks Who Drink brings you a light-hearted night of trivia competition to Wilmington Brew Works! \nOur weekly quiz is free to play and we’ll be giving away gift cards for our top teams at the end of the night. Join us for straight up fun!
URL:https://wilmingtonbrewworks.com/event/small-batch-trivia-with-geeks-who-drink/2026-09-02/
LOCATION:Wilmington Brew Works\, 3129 Miller Road\, Wilmington\, DE\, 19802\, United States
CATEGORIES:Taproom Events
ATTACH;FMTTYPE=image/png:https://wilmingtonbrewworks.com/wp-content/uploads/2023/10/WBW-GWD-TriviaFacebook-Cover.png
END:VEVENT
BEGIN:VEVENT
DTSTART;TZID=America/New_York:20260909T190000
DTEND;TZID=America/New_York:20260909T210000
DTSTAMP:20260420T102706
CREATED:20231218T142348Z
LAST-MODIFIED:20240229T152144Z
UID:10000664-1788980400-1788987600@wilmingtonbrewworks.com
SUMMARY:Small Batch Trivia with Geeks Who Drink
DESCRIPTION:Small Batch Trivia\, the latest offering from Geeks Who Drink brings you a light-hearted night of trivia competition to Wilmington Brew Works! \nOur weekly quiz is free to play and we’ll be giving away gift cards for our top teams at the end of the night. Join us for straight up fun!
URL:https://wilmingtonbrewworks.com/event/small-batch-trivia-with-geeks-who-drink/2026-09-09/
LOCATION:Wilmington Brew Works\, 3129 Miller Road\, Wilmington\, DE\, 19802\, United States
CATEGORIES:Taproom Events
ATTACH;FMTTYPE=image/png:https://wilmingtonbrewworks.com/wp-content/uploads/2023/10/WBW-GWD-TriviaFacebook-Cover.png
END:VEVENT
BEGIN:VEVENT
DTSTART;TZID=America/New_York:20260916T190000
DTEND;TZID=America/New_York:20260916T210000
DTSTAMP:20260420T102706
CREATED:20231218T142348Z
LAST-MODIFIED:20240229T152144Z
UID:10000665-1789585200-1789592400@wilmingtonbrewworks.com
SUMMARY:Small Batch Trivia with Geeks Who Drink
DESCRIPTION:Small Batch Trivia\, the latest offering from Geeks Who Drink brings you a light-hearted night of trivia competition to Wilmington Brew Works! \nOur weekly quiz is free to play and we’ll be giving away gift cards for our top teams at the end of the night. Join us for straight up fun!
URL:https://wilmingtonbrewworks.com/event/small-batch-trivia-with-geeks-who-drink/2026-09-16/
LOCATION:Wilmington Brew Works\, 3129 Miller Road\, Wilmington\, DE\, 19802\, United States
CATEGORIES:Taproom Events
ATTACH;FMTTYPE=image/png:https://wilmingtonbrewworks.com/wp-content/uploads/2023/10/WBW-GWD-TriviaFacebook-Cover.png
END:VEVENT
BEGIN:VEVENT
DTSTART;TZID=America/New_York:20260923T190000
DTEND;TZID=America/New_York:20260923T210000
DTSTAMP:20260420T102706
CREATED:20231218T142348Z
LAST-MODIFIED:20240229T152144Z
UID:10000666-1790190000-1790197200@wilmingtonbrewworks.com
SUMMARY:Small Batch Trivia with Geeks Who Drink
DESCRIPTION:Small Batch Trivia\, the latest offering from Geeks Who Drink brings you a light-hearted night of trivia competition to Wilmington Brew Works! \nOur weekly quiz is free to play and we’ll be giving away gift cards for our top teams at the end of the night. Join us for straight up fun!
URL:https://wilmingtonbrewworks.com/event/small-batch-trivia-with-geeks-who-drink/2026-09-23/
LOCATION:Wilmington Brew Works\, 3129 Miller Road\, Wilmington\, DE\, 19802\, United States
CATEGORIES:Taproom Events
ATTACH;FMTTYPE=image/png:https://wilmingtonbrewworks.com/wp-content/uploads/2023/10/WBW-GWD-TriviaFacebook-Cover.png
END:VEVENT
BEGIN:VEVENT
DTSTART;TZID=America/New_York:20260930T190000
DTEND;TZID=America/New_York:20260930T210000
DTSTAMP:20260420T102706
CREATED:20231218T142348Z
LAST-MODIFIED:20240229T152144Z
UID:10000667-1790794800-1790802000@wilmingtonbrewworks.com
SUMMARY:Small Batch Trivia with Geeks Who Drink
DESCRIPTION:Small Batch Trivia\, the latest offering from Geeks Who Drink brings you a light-hearted night of trivia competition to Wilmington Brew Works! \nOur weekly quiz is free to play and we’ll be giving away gift cards for our top teams at the end of the night. Join us for straight up fun!
URL:https://wilmingtonbrewworks.com/event/small-batch-trivia-with-geeks-who-drink/2026-09-30/
LOCATION:Wilmington Brew Works\, 3129 Miller Road\, Wilmington\, DE\, 19802\, United States
CATEGORIES:Taproom Events
ATTACH;FMTTYPE=image/png:https://wilmingtonbrewworks.com/wp-content/uploads/2023/10/WBW-GWD-TriviaFacebook-Cover.png
END:VEVENT
BEGIN:VEVENT
DTSTART;TZID=America/New_York:20261007T190000
DTEND;TZID=America/New_York:20261007T210000
DTSTAMP:20260420T102706
CREATED:20231218T142348Z
LAST-MODIFIED:20240229T152144Z
UID:10000668-1791399600-1791406800@wilmingtonbrewworks.com
SUMMARY:Small Batch Trivia with Geeks Who Drink
DESCRIPTION:Small Batch Trivia\, the latest offering from Geeks Who Drink brings you a light-hearted night of trivia competition to Wilmington Brew Works! \nOur weekly quiz is free to play and we’ll be giving away gift cards for our top teams at the end of the night. Join us for straight up fun!
URL:https://wilmingtonbrewworks.com/event/small-batch-trivia-with-geeks-who-drink/2026-10-07/
LOCATION:Wilmington Brew Works\, 3129 Miller Road\, Wilmington\, DE\, 19802\, United States
CATEGORIES:Taproom Events
ATTACH;FMTTYPE=image/png:https://wilmingtonbrewworks.com/wp-content/uploads/2023/10/WBW-GWD-TriviaFacebook-Cover.png
END:VEVENT
BEGIN:VEVENT
DTSTART;TZID=America/New_York:20261014T190000
DTEND;TZID=America/New_York:20261014T210000
DTSTAMP:20260420T102706
CREATED:20231218T142348Z
LAST-MODIFIED:20240229T152144Z
UID:10000669-1792004400-1792011600@wilmingtonbrewworks.com
SUMMARY:Small Batch Trivia with Geeks Who Drink
DESCRIPTION:Small Batch Trivia\, the latest offering from Geeks Who Drink brings you a light-hearted night of trivia competition to Wilmington Brew Works! \nOur weekly quiz is free to play and we’ll be giving away gift cards for our top teams at the end of the night. Join us for straight up fun!
URL:https://wilmingtonbrewworks.com/event/small-batch-trivia-with-geeks-who-drink/2026-10-14/
LOCATION:Wilmington Brew Works\, 3129 Miller Road\, Wilmington\, DE\, 19802\, United States
CATEGORIES:Taproom Events
ATTACH;FMTTYPE=image/png:https://wilmingtonbrewworks.com/wp-content/uploads/2023/10/WBW-GWD-TriviaFacebook-Cover.png
END:VEVENT
BEGIN:VEVENT
DTSTART;TZID=America/New_York:20261021T190000
DTEND;TZID=America/New_York:20261021T210000
DTSTAMP:20260420T102706
CREATED:20231218T142348Z
LAST-MODIFIED:20240229T152144Z
UID:10000670-1792609200-1792616400@wilmingtonbrewworks.com
SUMMARY:Small Batch Trivia with Geeks Who Drink
DESCRIPTION:Small Batch Trivia\, the latest offering from Geeks Who Drink brings you a light-hearted night of trivia competition to Wilmington Brew Works! \nOur weekly quiz is free to play and we’ll be giving away gift cards for our top teams at the end of the night. Join us for straight up fun!
URL:https://wilmingtonbrewworks.com/event/small-batch-trivia-with-geeks-who-drink/2026-10-21/
LOCATION:Wilmington Brew Works\, 3129 Miller Road\, Wilmington\, DE\, 19802\, United States
CATEGORIES:Taproom Events
ATTACH;FMTTYPE=image/png:https://wilmingtonbrewworks.com/wp-content/uploads/2023/10/WBW-GWD-TriviaFacebook-Cover.png
END:VEVENT
BEGIN:VEVENT
DTSTART;TZID=America/New_York:20261028T190000
DTEND;TZID=America/New_York:20261028T210000
DTSTAMP:20260420T102706
CREATED:20231218T142348Z
LAST-MODIFIED:20240229T152144Z
UID:10000671-1793214000-1793221200@wilmingtonbrewworks.com
SUMMARY:Small Batch Trivia with Geeks Who Drink
DESCRIPTION:Small Batch Trivia\, the latest offering from Geeks Who Drink brings you a light-hearted night of trivia competition to Wilmington Brew Works! \nOur weekly quiz is free to play and we’ll be giving away gift cards for our top teams at the end of the night. Join us for straight up fun!
URL:https://wilmingtonbrewworks.com/event/small-batch-trivia-with-geeks-who-drink/2026-10-28/
LOCATION:Wilmington Brew Works\, 3129 Miller Road\, Wilmington\, DE\, 19802\, United States
CATEGORIES:Taproom Events
ATTACH;FMTTYPE=image/png:https://wilmingtonbrewworks.com/wp-content/uploads/2023/10/WBW-GWD-TriviaFacebook-Cover.png
END:VEVENT
BEGIN:VEVENT
DTSTART;TZID=America/New_York:20261104T190000
DTEND;TZID=America/New_York:20261104T210000
DTSTAMP:20260420T102706
CREATED:20231218T142348Z
LAST-MODIFIED:20240229T152144Z
UID:10000672-1793818800-1793826000@wilmingtonbrewworks.com
SUMMARY:Small Batch Trivia with Geeks Who Drink
DESCRIPTION:Small Batch Trivia\, the latest offering from Geeks Who Drink brings you a light-hearted night of trivia competition to Wilmington Brew Works! \nOur weekly quiz is free to play and we’ll be giving away gift cards for our top teams at the end of the night. Join us for straight up fun!
URL:https://wilmingtonbrewworks.com/event/small-batch-trivia-with-geeks-who-drink/2026-11-04/
LOCATION:Wilmington Brew Works\, 3129 Miller Road\, Wilmington\, DE\, 19802\, United States
CATEGORIES:Taproom Events
ATTACH;FMTTYPE=image/png:https://wilmingtonbrewworks.com/wp-content/uploads/2023/10/WBW-GWD-TriviaFacebook-Cover.png
END:VEVENT
BEGIN:VEVENT
DTSTART;TZID=America/New_York:20261111T190000
DTEND;TZID=America/New_York:20261111T210000
DTSTAMP:20260420T102706
CREATED:20231218T142348Z
LAST-MODIFIED:20240229T152144Z
UID:10000673-1794423600-1794430800@wilmingtonbrewworks.com
SUMMARY:Small Batch Trivia with Geeks Who Drink
DESCRIPTION:Small Batch Trivia\, the latest offering from Geeks Who Drink brings you a light-hearted night of trivia competition to Wilmington Brew Works! \nOur weekly quiz is free to play and we’ll be giving away gift cards for our top teams at the end of the night. Join us for straight up fun!
URL:https://wilmingtonbrewworks.com/event/small-batch-trivia-with-geeks-who-drink/2026-11-11/
LOCATION:Wilmington Brew Works\, 3129 Miller Road\, Wilmington\, DE\, 19802\, United States
CATEGORIES:Taproom Events
ATTACH;FMTTYPE=image/png:https://wilmingtonbrewworks.com/wp-content/uploads/2023/10/WBW-GWD-TriviaFacebook-Cover.png
END:VEVENT
END:VCALENDAR