BEGIN:VCALENDAR
VERSION:2.0
PRODID:-//Wilmington Brew Works - ECPv6.15.20//NONSGML v1.0//EN
CALSCALE:GREGORIAN
METHOD:PUBLISH
X-WR-CALNAME:Wilmington Brew Works
X-ORIGINAL-URL:https://wilmingtonbrewworks.com
X-WR-CALDESC:Events for Wilmington Brew Works
REFRESH-INTERVAL;VALUE=DURATION:PT1H
X-Robots-Tag:noindex
X-PUBLISHED-TTL:PT1H
BEGIN:VTIMEZONE
TZID:America/New_York
BEGIN:DAYLIGHT
TZOFFSETFROM:-0500
TZOFFSETTO:-0400
TZNAME:EDT
DTSTART:20270314T070000
END:DAYLIGHT
BEGIN:STANDARD
TZOFFSETFROM:-0400
TZOFFSETTO:-0500
TZNAME:EST
DTSTART:20271107T060000
END:STANDARD
BEGIN:DAYLIGHT
TZOFFSETFROM:-0500
TZOFFSETTO:-0400
TZNAME:EDT
DTSTART:20280312T070000
END:DAYLIGHT
BEGIN:STANDARD
TZOFFSETFROM:-0400
TZOFFSETTO:-0500
TZNAME:EST
DTSTART:20281105T060000
END:STANDARD
BEGIN:DAYLIGHT
TZOFFSETFROM:-0500
TZOFFSETTO:-0400
TZNAME:EDT
DTSTART:20290311T070000
END:DAYLIGHT
BEGIN:STANDARD
TZOFFSETFROM:-0400
TZOFFSETTO:-0500
TZNAME:EST
DTSTART:20291104T060000
END:STANDARD
END:VTIMEZONE
BEGIN:VEVENT
DTSTART;TZID=America/New_York:20280223T190000
DTEND;TZID=America/New_York:20280223T210000
DTSTAMP:20260420T232359
CREATED:20231218T142348Z
LAST-MODIFIED:20240229T152144Z
UID:10000740-1834945200-1834952400@wilmingtonbrewworks.com
SUMMARY:Small Batch Trivia with Geeks Who Drink
DESCRIPTION:Small Batch Trivia\, the latest offering from Geeks Who Drink brings you a light-hearted night of trivia competition to Wilmington Brew Works! \nOur weekly quiz is free to play and we’ll be giving away gift cards for our top teams at the end of the night. Join us for straight up fun!
URL:https://wilmingtonbrewworks.com/event/small-batch-trivia-with-geeks-who-drink/2028-02-23/
LOCATION:Wilmington Brew Works\, 3129 Miller Road\, Wilmington\, DE\, 19802\, United States
CATEGORIES:Taproom Events
ATTACH;FMTTYPE=image/png:https://wilmingtonbrewworks.com/wp-content/uploads/2023/10/WBW-GWD-TriviaFacebook-Cover.png
END:VEVENT
BEGIN:VEVENT
DTSTART;TZID=America/New_York:20280301T190000
DTEND;TZID=America/New_York:20280301T210000
DTSTAMP:20260420T232359
CREATED:20231218T142348Z
LAST-MODIFIED:20240229T152144Z
UID:10000741-1835550000-1835557200@wilmingtonbrewworks.com
SUMMARY:Small Batch Trivia with Geeks Who Drink
DESCRIPTION:Small Batch Trivia\, the latest offering from Geeks Who Drink brings you a light-hearted night of trivia competition to Wilmington Brew Works! \nOur weekly quiz is free to play and we’ll be giving away gift cards for our top teams at the end of the night. Join us for straight up fun!
URL:https://wilmingtonbrewworks.com/event/small-batch-trivia-with-geeks-who-drink/2028-03-01/
LOCATION:Wilmington Brew Works\, 3129 Miller Road\, Wilmington\, DE\, 19802\, United States
CATEGORIES:Taproom Events
ATTACH;FMTTYPE=image/png:https://wilmingtonbrewworks.com/wp-content/uploads/2023/10/WBW-GWD-TriviaFacebook-Cover.png
END:VEVENT
BEGIN:VEVENT
DTSTART;TZID=America/New_York:20280308T190000
DTEND;TZID=America/New_York:20280308T210000
DTSTAMP:20260420T232359
CREATED:20231218T142348Z
LAST-MODIFIED:20240229T152144Z
UID:10000742-1836154800-1836162000@wilmingtonbrewworks.com
SUMMARY:Small Batch Trivia with Geeks Who Drink
DESCRIPTION:Small Batch Trivia\, the latest offering from Geeks Who Drink brings you a light-hearted night of trivia competition to Wilmington Brew Works! \nOur weekly quiz is free to play and we’ll be giving away gift cards for our top teams at the end of the night. Join us for straight up fun!
URL:https://wilmingtonbrewworks.com/event/small-batch-trivia-with-geeks-who-drink/2028-03-08/
LOCATION:Wilmington Brew Works\, 3129 Miller Road\, Wilmington\, DE\, 19802\, United States
CATEGORIES:Taproom Events
ATTACH;FMTTYPE=image/png:https://wilmingtonbrewworks.com/wp-content/uploads/2023/10/WBW-GWD-TriviaFacebook-Cover.png
END:VEVENT
BEGIN:VEVENT
DTSTART;TZID=America/New_York:20280315T190000
DTEND;TZID=America/New_York:20280315T210000
DTSTAMP:20260420T232359
CREATED:20231218T142348Z
LAST-MODIFIED:20240229T152144Z
UID:10000743-1836759600-1836766800@wilmingtonbrewworks.com
SUMMARY:Small Batch Trivia with Geeks Who Drink
DESCRIPTION:Small Batch Trivia\, the latest offering from Geeks Who Drink brings you a light-hearted night of trivia competition to Wilmington Brew Works! \nOur weekly quiz is free to play and we’ll be giving away gift cards for our top teams at the end of the night. Join us for straight up fun!
URL:https://wilmingtonbrewworks.com/event/small-batch-trivia-with-geeks-who-drink/2028-03-15/
LOCATION:Wilmington Brew Works\, 3129 Miller Road\, Wilmington\, DE\, 19802\, United States
CATEGORIES:Taproom Events
ATTACH;FMTTYPE=image/png:https://wilmingtonbrewworks.com/wp-content/uploads/2023/10/WBW-GWD-TriviaFacebook-Cover.png
END:VEVENT
BEGIN:VEVENT
DTSTART;TZID=America/New_York:20280322T190000
DTEND;TZID=America/New_York:20280322T210000
DTSTAMP:20260420T232359
CREATED:20231218T142348Z
LAST-MODIFIED:20240229T152144Z
UID:10000744-1837364400-1837371600@wilmingtonbrewworks.com
SUMMARY:Small Batch Trivia with Geeks Who Drink
DESCRIPTION:Small Batch Trivia\, the latest offering from Geeks Who Drink brings you a light-hearted night of trivia competition to Wilmington Brew Works! \nOur weekly quiz is free to play and we’ll be giving away gift cards for our top teams at the end of the night. Join us for straight up fun!
URL:https://wilmingtonbrewworks.com/event/small-batch-trivia-with-geeks-who-drink/2028-03-22/
LOCATION:Wilmington Brew Works\, 3129 Miller Road\, Wilmington\, DE\, 19802\, United States
CATEGORIES:Taproom Events
ATTACH;FMTTYPE=image/png:https://wilmingtonbrewworks.com/wp-content/uploads/2023/10/WBW-GWD-TriviaFacebook-Cover.png
END:VEVENT
BEGIN:VEVENT
DTSTART;TZID=America/New_York:20280329T190000
DTEND;TZID=America/New_York:20280329T210000
DTSTAMP:20260420T232359
CREATED:20231218T142348Z
LAST-MODIFIED:20240229T152144Z
UID:10000745-1837969200-1837976400@wilmingtonbrewworks.com
SUMMARY:Small Batch Trivia with Geeks Who Drink
DESCRIPTION:Small Batch Trivia\, the latest offering from Geeks Who Drink brings you a light-hearted night of trivia competition to Wilmington Brew Works! \nOur weekly quiz is free to play and we’ll be giving away gift cards for our top teams at the end of the night. Join us for straight up fun!
URL:https://wilmingtonbrewworks.com/event/small-batch-trivia-with-geeks-who-drink/2028-03-29/
LOCATION:Wilmington Brew Works\, 3129 Miller Road\, Wilmington\, DE\, 19802\, United States
CATEGORIES:Taproom Events
ATTACH;FMTTYPE=image/png:https://wilmingtonbrewworks.com/wp-content/uploads/2023/10/WBW-GWD-TriviaFacebook-Cover.png
END:VEVENT
BEGIN:VEVENT
DTSTART;TZID=America/New_York:20280405T190000
DTEND;TZID=America/New_York:20280405T210000
DTSTAMP:20260420T232359
CREATED:20231218T142348Z
LAST-MODIFIED:20240229T152144Z
UID:10000746-1838574000-1838581200@wilmingtonbrewworks.com
SUMMARY:Small Batch Trivia with Geeks Who Drink
DESCRIPTION:Small Batch Trivia\, the latest offering from Geeks Who Drink brings you a light-hearted night of trivia competition to Wilmington Brew Works! \nOur weekly quiz is free to play and we’ll be giving away gift cards for our top teams at the end of the night. Join us for straight up fun!
URL:https://wilmingtonbrewworks.com/event/small-batch-trivia-with-geeks-who-drink/2028-04-05/
LOCATION:Wilmington Brew Works\, 3129 Miller Road\, Wilmington\, DE\, 19802\, United States
CATEGORIES:Taproom Events
ATTACH;FMTTYPE=image/png:https://wilmingtonbrewworks.com/wp-content/uploads/2023/10/WBW-GWD-TriviaFacebook-Cover.png
END:VEVENT
BEGIN:VEVENT
DTSTART;TZID=America/New_York:20280412T190000
DTEND;TZID=America/New_York:20280412T210000
DTSTAMP:20260420T232359
CREATED:20231218T142348Z
LAST-MODIFIED:20240229T152144Z
UID:10000747-1839178800-1839186000@wilmingtonbrewworks.com
SUMMARY:Small Batch Trivia with Geeks Who Drink
DESCRIPTION:Small Batch Trivia\, the latest offering from Geeks Who Drink brings you a light-hearted night of trivia competition to Wilmington Brew Works! \nOur weekly quiz is free to play and we’ll be giving away gift cards for our top teams at the end of the night. Join us for straight up fun!
URL:https://wilmingtonbrewworks.com/event/small-batch-trivia-with-geeks-who-drink/2028-04-12/
LOCATION:Wilmington Brew Works\, 3129 Miller Road\, Wilmington\, DE\, 19802\, United States
CATEGORIES:Taproom Events
ATTACH;FMTTYPE=image/png:https://wilmingtonbrewworks.com/wp-content/uploads/2023/10/WBW-GWD-TriviaFacebook-Cover.png
END:VEVENT
BEGIN:VEVENT
DTSTART;TZID=America/New_York:20280419T190000
DTEND;TZID=America/New_York:20280419T210000
DTSTAMP:20260420T232359
CREATED:20231218T142348Z
LAST-MODIFIED:20240229T152144Z
UID:10000748-1839783600-1839790800@wilmingtonbrewworks.com
SUMMARY:Small Batch Trivia with Geeks Who Drink
DESCRIPTION:Small Batch Trivia\, the latest offering from Geeks Who Drink brings you a light-hearted night of trivia competition to Wilmington Brew Works! \nOur weekly quiz is free to play and we’ll be giving away gift cards for our top teams at the end of the night. Join us for straight up fun!
URL:https://wilmingtonbrewworks.com/event/small-batch-trivia-with-geeks-who-drink/2028-04-19/
LOCATION:Wilmington Brew Works\, 3129 Miller Road\, Wilmington\, DE\, 19802\, United States
CATEGORIES:Taproom Events
ATTACH;FMTTYPE=image/png:https://wilmingtonbrewworks.com/wp-content/uploads/2023/10/WBW-GWD-TriviaFacebook-Cover.png
END:VEVENT
BEGIN:VEVENT
DTSTART;TZID=America/New_York:20280426T190000
DTEND;TZID=America/New_York:20280426T210000
DTSTAMP:20260420T232359
CREATED:20231218T142348Z
LAST-MODIFIED:20240229T152144Z
UID:10000749-1840388400-1840395600@wilmingtonbrewworks.com
SUMMARY:Small Batch Trivia with Geeks Who Drink
DESCRIPTION:Small Batch Trivia\, the latest offering from Geeks Who Drink brings you a light-hearted night of trivia competition to Wilmington Brew Works! \nOur weekly quiz is free to play and we’ll be giving away gift cards for our top teams at the end of the night. Join us for straight up fun!
URL:https://wilmingtonbrewworks.com/event/small-batch-trivia-with-geeks-who-drink/2028-04-26/
LOCATION:Wilmington Brew Works\, 3129 Miller Road\, Wilmington\, DE\, 19802\, United States
CATEGORIES:Taproom Events
ATTACH;FMTTYPE=image/png:https://wilmingtonbrewworks.com/wp-content/uploads/2023/10/WBW-GWD-TriviaFacebook-Cover.png
END:VEVENT
BEGIN:VEVENT
DTSTART;TZID=America/New_York:20280503T190000
DTEND;TZID=America/New_York:20280503T210000
DTSTAMP:20260420T232359
CREATED:20231218T142348Z
LAST-MODIFIED:20240229T152144Z
UID:10000750-1840993200-1841000400@wilmingtonbrewworks.com
SUMMARY:Small Batch Trivia with Geeks Who Drink
DESCRIPTION:Small Batch Trivia\, the latest offering from Geeks Who Drink brings you a light-hearted night of trivia competition to Wilmington Brew Works! \nOur weekly quiz is free to play and we’ll be giving away gift cards for our top teams at the end of the night. Join us for straight up fun!
URL:https://wilmingtonbrewworks.com/event/small-batch-trivia-with-geeks-who-drink/2028-05-03/
LOCATION:Wilmington Brew Works\, 3129 Miller Road\, Wilmington\, DE\, 19802\, United States
CATEGORIES:Taproom Events
ATTACH;FMTTYPE=image/png:https://wilmingtonbrewworks.com/wp-content/uploads/2023/10/WBW-GWD-TriviaFacebook-Cover.png
END:VEVENT
BEGIN:VEVENT
DTSTART;TZID=America/New_York:20280510T190000
DTEND;TZID=America/New_York:20280510T210000
DTSTAMP:20260420T232359
CREATED:20231218T142348Z
LAST-MODIFIED:20240229T152144Z
UID:10000751-1841598000-1841605200@wilmingtonbrewworks.com
SUMMARY:Small Batch Trivia with Geeks Who Drink
DESCRIPTION:Small Batch Trivia\, the latest offering from Geeks Who Drink brings you a light-hearted night of trivia competition to Wilmington Brew Works! \nOur weekly quiz is free to play and we’ll be giving away gift cards for our top teams at the end of the night. Join us for straight up fun!
URL:https://wilmingtonbrewworks.com/event/small-batch-trivia-with-geeks-who-drink/2028-05-10/
LOCATION:Wilmington Brew Works\, 3129 Miller Road\, Wilmington\, DE\, 19802\, United States
CATEGORIES:Taproom Events
ATTACH;FMTTYPE=image/png:https://wilmingtonbrewworks.com/wp-content/uploads/2023/10/WBW-GWD-TriviaFacebook-Cover.png
END:VEVENT
BEGIN:VEVENT
DTSTART;TZID=America/New_York:20280517T190000
DTEND;TZID=America/New_York:20280517T210000
DTSTAMP:20260420T232359
CREATED:20231218T142348Z
LAST-MODIFIED:20240229T152144Z
UID:10000752-1842202800-1842210000@wilmingtonbrewworks.com
SUMMARY:Small Batch Trivia with Geeks Who Drink
DESCRIPTION:Small Batch Trivia\, the latest offering from Geeks Who Drink brings you a light-hearted night of trivia competition to Wilmington Brew Works! \nOur weekly quiz is free to play and we’ll be giving away gift cards for our top teams at the end of the night. Join us for straight up fun!
URL:https://wilmingtonbrewworks.com/event/small-batch-trivia-with-geeks-who-drink/2028-05-17/
LOCATION:Wilmington Brew Works\, 3129 Miller Road\, Wilmington\, DE\, 19802\, United States
CATEGORIES:Taproom Events
ATTACH;FMTTYPE=image/png:https://wilmingtonbrewworks.com/wp-content/uploads/2023/10/WBW-GWD-TriviaFacebook-Cover.png
END:VEVENT
BEGIN:VEVENT
DTSTART;TZID=America/New_York:20280524T190000
DTEND;TZID=America/New_York:20280524T210000
DTSTAMP:20260420T232359
CREATED:20231218T142348Z
LAST-MODIFIED:20240229T152144Z
UID:10000753-1842807600-1842814800@wilmingtonbrewworks.com
SUMMARY:Small Batch Trivia with Geeks Who Drink
DESCRIPTION:Small Batch Trivia\, the latest offering from Geeks Who Drink brings you a light-hearted night of trivia competition to Wilmington Brew Works! \nOur weekly quiz is free to play and we’ll be giving away gift cards for our top teams at the end of the night. Join us for straight up fun!
URL:https://wilmingtonbrewworks.com/event/small-batch-trivia-with-geeks-who-drink/2028-05-24/
LOCATION:Wilmington Brew Works\, 3129 Miller Road\, Wilmington\, DE\, 19802\, United States
CATEGORIES:Taproom Events
ATTACH;FMTTYPE=image/png:https://wilmingtonbrewworks.com/wp-content/uploads/2023/10/WBW-GWD-TriviaFacebook-Cover.png
END:VEVENT
BEGIN:VEVENT
DTSTART;TZID=America/New_York:20280531T190000
DTEND;TZID=America/New_York:20280531T210000
DTSTAMP:20260420T232359
CREATED:20231218T142348Z
LAST-MODIFIED:20240229T152144Z
UID:10000754-1843412400-1843419600@wilmingtonbrewworks.com
SUMMARY:Small Batch Trivia with Geeks Who Drink
DESCRIPTION:Small Batch Trivia\, the latest offering from Geeks Who Drink brings you a light-hearted night of trivia competition to Wilmington Brew Works! \nOur weekly quiz is free to play and we’ll be giving away gift cards for our top teams at the end of the night. Join us for straight up fun!
URL:https://wilmingtonbrewworks.com/event/small-batch-trivia-with-geeks-who-drink/2028-05-31/
LOCATION:Wilmington Brew Works\, 3129 Miller Road\, Wilmington\, DE\, 19802\, United States
CATEGORIES:Taproom Events
ATTACH;FMTTYPE=image/png:https://wilmingtonbrewworks.com/wp-content/uploads/2023/10/WBW-GWD-TriviaFacebook-Cover.png
END:VEVENT
BEGIN:VEVENT
DTSTART;TZID=America/New_York:20280607T190000
DTEND;TZID=America/New_York:20280607T210000
DTSTAMP:20260420T232359
CREATED:20231218T142348Z
LAST-MODIFIED:20240229T152144Z
UID:10000755-1844017200-1844024400@wilmingtonbrewworks.com
SUMMARY:Small Batch Trivia with Geeks Who Drink
DESCRIPTION:Small Batch Trivia\, the latest offering from Geeks Who Drink brings you a light-hearted night of trivia competition to Wilmington Brew Works! \nOur weekly quiz is free to play and we’ll be giving away gift cards for our top teams at the end of the night. Join us for straight up fun!
URL:https://wilmingtonbrewworks.com/event/small-batch-trivia-with-geeks-who-drink/2028-06-07/
LOCATION:Wilmington Brew Works\, 3129 Miller Road\, Wilmington\, DE\, 19802\, United States
CATEGORIES:Taproom Events
ATTACH;FMTTYPE=image/png:https://wilmingtonbrewworks.com/wp-content/uploads/2023/10/WBW-GWD-TriviaFacebook-Cover.png
END:VEVENT
BEGIN:VEVENT
DTSTART;TZID=America/New_York:20280614T190000
DTEND;TZID=America/New_York:20280614T210000
DTSTAMP:20260420T232359
CREATED:20231218T142348Z
LAST-MODIFIED:20240229T152144Z
UID:10000756-1844622000-1844629200@wilmingtonbrewworks.com
SUMMARY:Small Batch Trivia with Geeks Who Drink
DESCRIPTION:Small Batch Trivia\, the latest offering from Geeks Who Drink brings you a light-hearted night of trivia competition to Wilmington Brew Works! \nOur weekly quiz is free to play and we’ll be giving away gift cards for our top teams at the end of the night. Join us for straight up fun!
URL:https://wilmingtonbrewworks.com/event/small-batch-trivia-with-geeks-who-drink/2028-06-14/
LOCATION:Wilmington Brew Works\, 3129 Miller Road\, Wilmington\, DE\, 19802\, United States
CATEGORIES:Taproom Events
ATTACH;FMTTYPE=image/png:https://wilmingtonbrewworks.com/wp-content/uploads/2023/10/WBW-GWD-TriviaFacebook-Cover.png
END:VEVENT
BEGIN:VEVENT
DTSTART;TZID=America/New_York:20280621T190000
DTEND;TZID=America/New_York:20280621T210000
DTSTAMP:20260420T232359
CREATED:20231218T142348Z
LAST-MODIFIED:20240229T152144Z
UID:10000757-1845226800-1845234000@wilmingtonbrewworks.com
SUMMARY:Small Batch Trivia with Geeks Who Drink
DESCRIPTION:Small Batch Trivia\, the latest offering from Geeks Who Drink brings you a light-hearted night of trivia competition to Wilmington Brew Works! \nOur weekly quiz is free to play and we’ll be giving away gift cards for our top teams at the end of the night. Join us for straight up fun!
URL:https://wilmingtonbrewworks.com/event/small-batch-trivia-with-geeks-who-drink/2028-06-21/
LOCATION:Wilmington Brew Works\, 3129 Miller Road\, Wilmington\, DE\, 19802\, United States
CATEGORIES:Taproom Events
ATTACH;FMTTYPE=image/png:https://wilmingtonbrewworks.com/wp-content/uploads/2023/10/WBW-GWD-TriviaFacebook-Cover.png
END:VEVENT
BEGIN:VEVENT
DTSTART;TZID=America/New_York:20280628T190000
DTEND;TZID=America/New_York:20280628T210000
DTSTAMP:20260420T232359
CREATED:20231218T142348Z
LAST-MODIFIED:20240229T152144Z
UID:10000758-1845831600-1845838800@wilmingtonbrewworks.com
SUMMARY:Small Batch Trivia with Geeks Who Drink
DESCRIPTION:Small Batch Trivia\, the latest offering from Geeks Who Drink brings you a light-hearted night of trivia competition to Wilmington Brew Works! \nOur weekly quiz is free to play and we’ll be giving away gift cards for our top teams at the end of the night. Join us for straight up fun!
URL:https://wilmingtonbrewworks.com/event/small-batch-trivia-with-geeks-who-drink/2028-06-28/
LOCATION:Wilmington Brew Works\, 3129 Miller Road\, Wilmington\, DE\, 19802\, United States
CATEGORIES:Taproom Events
ATTACH;FMTTYPE=image/png:https://wilmingtonbrewworks.com/wp-content/uploads/2023/10/WBW-GWD-TriviaFacebook-Cover.png
END:VEVENT
BEGIN:VEVENT
DTSTART;TZID=America/New_York:20280705T190000
DTEND;TZID=America/New_York:20280705T210000
DTSTAMP:20260420T232359
CREATED:20231218T142348Z
LAST-MODIFIED:20240229T152144Z
UID:10000759-1846436400-1846443600@wilmingtonbrewworks.com
SUMMARY:Small Batch Trivia with Geeks Who Drink
DESCRIPTION:Small Batch Trivia\, the latest offering from Geeks Who Drink brings you a light-hearted night of trivia competition to Wilmington Brew Works! \nOur weekly quiz is free to play and we’ll be giving away gift cards for our top teams at the end of the night. Join us for straight up fun!
URL:https://wilmingtonbrewworks.com/event/small-batch-trivia-with-geeks-who-drink/2028-07-05/
LOCATION:Wilmington Brew Works\, 3129 Miller Road\, Wilmington\, DE\, 19802\, United States
CATEGORIES:Taproom Events
ATTACH;FMTTYPE=image/png:https://wilmingtonbrewworks.com/wp-content/uploads/2023/10/WBW-GWD-TriviaFacebook-Cover.png
END:VEVENT
BEGIN:VEVENT
DTSTART;TZID=America/New_York:20280712T190000
DTEND;TZID=America/New_York:20280712T210000
DTSTAMP:20260420T232359
CREATED:20231218T142348Z
LAST-MODIFIED:20240229T152144Z
UID:10000760-1847041200-1847048400@wilmingtonbrewworks.com
SUMMARY:Small Batch Trivia with Geeks Who Drink
DESCRIPTION:Small Batch Trivia\, the latest offering from Geeks Who Drink brings you a light-hearted night of trivia competition to Wilmington Brew Works! \nOur weekly quiz is free to play and we’ll be giving away gift cards for our top teams at the end of the night. Join us for straight up fun!
URL:https://wilmingtonbrewworks.com/event/small-batch-trivia-with-geeks-who-drink/2028-07-12/
LOCATION:Wilmington Brew Works\, 3129 Miller Road\, Wilmington\, DE\, 19802\, United States
CATEGORIES:Taproom Events
ATTACH;FMTTYPE=image/png:https://wilmingtonbrewworks.com/wp-content/uploads/2023/10/WBW-GWD-TriviaFacebook-Cover.png
END:VEVENT
BEGIN:VEVENT
DTSTART;TZID=America/New_York:20280719T190000
DTEND;TZID=America/New_York:20280719T210000
DTSTAMP:20260420T232359
CREATED:20231218T142348Z
LAST-MODIFIED:20240229T152144Z
UID:10000761-1847646000-1847653200@wilmingtonbrewworks.com
SUMMARY:Small Batch Trivia with Geeks Who Drink
DESCRIPTION:Small Batch Trivia\, the latest offering from Geeks Who Drink brings you a light-hearted night of trivia competition to Wilmington Brew Works! \nOur weekly quiz is free to play and we’ll be giving away gift cards for our top teams at the end of the night. Join us for straight up fun!
URL:https://wilmingtonbrewworks.com/event/small-batch-trivia-with-geeks-who-drink/2028-07-19/
LOCATION:Wilmington Brew Works\, 3129 Miller Road\, Wilmington\, DE\, 19802\, United States
CATEGORIES:Taproom Events
ATTACH;FMTTYPE=image/png:https://wilmingtonbrewworks.com/wp-content/uploads/2023/10/WBW-GWD-TriviaFacebook-Cover.png
END:VEVENT
BEGIN:VEVENT
DTSTART;TZID=America/New_York:20280726T190000
DTEND;TZID=America/New_York:20280726T210000
DTSTAMP:20260420T232359
CREATED:20231218T142348Z
LAST-MODIFIED:20240229T152144Z
UID:10000762-1848250800-1848258000@wilmingtonbrewworks.com
SUMMARY:Small Batch Trivia with Geeks Who Drink
DESCRIPTION:Small Batch Trivia\, the latest offering from Geeks Who Drink brings you a light-hearted night of trivia competition to Wilmington Brew Works! \nOur weekly quiz is free to play and we’ll be giving away gift cards for our top teams at the end of the night. Join us for straight up fun!
URL:https://wilmingtonbrewworks.com/event/small-batch-trivia-with-geeks-who-drink/2028-07-26/
LOCATION:Wilmington Brew Works\, 3129 Miller Road\, Wilmington\, DE\, 19802\, United States
CATEGORIES:Taproom Events
ATTACH;FMTTYPE=image/png:https://wilmingtonbrewworks.com/wp-content/uploads/2023/10/WBW-GWD-TriviaFacebook-Cover.png
END:VEVENT
BEGIN:VEVENT
DTSTART;TZID=America/New_York:20280802T190000
DTEND;TZID=America/New_York:20280802T210000
DTSTAMP:20260420T232359
CREATED:20231218T142348Z
LAST-MODIFIED:20240229T152144Z
UID:10000763-1848855600-1848862800@wilmingtonbrewworks.com
SUMMARY:Small Batch Trivia with Geeks Who Drink
DESCRIPTION:Small Batch Trivia\, the latest offering from Geeks Who Drink brings you a light-hearted night of trivia competition to Wilmington Brew Works! \nOur weekly quiz is free to play and we’ll be giving away gift cards for our top teams at the end of the night. Join us for straight up fun!
URL:https://wilmingtonbrewworks.com/event/small-batch-trivia-with-geeks-who-drink/2028-08-02/
LOCATION:Wilmington Brew Works\, 3129 Miller Road\, Wilmington\, DE\, 19802\, United States
CATEGORIES:Taproom Events
ATTACH;FMTTYPE=image/png:https://wilmingtonbrewworks.com/wp-content/uploads/2023/10/WBW-GWD-TriviaFacebook-Cover.png
END:VEVENT
BEGIN:VEVENT
DTSTART;TZID=America/New_York:20280809T190000
DTEND;TZID=America/New_York:20280809T210000
DTSTAMP:20260420T232359
CREATED:20231218T142348Z
LAST-MODIFIED:20240229T152144Z
UID:10000764-1849460400-1849467600@wilmingtonbrewworks.com
SUMMARY:Small Batch Trivia with Geeks Who Drink
DESCRIPTION:Small Batch Trivia\, the latest offering from Geeks Who Drink brings you a light-hearted night of trivia competition to Wilmington Brew Works! \nOur weekly quiz is free to play and we’ll be giving away gift cards for our top teams at the end of the night. Join us for straight up fun!
URL:https://wilmingtonbrewworks.com/event/small-batch-trivia-with-geeks-who-drink/2028-08-09/
LOCATION:Wilmington Brew Works\, 3129 Miller Road\, Wilmington\, DE\, 19802\, United States
CATEGORIES:Taproom Events
ATTACH;FMTTYPE=image/png:https://wilmingtonbrewworks.com/wp-content/uploads/2023/10/WBW-GWD-TriviaFacebook-Cover.png
END:VEVENT
BEGIN:VEVENT
DTSTART;TZID=America/New_York:20280816T190000
DTEND;TZID=America/New_York:20280816T210000
DTSTAMP:20260420T232359
CREATED:20231218T142348Z
LAST-MODIFIED:20240229T152144Z
UID:10000765-1850065200-1850072400@wilmingtonbrewworks.com
SUMMARY:Small Batch Trivia with Geeks Who Drink
DESCRIPTION:Small Batch Trivia\, the latest offering from Geeks Who Drink brings you a light-hearted night of trivia competition to Wilmington Brew Works! \nOur weekly quiz is free to play and we’ll be giving away gift cards for our top teams at the end of the night. Join us for straight up fun!
URL:https://wilmingtonbrewworks.com/event/small-batch-trivia-with-geeks-who-drink/2028-08-16/
LOCATION:Wilmington Brew Works\, 3129 Miller Road\, Wilmington\, DE\, 19802\, United States
CATEGORIES:Taproom Events
ATTACH;FMTTYPE=image/png:https://wilmingtonbrewworks.com/wp-content/uploads/2023/10/WBW-GWD-TriviaFacebook-Cover.png
END:VEVENT
BEGIN:VEVENT
DTSTART;TZID=America/New_York:20280823T190000
DTEND;TZID=America/New_York:20280823T210000
DTSTAMP:20260420T232359
CREATED:20231218T142348Z
LAST-MODIFIED:20240229T152144Z
UID:10000766-1850670000-1850677200@wilmingtonbrewworks.com
SUMMARY:Small Batch Trivia with Geeks Who Drink
DESCRIPTION:Small Batch Trivia\, the latest offering from Geeks Who Drink brings you a light-hearted night of trivia competition to Wilmington Brew Works! \nOur weekly quiz is free to play and we’ll be giving away gift cards for our top teams at the end of the night. Join us for straight up fun!
URL:https://wilmingtonbrewworks.com/event/small-batch-trivia-with-geeks-who-drink/2028-08-23/
LOCATION:Wilmington Brew Works\, 3129 Miller Road\, Wilmington\, DE\, 19802\, United States
CATEGORIES:Taproom Events
ATTACH;FMTTYPE=image/png:https://wilmingtonbrewworks.com/wp-content/uploads/2023/10/WBW-GWD-TriviaFacebook-Cover.png
END:VEVENT
BEGIN:VEVENT
DTSTART;TZID=America/New_York:20280830T190000
DTEND;TZID=America/New_York:20280830T210000
DTSTAMP:20260420T232359
CREATED:20231218T142348Z
LAST-MODIFIED:20240229T152144Z
UID:10000767-1851274800-1851282000@wilmingtonbrewworks.com
SUMMARY:Small Batch Trivia with Geeks Who Drink
DESCRIPTION:Small Batch Trivia\, the latest offering from Geeks Who Drink brings you a light-hearted night of trivia competition to Wilmington Brew Works! \nOur weekly quiz is free to play and we’ll be giving away gift cards for our top teams at the end of the night. Join us for straight up fun!
URL:https://wilmingtonbrewworks.com/event/small-batch-trivia-with-geeks-who-drink/2028-08-30/
LOCATION:Wilmington Brew Works\, 3129 Miller Road\, Wilmington\, DE\, 19802\, United States
CATEGORIES:Taproom Events
ATTACH;FMTTYPE=image/png:https://wilmingtonbrewworks.com/wp-content/uploads/2023/10/WBW-GWD-TriviaFacebook-Cover.png
END:VEVENT
BEGIN:VEVENT
DTSTART;TZID=America/New_York:20280906T190000
DTEND;TZID=America/New_York:20280906T210000
DTSTAMP:20260420T232359
CREATED:20231218T142348Z
LAST-MODIFIED:20240229T152144Z
UID:10000768-1851879600-1851886800@wilmingtonbrewworks.com
SUMMARY:Small Batch Trivia with Geeks Who Drink
DESCRIPTION:Small Batch Trivia\, the latest offering from Geeks Who Drink brings you a light-hearted night of trivia competition to Wilmington Brew Works! \nOur weekly quiz is free to play and we’ll be giving away gift cards for our top teams at the end of the night. Join us for straight up fun!
URL:https://wilmingtonbrewworks.com/event/small-batch-trivia-with-geeks-who-drink/2028-09-06/
LOCATION:Wilmington Brew Works\, 3129 Miller Road\, Wilmington\, DE\, 19802\, United States
CATEGORIES:Taproom Events
ATTACH;FMTTYPE=image/png:https://wilmingtonbrewworks.com/wp-content/uploads/2023/10/WBW-GWD-TriviaFacebook-Cover.png
END:VEVENT
BEGIN:VEVENT
DTSTART;TZID=America/New_York:20280913T190000
DTEND;TZID=America/New_York:20280913T210000
DTSTAMP:20260420T232359
CREATED:20231218T142348Z
LAST-MODIFIED:20240229T152144Z
UID:10000769-1852484400-1852491600@wilmingtonbrewworks.com
SUMMARY:Small Batch Trivia with Geeks Who Drink
DESCRIPTION:Small Batch Trivia\, the latest offering from Geeks Who Drink brings you a light-hearted night of trivia competition to Wilmington Brew Works! \nOur weekly quiz is free to play and we’ll be giving away gift cards for our top teams at the end of the night. Join us for straight up fun!
URL:https://wilmingtonbrewworks.com/event/small-batch-trivia-with-geeks-who-drink/2028-09-13/
LOCATION:Wilmington Brew Works\, 3129 Miller Road\, Wilmington\, DE\, 19802\, United States
CATEGORIES:Taproom Events
ATTACH;FMTTYPE=image/png:https://wilmingtonbrewworks.com/wp-content/uploads/2023/10/WBW-GWD-TriviaFacebook-Cover.png
END:VEVENT
END:VCALENDAR