BEGIN:VCALENDAR
VERSION:2.0
PRODID:-//Wilmington Brew Works - ECPv6.15.20//NONSGML v1.0//EN
CALSCALE:GREGORIAN
METHOD:PUBLISH
X-ORIGINAL-URL:https://wilmingtonbrewworks.com
X-WR-CALDESC:Events for Wilmington Brew Works
REFRESH-INTERVAL;VALUE=DURATION:PT1H
X-Robots-Tag:noindex
X-PUBLISHED-TTL:PT1H
BEGIN:VTIMEZONE
TZID:America/New_York
BEGIN:DAYLIGHT
TZOFFSETFROM:-0500
TZOFFSETTO:-0400
TZNAME:EDT
DTSTART:20240310T070000
END:DAYLIGHT
BEGIN:STANDARD
TZOFFSETFROM:-0400
TZOFFSETTO:-0500
TZNAME:EST
DTSTART:20241103T060000
END:STANDARD
BEGIN:DAYLIGHT
TZOFFSETFROM:-0500
TZOFFSETTO:-0400
TZNAME:EDT
DTSTART:20250309T070000
END:DAYLIGHT
BEGIN:STANDARD
TZOFFSETFROM:-0400
TZOFFSETTO:-0500
TZNAME:EST
DTSTART:20251102T060000
END:STANDARD
BEGIN:DAYLIGHT
TZOFFSETFROM:-0500
TZOFFSETTO:-0400
TZNAME:EDT
DTSTART:20260308T070000
END:DAYLIGHT
BEGIN:STANDARD
TZOFFSETFROM:-0400
TZOFFSETTO:-0500
TZNAME:EST
DTSTART:20261101T060000
END:STANDARD
END:VTIMEZONE
BEGIN:VEVENT
DTSTART;TZID=America/New_York:20251031T183000
DTEND;TZID=America/New_York:20251031T210000
DTSTAMP:20260421T010356
CREATED:20251028T004134Z
LAST-MODIFIED:20251028T004943Z
UID:10002934-1761935400-1761944400@wilmingtonbrewworks.com
SUMMARY:Halloween Night - Costume Contest & Live Music
DESCRIPTION:Halloween is on a Friday! Don’t give away all your candy – come grab a beer with us! \nCOSTUME CONTEST\n\nRuns from 7:00 until 8:30 The longer you are here\, the more votes you can get!\nReceive one Voting Token with every Drink Purchase\nVote for your favorites!\nWinners announced at 8:30! WBW Prizes!\n\nLive Music from John and Augie!\n6:30 – 9:00 \nEnjoy WBW Beer and Craft Halloween Cocktails!
URL:https://wilmingtonbrewworks.com/event/halloween2025/
LOCATION:Wilmington Brew Works\, 3129 Miller Road\, Wilmington\, DE\, 19802\, United States
CATEGORIES:Taproom Events
ATTACH;FMTTYPE=image/png:https://wilmingtonbrewworks.com/wp-content/uploads/2025/10/WBW-Halloween-2025-EventTV.png
END:VEVENT
END:VCALENDAR