BEGIN:VCALENDAR
VERSION:2.0
PRODID:-//Wilmington Brew Works - ECPv6.15.20//NONSGML v1.0//EN
CALSCALE:GREGORIAN
METHOD:PUBLISH
X-ORIGINAL-URL:https://wilmingtonbrewworks.com
X-WR-CALDESC:Events for Wilmington Brew Works
REFRESH-INTERVAL;VALUE=DURATION:PT1H
X-Robots-Tag:noindex
X-PUBLISHED-TTL:PT1H
BEGIN:VTIMEZONE
TZID:America/New_York
BEGIN:DAYLIGHT
TZOFFSETFROM:-0500
TZOFFSETTO:-0400
TZNAME:EDT
DTSTART:20250309T070000
END:DAYLIGHT
BEGIN:STANDARD
TZOFFSETFROM:-0400
TZOFFSETTO:-0500
TZNAME:EST
DTSTART:20251102T060000
END:STANDARD
BEGIN:DAYLIGHT
TZOFFSETFROM:-0500
TZOFFSETTO:-0400
TZNAME:EDT
DTSTART:20260308T070000
END:DAYLIGHT
BEGIN:STANDARD
TZOFFSETFROM:-0400
TZOFFSETTO:-0500
TZNAME:EST
DTSTART:20261101T060000
END:STANDARD
BEGIN:DAYLIGHT
TZOFFSETFROM:-0500
TZOFFSETTO:-0400
TZNAME:EDT
DTSTART:20270314T070000
END:DAYLIGHT
BEGIN:STANDARD
TZOFFSETFROM:-0400
TZOFFSETTO:-0500
TZNAME:EST
DTSTART:20271107T060000
END:STANDARD
END:VTIMEZONE
BEGIN:VEVENT
DTSTART;TZID=America/New_York:20260618T190000
DTEND;TZID=America/New_York:20260618T220000
DTSTAMP:20260420T123209
CREATED:20260106T222700Z
LAST-MODIFIED:20260106T222700Z
UID:10004285-1781809200-1781820000@wilmingtonbrewworks.com
SUMMARY:Brew Better Werk! A Drag Bingo with Jolene Cuisine!
DESCRIPTION:Join the Drag Bear of Delaware\, Jolene Cuisine\, for Beers and Bingo! \nJolene Cuisine hosts Brew Better Werk! the Drag Bingo at Wilmington Brew Works. \nTickets are $12\, include 5 rounds of Bingo with WBW Swag Prizes and a FABULOUS drag show featuring fierce local talent. Bring your cash to tip the entertainers! Seating will be limited so the presale is recommended. \nDoors open at 7 PM \, show starts at 8 PM. \nTickets Available from Jolene Cuisine!
URL:https://wilmingtonbrewworks.com/event/brew-better-werk-a-drag-bingo-with-jolene-cuisine-6/2026-06-18/
LOCATION:The Alamo Room\, 3129 Miller Road\, Wilmington\, DE\, 19802\, United States
CATEGORIES:Alamo Room Events,Ticketed Events
ATTACH;FMTTYPE=image/png:https://wilmingtonbrewworks.com/wp-content/uploads/2026/01/Jolene-at-WBWEvent_1.png
END:VEVENT
END:VCALENDAR