BEGIN:VCALENDAR
VERSION:2.0
PRODID:-//Wilmington Brew Works - ECPv6.15.20//NONSGML v1.0//EN
CALSCALE:GREGORIAN
METHOD:PUBLISH
X-ORIGINAL-URL:https://wilmingtonbrewworks.com
X-WR-CALDESC:Events for Wilmington Brew Works
REFRESH-INTERVAL;VALUE=DURATION:PT1H
X-Robots-Tag:noindex
X-PUBLISHED-TTL:PT1H
BEGIN:VTIMEZONE
TZID:America/New_York
BEGIN:DAYLIGHT
TZOFFSETFROM:-0500
TZOFFSETTO:-0400
TZNAME:EDT
DTSTART:20240310T070000
END:DAYLIGHT
BEGIN:STANDARD
TZOFFSETFROM:-0400
TZOFFSETTO:-0500
TZNAME:EST
DTSTART:20241103T060000
END:STANDARD
BEGIN:DAYLIGHT
TZOFFSETFROM:-0500
TZOFFSETTO:-0400
TZNAME:EDT
DTSTART:20250309T070000
END:DAYLIGHT
BEGIN:STANDARD
TZOFFSETFROM:-0400
TZOFFSETTO:-0500
TZNAME:EST
DTSTART:20251102T060000
END:STANDARD
BEGIN:DAYLIGHT
TZOFFSETFROM:-0500
TZOFFSETTO:-0400
TZNAME:EDT
DTSTART:20260308T070000
END:DAYLIGHT
BEGIN:STANDARD
TZOFFSETFROM:-0400
TZOFFSETTO:-0500
TZNAME:EST
DTSTART:20261101T060000
END:STANDARD
END:VTIMEZONE
BEGIN:VEVENT
DTSTART;TZID=America/New_York:20250806T183000
DTEND;TZID=America/New_York:20250806T213000
DTSTAMP:20260420T221144
CREATED:20250703T165734Z
LAST-MODIFIED:20250703T170225Z
UID:10003359-1754505000-1754515800@wilmingtonbrewworks.com
SUMMARY:BWN - Summer Cornhole League
DESCRIPTION:This is the Event Series for the BWN Summer League. Register at this link by 7/14. \n\nWed 7/16\nWed 7/23\nWed 7/30\nWed 8/6\nWed 8/13\nWed 8/20\nWed 8/27\nWed 9/3 – FINALS
URL:https://wilmingtonbrewworks.com/event/bwn-summer-cornhole-league-2/2025-08-06/
LOCATION:Brew Works North\, 1851 Marsh Rd\, Wilmington\, DE\, 19810\, United States
CATEGORIES:Brew Works North Events
ATTACH;FMTTYPE=image/png:https://wilmingtonbrewworks.com/wp-content/uploads/2025/07/BWN-Summer-CornholeEvent-2.png
END:VEVENT
BEGIN:VEVENT
DTSTART;TZID=America/New_York:20250807T190000
DTEND;TZID=America/New_York:20250807T213000
DTSTAMP:20260420T221144
CREATED:20250721T011953Z
LAST-MODIFIED:20250721T012425Z
UID:10003376-1754593200-1754602200@wilmingtonbrewworks.com
SUMMARY:Foosball Open Tourney Nights @ BWN
DESCRIPTION:Thursday Nights at Brew Works North – Open tournament each week. If we get enough interest\, we’ll start a prize league. \nShow up at 7 – Foosball Legend Shawn will set teams and matchups. \nFree to play – Prizes for the winners.
URL:https://wilmingtonbrewworks.com/event/foosball-open-tourney-nights-bwn/2025-08-07/
LOCATION:Brew Works North\, 1851 Marsh Rd\, Wilmington\, DE\, 19810\, United States
CATEGORIES:Brew Works North Events
ATTACH;FMTTYPE=image/png:https://wilmingtonbrewworks.com/wp-content/uploads/2025/07/BWN-Foosball-TournEvent.png
END:VEVENT
BEGIN:VEVENT
DTSTART;TZID=America/New_York:20250813T183000
DTEND;TZID=America/New_York:20250813T213000
DTSTAMP:20260420T221144
CREATED:20250703T165734Z
LAST-MODIFIED:20250703T170225Z
UID:10003360-1755109800-1755120600@wilmingtonbrewworks.com
SUMMARY:BWN - Summer Cornhole League
DESCRIPTION:This is the Event Series for the BWN Summer League. Register at this link by 7/14. \n\nWed 7/16\nWed 7/23\nWed 7/30\nWed 8/6\nWed 8/13\nWed 8/20\nWed 8/27\nWed 9/3 – FINALS
URL:https://wilmingtonbrewworks.com/event/bwn-summer-cornhole-league-2/2025-08-13/
LOCATION:Brew Works North\, 1851 Marsh Rd\, Wilmington\, DE\, 19810\, United States
CATEGORIES:Brew Works North Events
ATTACH;FMTTYPE=image/png:https://wilmingtonbrewworks.com/wp-content/uploads/2025/07/BWN-Summer-CornholeEvent-2.png
END:VEVENT
BEGIN:VEVENT
DTSTART;TZID=America/New_York:20250814T190000
DTEND;TZID=America/New_York:20250814T213000
DTSTAMP:20260420T221144
CREATED:20250721T011953Z
LAST-MODIFIED:20250721T012425Z
UID:10003377-1755198000-1755207000@wilmingtonbrewworks.com
SUMMARY:Foosball Open Tourney Nights @ BWN
DESCRIPTION:Thursday Nights at Brew Works North – Open tournament each week. If we get enough interest\, we’ll start a prize league. \nShow up at 7 – Foosball Legend Shawn will set teams and matchups. \nFree to play – Prizes for the winners.
URL:https://wilmingtonbrewworks.com/event/foosball-open-tourney-nights-bwn/2025-08-14/
LOCATION:Brew Works North\, 1851 Marsh Rd\, Wilmington\, DE\, 19810\, United States
CATEGORIES:Brew Works North Events
ATTACH;FMTTYPE=image/png:https://wilmingtonbrewworks.com/wp-content/uploads/2025/07/BWN-Foosball-TournEvent.png
END:VEVENT
BEGIN:VEVENT
DTSTART;TZID=America/New_York:20250820T183000
DTEND;TZID=America/New_York:20250820T213000
DTSTAMP:20260420T221144
CREATED:20250703T165734Z
LAST-MODIFIED:20250703T170225Z
UID:10003361-1755714600-1755725400@wilmingtonbrewworks.com
SUMMARY:BWN - Summer Cornhole League
DESCRIPTION:This is the Event Series for the BWN Summer League. Register at this link by 7/14. \n\nWed 7/16\nWed 7/23\nWed 7/30\nWed 8/6\nWed 8/13\nWed 8/20\nWed 8/27\nWed 9/3 – FINALS
URL:https://wilmingtonbrewworks.com/event/bwn-summer-cornhole-league-2/2025-08-20/
LOCATION:Brew Works North\, 1851 Marsh Rd\, Wilmington\, DE\, 19810\, United States
CATEGORIES:Brew Works North Events
ATTACH;FMTTYPE=image/png:https://wilmingtonbrewworks.com/wp-content/uploads/2025/07/BWN-Summer-CornholeEvent-2.png
END:VEVENT
BEGIN:VEVENT
DTSTART;TZID=America/New_York:20250821T190000
DTEND;TZID=America/New_York:20250821T213000
DTSTAMP:20260420T221144
CREATED:20250721T011953Z
LAST-MODIFIED:20250721T012425Z
UID:10003378-1755802800-1755811800@wilmingtonbrewworks.com
SUMMARY:Foosball Open Tourney Nights @ BWN
DESCRIPTION:Thursday Nights at Brew Works North – Open tournament each week. If we get enough interest\, we’ll start a prize league. \nShow up at 7 – Foosball Legend Shawn will set teams and matchups. \nFree to play – Prizes for the winners.
URL:https://wilmingtonbrewworks.com/event/foosball-open-tourney-nights-bwn/2025-08-21/
LOCATION:Brew Works North\, 1851 Marsh Rd\, Wilmington\, DE\, 19810\, United States
CATEGORIES:Brew Works North Events
ATTACH;FMTTYPE=image/png:https://wilmingtonbrewworks.com/wp-content/uploads/2025/07/BWN-Foosball-TournEvent.png
END:VEVENT
BEGIN:VEVENT
DTSTART;TZID=America/New_York:20250827T183000
DTEND;TZID=America/New_York:20250827T213000
DTSTAMP:20260420T221144
CREATED:20250703T165734Z
LAST-MODIFIED:20250703T170225Z
UID:10003362-1756319400-1756330200@wilmingtonbrewworks.com
SUMMARY:BWN - Summer Cornhole League
DESCRIPTION:This is the Event Series for the BWN Summer League. Register at this link by 7/14. \n\nWed 7/16\nWed 7/23\nWed 7/30\nWed 8/6\nWed 8/13\nWed 8/20\nWed 8/27\nWed 9/3 – FINALS
URL:https://wilmingtonbrewworks.com/event/bwn-summer-cornhole-league-2/2025-08-27/
LOCATION:Brew Works North\, 1851 Marsh Rd\, Wilmington\, DE\, 19810\, United States
CATEGORIES:Brew Works North Events
ATTACH;FMTTYPE=image/png:https://wilmingtonbrewworks.com/wp-content/uploads/2025/07/BWN-Summer-CornholeEvent-2.png
END:VEVENT
BEGIN:VEVENT
DTSTART;TZID=America/New_York:20250828T190000
DTEND;TZID=America/New_York:20250828T213000
DTSTAMP:20260420T221144
CREATED:20250721T011953Z
LAST-MODIFIED:20250721T012425Z
UID:10003379-1756407600-1756416600@wilmingtonbrewworks.com
SUMMARY:Foosball Open Tourney Nights @ BWN
DESCRIPTION:Thursday Nights at Brew Works North – Open tournament each week. If we get enough interest\, we’ll start a prize league. \nShow up at 7 – Foosball Legend Shawn will set teams and matchups. \nFree to play – Prizes for the winners.
URL:https://wilmingtonbrewworks.com/event/foosball-open-tourney-nights-bwn/2025-08-28/
LOCATION:Brew Works North\, 1851 Marsh Rd\, Wilmington\, DE\, 19810\, United States
CATEGORIES:Brew Works North Events
ATTACH;FMTTYPE=image/png:https://wilmingtonbrewworks.com/wp-content/uploads/2025/07/BWN-Foosball-TournEvent.png
END:VEVENT
END:VCALENDAR