BEGIN:VCALENDAR
VERSION:2.0
PRODID:-//Wilmington Brew Works - ECPv6.15.20//NONSGML v1.0//EN
CALSCALE:GREGORIAN
METHOD:PUBLISH
X-ORIGINAL-URL:https://wilmingtonbrewworks.com
X-WR-CALDESC:Events for Wilmington Brew Works
REFRESH-INTERVAL;VALUE=DURATION:PT1H
X-Robots-Tag:noindex
X-PUBLISHED-TTL:PT1H
BEGIN:VTIMEZONE
TZID:America/New_York
BEGIN:DAYLIGHT
TZOFFSETFROM:-0500
TZOFFSETTO:-0400
TZNAME:EDT
DTSTART:20270314T070000
END:DAYLIGHT
BEGIN:STANDARD
TZOFFSETFROM:-0400
TZOFFSETTO:-0500
TZNAME:EST
DTSTART:20271107T060000
END:STANDARD
BEGIN:DAYLIGHT
TZOFFSETFROM:-0500
TZOFFSETTO:-0400
TZNAME:EDT
DTSTART:20280312T070000
END:DAYLIGHT
BEGIN:STANDARD
TZOFFSETFROM:-0400
TZOFFSETTO:-0500
TZNAME:EST
DTSTART:20281105T060000
END:STANDARD
BEGIN:DAYLIGHT
TZOFFSETFROM:-0500
TZOFFSETTO:-0400
TZNAME:EDT
DTSTART:20290311T070000
END:DAYLIGHT
BEGIN:STANDARD
TZOFFSETFROM:-0400
TZOFFSETTO:-0500
TZNAME:EST
DTSTART:20291104T060000
END:STANDARD
BEGIN:DAYLIGHT
TZOFFSETFROM:-0500
TZOFFSETTO:-0400
TZNAME:EDT
DTSTART:20300310T070000
END:DAYLIGHT
BEGIN:STANDARD
TZOFFSETFROM:-0400
TZOFFSETTO:-0500
TZNAME:EST
DTSTART:20301103T060000
END:STANDARD
END:VTIMEZONE
BEGIN:VEVENT
DTSTART;TZID=America/New_York:20280426T180000
DTEND;TZID=America/New_York:20280426T200000
DTSTAMP:20260420T120831
CREATED:20231218T150709Z
LAST-MODIFIED:20240229T152154Z
UID:10001072-1840384800-1840392000@wilmingtonbrewworks.com
SUMMARY:Nerd Nite Wilmington
DESCRIPTION:What is Nerd Nite? We all know learning is more fun when you’re drinking with friends. Thus\, Nerd Nite is a monthly event held in 100+ cities (like Tokyo\, Miami\, London\, Fargo\, and New York) during which folks give 20 minute fun-yet-informative presentations across all disciplines – while the audience drinks along! There are often bands\, trivia\, and other shenanigans as well. Imagine learning about math feuds\, the emu war of Australia\, the genealogy of Godzilla\, or zombie insects\, while having a few. \nDetails of this Month’s Presentations available at Wilmington Nerd Nite \nTickets ($10) available from the Delaware Museum of Nature and Science. All ticket proceeds benefit the museum\, helping the museum achieve their mission of inspiring a passion for science learning. Advanced ticket sales stop at 4:00 p.m. on the day of the event (but you can purchase tickets at the door – card only\, no cash).
URL:https://wilmingtonbrewworks.com/event/nerd-nite-wilmington/2028-04-26/
LOCATION:The Alamo Room\, 3129 Miller Road\, Wilmington\, DE\, 19802\, United States
CATEGORIES:Alamo Room Events,Ticketed Events
ATTACH;FMTTYPE=image/png:https://wilmingtonbrewworks.com/wp-content/uploads/2023/12/Nerd-NightFacebook-1.png
END:VEVENT
BEGIN:VEVENT
DTSTART;TZID=America/New_York:20280524T180000
DTEND;TZID=America/New_York:20280524T200000
DTSTAMP:20260420T120831
CREATED:20231218T150709Z
LAST-MODIFIED:20240229T152154Z
UID:10001073-1842804000-1842811200@wilmingtonbrewworks.com
SUMMARY:Nerd Nite Wilmington
DESCRIPTION:What is Nerd Nite? We all know learning is more fun when you’re drinking with friends. Thus\, Nerd Nite is a monthly event held in 100+ cities (like Tokyo\, Miami\, London\, Fargo\, and New York) during which folks give 20 minute fun-yet-informative presentations across all disciplines – while the audience drinks along! There are often bands\, trivia\, and other shenanigans as well. Imagine learning about math feuds\, the emu war of Australia\, the genealogy of Godzilla\, or zombie insects\, while having a few. \nDetails of this Month’s Presentations available at Wilmington Nerd Nite \nTickets ($10) available from the Delaware Museum of Nature and Science. All ticket proceeds benefit the museum\, helping the museum achieve their mission of inspiring a passion for science learning. Advanced ticket sales stop at 4:00 p.m. on the day of the event (but you can purchase tickets at the door – card only\, no cash).
URL:https://wilmingtonbrewworks.com/event/nerd-nite-wilmington/2028-05-24/
LOCATION:The Alamo Room\, 3129 Miller Road\, Wilmington\, DE\, 19802\, United States
CATEGORIES:Alamo Room Events,Ticketed Events
ATTACH;FMTTYPE=image/png:https://wilmingtonbrewworks.com/wp-content/uploads/2023/12/Nerd-NightFacebook-1.png
END:VEVENT
BEGIN:VEVENT
DTSTART;TZID=America/New_York:20280628T180000
DTEND;TZID=America/New_York:20280628T200000
DTSTAMP:20260420T120831
CREATED:20231218T150709Z
LAST-MODIFIED:20240229T152154Z
UID:10001074-1845828000-1845835200@wilmingtonbrewworks.com
SUMMARY:Nerd Nite Wilmington
DESCRIPTION:What is Nerd Nite? We all know learning is more fun when you’re drinking with friends. Thus\, Nerd Nite is a monthly event held in 100+ cities (like Tokyo\, Miami\, London\, Fargo\, and New York) during which folks give 20 minute fun-yet-informative presentations across all disciplines – while the audience drinks along! There are often bands\, trivia\, and other shenanigans as well. Imagine learning about math feuds\, the emu war of Australia\, the genealogy of Godzilla\, or zombie insects\, while having a few. \nDetails of this Month’s Presentations available at Wilmington Nerd Nite \nTickets ($10) available from the Delaware Museum of Nature and Science. All ticket proceeds benefit the museum\, helping the museum achieve their mission of inspiring a passion for science learning. Advanced ticket sales stop at 4:00 p.m. on the day of the event (but you can purchase tickets at the door – card only\, no cash).
URL:https://wilmingtonbrewworks.com/event/nerd-nite-wilmington/2028-06-28/
LOCATION:The Alamo Room\, 3129 Miller Road\, Wilmington\, DE\, 19802\, United States
CATEGORIES:Alamo Room Events,Ticketed Events
ATTACH;FMTTYPE=image/png:https://wilmingtonbrewworks.com/wp-content/uploads/2023/12/Nerd-NightFacebook-1.png
END:VEVENT
BEGIN:VEVENT
DTSTART;TZID=America/New_York:20280726T180000
DTEND;TZID=America/New_York:20280726T200000
DTSTAMP:20260420T120831
CREATED:20231218T150709Z
LAST-MODIFIED:20240229T152154Z
UID:10001075-1848247200-1848254400@wilmingtonbrewworks.com
SUMMARY:Nerd Nite Wilmington
DESCRIPTION:What is Nerd Nite? We all know learning is more fun when you’re drinking with friends. Thus\, Nerd Nite is a monthly event held in 100+ cities (like Tokyo\, Miami\, London\, Fargo\, and New York) during which folks give 20 minute fun-yet-informative presentations across all disciplines – while the audience drinks along! There are often bands\, trivia\, and other shenanigans as well. Imagine learning about math feuds\, the emu war of Australia\, the genealogy of Godzilla\, or zombie insects\, while having a few. \nDetails of this Month’s Presentations available at Wilmington Nerd Nite \nTickets ($10) available from the Delaware Museum of Nature and Science. All ticket proceeds benefit the museum\, helping the museum achieve their mission of inspiring a passion for science learning. Advanced ticket sales stop at 4:00 p.m. on the day of the event (but you can purchase tickets at the door – card only\, no cash).
URL:https://wilmingtonbrewworks.com/event/nerd-nite-wilmington/2028-07-26/
LOCATION:The Alamo Room\, 3129 Miller Road\, Wilmington\, DE\, 19802\, United States
CATEGORIES:Alamo Room Events,Ticketed Events
ATTACH;FMTTYPE=image/png:https://wilmingtonbrewworks.com/wp-content/uploads/2023/12/Nerd-NightFacebook-1.png
END:VEVENT
BEGIN:VEVENT
DTSTART;TZID=America/New_York:20280823T180000
DTEND;TZID=America/New_York:20280823T200000
DTSTAMP:20260420T120831
CREATED:20231218T150709Z
LAST-MODIFIED:20240229T152154Z
UID:10001076-1850666400-1850673600@wilmingtonbrewworks.com
SUMMARY:Nerd Nite Wilmington
DESCRIPTION:What is Nerd Nite? We all know learning is more fun when you’re drinking with friends. Thus\, Nerd Nite is a monthly event held in 100+ cities (like Tokyo\, Miami\, London\, Fargo\, and New York) during which folks give 20 minute fun-yet-informative presentations across all disciplines – while the audience drinks along! There are often bands\, trivia\, and other shenanigans as well. Imagine learning about math feuds\, the emu war of Australia\, the genealogy of Godzilla\, or zombie insects\, while having a few. \nDetails of this Month’s Presentations available at Wilmington Nerd Nite \nTickets ($10) available from the Delaware Museum of Nature and Science. All ticket proceeds benefit the museum\, helping the museum achieve their mission of inspiring a passion for science learning. Advanced ticket sales stop at 4:00 p.m. on the day of the event (but you can purchase tickets at the door – card only\, no cash).
URL:https://wilmingtonbrewworks.com/event/nerd-nite-wilmington/2028-08-23/
LOCATION:The Alamo Room\, 3129 Miller Road\, Wilmington\, DE\, 19802\, United States
CATEGORIES:Alamo Room Events,Ticketed Events
ATTACH;FMTTYPE=image/png:https://wilmingtonbrewworks.com/wp-content/uploads/2023/12/Nerd-NightFacebook-1.png
END:VEVENT
BEGIN:VEVENT
DTSTART;TZID=America/New_York:20280927T180000
DTEND;TZID=America/New_York:20280927T200000
DTSTAMP:20260420T120831
CREATED:20231218T150709Z
LAST-MODIFIED:20240229T152154Z
UID:10001077-1853690400-1853697600@wilmingtonbrewworks.com
SUMMARY:Nerd Nite Wilmington
DESCRIPTION:What is Nerd Nite? We all know learning is more fun when you’re drinking with friends. Thus\, Nerd Nite is a monthly event held in 100+ cities (like Tokyo\, Miami\, London\, Fargo\, and New York) during which folks give 20 minute fun-yet-informative presentations across all disciplines – while the audience drinks along! There are often bands\, trivia\, and other shenanigans as well. Imagine learning about math feuds\, the emu war of Australia\, the genealogy of Godzilla\, or zombie insects\, while having a few. \nDetails of this Month’s Presentations available at Wilmington Nerd Nite \nTickets ($10) available from the Delaware Museum of Nature and Science. All ticket proceeds benefit the museum\, helping the museum achieve their mission of inspiring a passion for science learning. Advanced ticket sales stop at 4:00 p.m. on the day of the event (but you can purchase tickets at the door – card only\, no cash).
URL:https://wilmingtonbrewworks.com/event/nerd-nite-wilmington/2028-09-27/
LOCATION:The Alamo Room\, 3129 Miller Road\, Wilmington\, DE\, 19802\, United States
CATEGORIES:Alamo Room Events,Ticketed Events
ATTACH;FMTTYPE=image/png:https://wilmingtonbrewworks.com/wp-content/uploads/2023/12/Nerd-NightFacebook-1.png
END:VEVENT
BEGIN:VEVENT
DTSTART;TZID=America/New_York:20281025T180000
DTEND;TZID=America/New_York:20281025T200000
DTSTAMP:20260420T120831
CREATED:20231218T150709Z
LAST-MODIFIED:20240229T152154Z
UID:10001078-1856109600-1856116800@wilmingtonbrewworks.com
SUMMARY:Nerd Nite Wilmington
DESCRIPTION:What is Nerd Nite? We all know learning is more fun when you’re drinking with friends. Thus\, Nerd Nite is a monthly event held in 100+ cities (like Tokyo\, Miami\, London\, Fargo\, and New York) during which folks give 20 minute fun-yet-informative presentations across all disciplines – while the audience drinks along! There are often bands\, trivia\, and other shenanigans as well. Imagine learning about math feuds\, the emu war of Australia\, the genealogy of Godzilla\, or zombie insects\, while having a few. \nDetails of this Month’s Presentations available at Wilmington Nerd Nite \nTickets ($10) available from the Delaware Museum of Nature and Science. All ticket proceeds benefit the museum\, helping the museum achieve their mission of inspiring a passion for science learning. Advanced ticket sales stop at 4:00 p.m. on the day of the event (but you can purchase tickets at the door – card only\, no cash).
URL:https://wilmingtonbrewworks.com/event/nerd-nite-wilmington/2028-10-25/
LOCATION:The Alamo Room\, 3129 Miller Road\, Wilmington\, DE\, 19802\, United States
CATEGORIES:Alamo Room Events,Ticketed Events
ATTACH;FMTTYPE=image/png:https://wilmingtonbrewworks.com/wp-content/uploads/2023/12/Nerd-NightFacebook-1.png
END:VEVENT
BEGIN:VEVENT
DTSTART;TZID=America/New_York:20281122T180000
DTEND;TZID=America/New_York:20281122T200000
DTSTAMP:20260420T120831
CREATED:20231218T150709Z
LAST-MODIFIED:20240229T152154Z
UID:10001079-1858528800-1858536000@wilmingtonbrewworks.com
SUMMARY:Nerd Nite Wilmington
DESCRIPTION:What is Nerd Nite? We all know learning is more fun when you’re drinking with friends. Thus\, Nerd Nite is a monthly event held in 100+ cities (like Tokyo\, Miami\, London\, Fargo\, and New York) during which folks give 20 minute fun-yet-informative presentations across all disciplines – while the audience drinks along! There are often bands\, trivia\, and other shenanigans as well. Imagine learning about math feuds\, the emu war of Australia\, the genealogy of Godzilla\, or zombie insects\, while having a few. \nDetails of this Month’s Presentations available at Wilmington Nerd Nite \nTickets ($10) available from the Delaware Museum of Nature and Science. All ticket proceeds benefit the museum\, helping the museum achieve their mission of inspiring a passion for science learning. Advanced ticket sales stop at 4:00 p.m. on the day of the event (but you can purchase tickets at the door – card only\, no cash).
URL:https://wilmingtonbrewworks.com/event/nerd-nite-wilmington/2028-11-22/
LOCATION:The Alamo Room\, 3129 Miller Road\, Wilmington\, DE\, 19802\, United States
CATEGORIES:Alamo Room Events,Ticketed Events
ATTACH;FMTTYPE=image/png:https://wilmingtonbrewworks.com/wp-content/uploads/2023/12/Nerd-NightFacebook-1.png
END:VEVENT
BEGIN:VEVENT
DTSTART;TZID=America/New_York:20281227T180000
DTEND;TZID=America/New_York:20281227T200000
DTSTAMP:20260420T120831
CREATED:20231218T150709Z
LAST-MODIFIED:20240229T152154Z
UID:10001100-1861552800-1861560000@wilmingtonbrewworks.com
SUMMARY:Nerd Nite Wilmington
DESCRIPTION:What is Nerd Nite? We all know learning is more fun when you’re drinking with friends. Thus\, Nerd Nite is a monthly event held in 100+ cities (like Tokyo\, Miami\, London\, Fargo\, and New York) during which folks give 20 minute fun-yet-informative presentations across all disciplines – while the audience drinks along! There are often bands\, trivia\, and other shenanigans as well. Imagine learning about math feuds\, the emu war of Australia\, the genealogy of Godzilla\, or zombie insects\, while having a few. \nDetails of this Month’s Presentations available at Wilmington Nerd Nite \nTickets ($10) available from the Delaware Museum of Nature and Science. All ticket proceeds benefit the museum\, helping the museum achieve their mission of inspiring a passion for science learning. Advanced ticket sales stop at 4:00 p.m. on the day of the event (but you can purchase tickets at the door – card only\, no cash).
URL:https://wilmingtonbrewworks.com/event/nerd-nite-wilmington/2028-12-27/
LOCATION:The Alamo Room\, 3129 Miller Road\, Wilmington\, DE\, 19802\, United States
CATEGORIES:Alamo Room Events,Ticketed Events
ATTACH;FMTTYPE=image/png:https://wilmingtonbrewworks.com/wp-content/uploads/2023/12/Nerd-NightFacebook-1.png
END:VEVENT
BEGIN:VEVENT
DTSTART;TZID=America/New_York:20290124T180000
DTEND;TZID=America/New_York:20290124T200000
DTSTAMP:20260420T120831
CREATED:20231218T150709Z
LAST-MODIFIED:20240229T152154Z
UID:10001536-1863972000-1863979200@wilmingtonbrewworks.com
SUMMARY:Nerd Nite Wilmington
DESCRIPTION:What is Nerd Nite? We all know learning is more fun when you’re drinking with friends. Thus\, Nerd Nite is a monthly event held in 100+ cities (like Tokyo\, Miami\, London\, Fargo\, and New York) during which folks give 20 minute fun-yet-informative presentations across all disciplines – while the audience drinks along! There are often bands\, trivia\, and other shenanigans as well. Imagine learning about math feuds\, the emu war of Australia\, the genealogy of Godzilla\, or zombie insects\, while having a few. \nDetails of this Month’s Presentations available at Wilmington Nerd Nite \nTickets ($10) available from the Delaware Museum of Nature and Science. All ticket proceeds benefit the museum\, helping the museum achieve their mission of inspiring a passion for science learning. Advanced ticket sales stop at 4:00 p.m. on the day of the event (but you can purchase tickets at the door – card only\, no cash).
URL:https://wilmingtonbrewworks.com/event/nerd-nite-wilmington/2029-01-24/
LOCATION:The Alamo Room\, 3129 Miller Road\, Wilmington\, DE\, 19802\, United States
CATEGORIES:Alamo Room Events,Ticketed Events
ATTACH;FMTTYPE=image/png:https://wilmingtonbrewworks.com/wp-content/uploads/2023/12/Nerd-NightFacebook-1.png
END:VEVENT
BEGIN:VEVENT
DTSTART;TZID=America/New_York:20290228T180000
DTEND;TZID=America/New_York:20290228T200000
DTSTAMP:20260420T120831
CREATED:20231218T150709Z
LAST-MODIFIED:20240229T152154Z
UID:10001537-1866996000-1867003200@wilmingtonbrewworks.com
SUMMARY:Nerd Nite Wilmington
DESCRIPTION:What is Nerd Nite? We all know learning is more fun when you’re drinking with friends. Thus\, Nerd Nite is a monthly event held in 100+ cities (like Tokyo\, Miami\, London\, Fargo\, and New York) during which folks give 20 minute fun-yet-informative presentations across all disciplines – while the audience drinks along! There are often bands\, trivia\, and other shenanigans as well. Imagine learning about math feuds\, the emu war of Australia\, the genealogy of Godzilla\, or zombie insects\, while having a few. \nDetails of this Month’s Presentations available at Wilmington Nerd Nite \nTickets ($10) available from the Delaware Museum of Nature and Science. All ticket proceeds benefit the museum\, helping the museum achieve their mission of inspiring a passion for science learning. Advanced ticket sales stop at 4:00 p.m. on the day of the event (but you can purchase tickets at the door – card only\, no cash).
URL:https://wilmingtonbrewworks.com/event/nerd-nite-wilmington/2029-02-28/
LOCATION:The Alamo Room\, 3129 Miller Road\, Wilmington\, DE\, 19802\, United States
CATEGORIES:Alamo Room Events,Ticketed Events
ATTACH;FMTTYPE=image/png:https://wilmingtonbrewworks.com/wp-content/uploads/2023/12/Nerd-NightFacebook-1.png
END:VEVENT
END:VCALENDAR