BEGIN:VCALENDAR
VERSION:2.0
PRODID:-//Wilmington Brew Works - ECPv6.15.20//NONSGML v1.0//EN
CALSCALE:GREGORIAN
METHOD:PUBLISH
X-WR-CALNAME:Wilmington Brew Works
X-ORIGINAL-URL:https://wilmingtonbrewworks.com
X-WR-CALDESC:Events for Wilmington Brew Works
REFRESH-INTERVAL;VALUE=DURATION:PT1H
X-Robots-Tag:noindex
X-PUBLISHED-TTL:PT1H
BEGIN:VTIMEZONE
TZID:America/New_York
BEGIN:DAYLIGHT
TZOFFSETFROM:-0500
TZOFFSETTO:-0400
TZNAME:EDT
DTSTART:20260308T070000
END:DAYLIGHT
BEGIN:STANDARD
TZOFFSETFROM:-0400
TZOFFSETTO:-0500
TZNAME:EST
DTSTART:20261101T060000
END:STANDARD
BEGIN:DAYLIGHT
TZOFFSETFROM:-0500
TZOFFSETTO:-0400
TZNAME:EDT
DTSTART:20270314T070000
END:DAYLIGHT
BEGIN:STANDARD
TZOFFSETFROM:-0400
TZOFFSETTO:-0500
TZNAME:EST
DTSTART:20271107T060000
END:STANDARD
BEGIN:DAYLIGHT
TZOFFSETFROM:-0500
TZOFFSETTO:-0400
TZNAME:EDT
DTSTART:20280312T070000
END:DAYLIGHT
BEGIN:STANDARD
TZOFFSETFROM:-0400
TZOFFSETTO:-0500
TZNAME:EST
DTSTART:20281105T060000
END:STANDARD
END:VTIMEZONE
BEGIN:VEVENT
DTSTART;TZID=America/New_York:20270224T180000
DTEND;TZID=America/New_York:20270224T200000
DTSTAMP:20260420T232352
CREATED:20231218T150709Z
LAST-MODIFIED:20240229T152154Z
UID:10001058-1803492000-1803499200@wilmingtonbrewworks.com
SUMMARY:Nerd Nite Wilmington
DESCRIPTION:What is Nerd Nite? We all know learning is more fun when you’re drinking with friends. Thus\, Nerd Nite is a monthly event held in 100+ cities (like Tokyo\, Miami\, London\, Fargo\, and New York) during which folks give 20 minute fun-yet-informative presentations across all disciplines – while the audience drinks along! There are often bands\, trivia\, and other shenanigans as well. Imagine learning about math feuds\, the emu war of Australia\, the genealogy of Godzilla\, or zombie insects\, while having a few. \nDetails of this Month’s Presentations available at Wilmington Nerd Nite \nTickets ($10) available from the Delaware Museum of Nature and Science. All ticket proceeds benefit the museum\, helping the museum achieve their mission of inspiring a passion for science learning. Advanced ticket sales stop at 4:00 p.m. on the day of the event (but you can purchase tickets at the door – card only\, no cash).
URL:https://wilmingtonbrewworks.com/event/nerd-nite-wilmington/2027-02-24/
LOCATION:The Alamo Room\, 3129 Miller Road\, Wilmington\, DE\, 19802\, United States
CATEGORIES:Alamo Room Events,Ticketed Events
ATTACH;FMTTYPE=image/png:https://wilmingtonbrewworks.com/wp-content/uploads/2023/12/Nerd-NightFacebook-1.png
END:VEVENT
END:VCALENDAR