BEGIN:VCALENDAR
VERSION:2.0
PRODID:-//Wilmington Brew Works - ECPv6.15.20//NONSGML v1.0//EN
CALSCALE:GREGORIAN
METHOD:PUBLISH
X-ORIGINAL-URL:https://wilmingtonbrewworks.com
X-WR-CALDESC:Events for Wilmington Brew Works
REFRESH-INTERVAL;VALUE=DURATION:PT1H
X-Robots-Tag:noindex
X-PUBLISHED-TTL:PT1H
BEGIN:VTIMEZONE
TZID:America/New_York
BEGIN:DAYLIGHT
TZOFFSETFROM:-0500
TZOFFSETTO:-0400
TZNAME:EDT
DTSTART:20270314T070000
END:DAYLIGHT
BEGIN:STANDARD
TZOFFSETFROM:-0400
TZOFFSETTO:-0500
TZNAME:EST
DTSTART:20271107T060000
END:STANDARD
BEGIN:DAYLIGHT
TZOFFSETFROM:-0500
TZOFFSETTO:-0400
TZNAME:EDT
DTSTART:20280312T070000
END:DAYLIGHT
BEGIN:STANDARD
TZOFFSETFROM:-0400
TZOFFSETTO:-0500
TZNAME:EST
DTSTART:20281105T060000
END:STANDARD
BEGIN:DAYLIGHT
TZOFFSETFROM:-0500
TZOFFSETTO:-0400
TZNAME:EDT
DTSTART:20290311T070000
END:DAYLIGHT
BEGIN:STANDARD
TZOFFSETFROM:-0400
TZOFFSETTO:-0500
TZNAME:EST
DTSTART:20291104T060000
END:STANDARD
BEGIN:DAYLIGHT
TZOFFSETFROM:-0500
TZOFFSETTO:-0400
TZNAME:EDT
DTSTART:20300310T070000
END:DAYLIGHT
BEGIN:STANDARD
TZOFFSETFROM:-0400
TZOFFSETTO:-0500
TZNAME:EST
DTSTART:20301103T060000
END:STANDARD
BEGIN:DAYLIGHT
TZOFFSETFROM:-0500
TZOFFSETTO:-0400
TZNAME:EDT
DTSTART:20310309T070000
END:DAYLIGHT
BEGIN:STANDARD
TZOFFSETFROM:-0400
TZOFFSETTO:-0500
TZNAME:EST
DTSTART:20311102T060000
END:STANDARD
END:VTIMEZONE
BEGIN:VEVENT
DTSTART;TZID=America/New_York:20280504T180000
DTEND;TZID=America/New_York:20280504T210000
DTSTAMP:20260420T134158
CREATED:20241226T153752Z
LAST-MODIFIED:20241226T183248Z
UID:10002781-1841076000-1841086800@wilmingtonbrewworks.com
SUMMARY:Thrasher Thursday - Metal Punk and Hardcore Vinyl Slam
DESCRIPTION:Alamo Room Event – B.Y.O.Vinyl for a thrashy evening of slamming Metal\, Punk and Hardcore. Hosted by David & Bill.\n\nCheck out the @thrasher_thursday_wbw Instagram Page! https://www.instagram.com/thrasher_thursday_wbw/\n\nThey’ve got plenty of records to sift through for hours of headbanging\, or bring your favorites! (Head protection not provided.)\n\n1st Thursday of Every Month!\nDon’t worry taproom goers\, the Alamo Room is sound insulated from the main hall
URL:https://wilmingtonbrewworks.com/event/metal-monday-metal-punk-and-hardcore-vinyl-slam-2/2028-05-04/
LOCATION:The Alamo Room\, 3129 Miller Road\, Wilmington\, DE\, 19802\, United States
CATEGORIES:Alamo Room Events
ATTACH;FMTTYPE=image/png:https://wilmingtonbrewworks.com/wp-content/uploads/2023/12/Thrasher2025tv-event.png
END:VEVENT
BEGIN:VEVENT
DTSTART;TZID=America/New_York:20280601T180000
DTEND;TZID=America/New_York:20280601T210000
DTSTAMP:20260420T134158
CREATED:20241226T153752Z
LAST-MODIFIED:20241226T183248Z
UID:10002782-1843495200-1843506000@wilmingtonbrewworks.com
SUMMARY:Thrasher Thursday - Metal Punk and Hardcore Vinyl Slam
DESCRIPTION:Alamo Room Event – B.Y.O.Vinyl for a thrashy evening of slamming Metal\, Punk and Hardcore. Hosted by David & Bill.\n\nCheck out the @thrasher_thursday_wbw Instagram Page! https://www.instagram.com/thrasher_thursday_wbw/\n\nThey’ve got plenty of records to sift through for hours of headbanging\, or bring your favorites! (Head protection not provided.)\n\n1st Thursday of Every Month!\nDon’t worry taproom goers\, the Alamo Room is sound insulated from the main hall
URL:https://wilmingtonbrewworks.com/event/metal-monday-metal-punk-and-hardcore-vinyl-slam-2/2028-06-01/
LOCATION:The Alamo Room\, 3129 Miller Road\, Wilmington\, DE\, 19802\, United States
CATEGORIES:Alamo Room Events
ATTACH;FMTTYPE=image/png:https://wilmingtonbrewworks.com/wp-content/uploads/2023/12/Thrasher2025tv-event.png
END:VEVENT
BEGIN:VEVENT
DTSTART;TZID=America/New_York:20280706T180000
DTEND;TZID=America/New_York:20280706T210000
DTSTAMP:20260420T134158
CREATED:20241226T153752Z
LAST-MODIFIED:20241226T183248Z
UID:10002783-1846519200-1846530000@wilmingtonbrewworks.com
SUMMARY:Thrasher Thursday - Metal Punk and Hardcore Vinyl Slam
DESCRIPTION:Alamo Room Event – B.Y.O.Vinyl for a thrashy evening of slamming Metal\, Punk and Hardcore. Hosted by David & Bill.\n\nCheck out the @thrasher_thursday_wbw Instagram Page! https://www.instagram.com/thrasher_thursday_wbw/\n\nThey’ve got plenty of records to sift through for hours of headbanging\, or bring your favorites! (Head protection not provided.)\n\n1st Thursday of Every Month!\nDon’t worry taproom goers\, the Alamo Room is sound insulated from the main hall
URL:https://wilmingtonbrewworks.com/event/metal-monday-metal-punk-and-hardcore-vinyl-slam-2/2028-07-06/
LOCATION:The Alamo Room\, 3129 Miller Road\, Wilmington\, DE\, 19802\, United States
CATEGORIES:Alamo Room Events
ATTACH;FMTTYPE=image/png:https://wilmingtonbrewworks.com/wp-content/uploads/2023/12/Thrasher2025tv-event.png
END:VEVENT
BEGIN:VEVENT
DTSTART;TZID=America/New_York:20280803T180000
DTEND;TZID=America/New_York:20280803T210000
DTSTAMP:20260420T134158
CREATED:20241226T153752Z
LAST-MODIFIED:20241226T183248Z
UID:10002784-1848938400-1848949200@wilmingtonbrewworks.com
SUMMARY:Thrasher Thursday - Metal Punk and Hardcore Vinyl Slam
DESCRIPTION:Alamo Room Event – B.Y.O.Vinyl for a thrashy evening of slamming Metal\, Punk and Hardcore. Hosted by David & Bill.\n\nCheck out the @thrasher_thursday_wbw Instagram Page! https://www.instagram.com/thrasher_thursday_wbw/\n\nThey’ve got plenty of records to sift through for hours of headbanging\, or bring your favorites! (Head protection not provided.)\n\n1st Thursday of Every Month!\nDon’t worry taproom goers\, the Alamo Room is sound insulated from the main hall
URL:https://wilmingtonbrewworks.com/event/metal-monday-metal-punk-and-hardcore-vinyl-slam-2/2028-08-03/
LOCATION:The Alamo Room\, 3129 Miller Road\, Wilmington\, DE\, 19802\, United States
CATEGORIES:Alamo Room Events
ATTACH;FMTTYPE=image/png:https://wilmingtonbrewworks.com/wp-content/uploads/2023/12/Thrasher2025tv-event.png
END:VEVENT
BEGIN:VEVENT
DTSTART;TZID=America/New_York:20280907T180000
DTEND;TZID=America/New_York:20280907T210000
DTSTAMP:20260420T134158
CREATED:20241226T153752Z
LAST-MODIFIED:20241226T183248Z
UID:10002785-1851962400-1851973200@wilmingtonbrewworks.com
SUMMARY:Thrasher Thursday - Metal Punk and Hardcore Vinyl Slam
DESCRIPTION:Alamo Room Event – B.Y.O.Vinyl for a thrashy evening of slamming Metal\, Punk and Hardcore. Hosted by David & Bill.\n\nCheck out the @thrasher_thursday_wbw Instagram Page! https://www.instagram.com/thrasher_thursday_wbw/\n\nThey’ve got plenty of records to sift through for hours of headbanging\, or bring your favorites! (Head protection not provided.)\n\n1st Thursday of Every Month!\nDon’t worry taproom goers\, the Alamo Room is sound insulated from the main hall
URL:https://wilmingtonbrewworks.com/event/metal-monday-metal-punk-and-hardcore-vinyl-slam-2/2028-09-07/
LOCATION:The Alamo Room\, 3129 Miller Road\, Wilmington\, DE\, 19802\, United States
CATEGORIES:Alamo Room Events
ATTACH;FMTTYPE=image/png:https://wilmingtonbrewworks.com/wp-content/uploads/2023/12/Thrasher2025tv-event.png
END:VEVENT
BEGIN:VEVENT
DTSTART;TZID=America/New_York:20281005T180000
DTEND;TZID=America/New_York:20281005T210000
DTSTAMP:20260420T134158
CREATED:20241226T153752Z
LAST-MODIFIED:20241226T183248Z
UID:10002786-1854381600-1854392400@wilmingtonbrewworks.com
SUMMARY:Thrasher Thursday - Metal Punk and Hardcore Vinyl Slam
DESCRIPTION:Alamo Room Event – B.Y.O.Vinyl for a thrashy evening of slamming Metal\, Punk and Hardcore. Hosted by David & Bill.\n\nCheck out the @thrasher_thursday_wbw Instagram Page! https://www.instagram.com/thrasher_thursday_wbw/\n\nThey’ve got plenty of records to sift through for hours of headbanging\, or bring your favorites! (Head protection not provided.)\n\n1st Thursday of Every Month!\nDon’t worry taproom goers\, the Alamo Room is sound insulated from the main hall
URL:https://wilmingtonbrewworks.com/event/metal-monday-metal-punk-and-hardcore-vinyl-slam-2/2028-10-05/
LOCATION:The Alamo Room\, 3129 Miller Road\, Wilmington\, DE\, 19802\, United States
CATEGORIES:Alamo Room Events
ATTACH;FMTTYPE=image/png:https://wilmingtonbrewworks.com/wp-content/uploads/2023/12/Thrasher2025tv-event.png
END:VEVENT
BEGIN:VEVENT
DTSTART;TZID=America/New_York:20281102T180000
DTEND;TZID=America/New_York:20281102T210000
DTSTAMP:20260420T134159
CREATED:20241226T153752Z
LAST-MODIFIED:20241226T183248Z
UID:10002787-1856800800-1856811600@wilmingtonbrewworks.com
SUMMARY:Thrasher Thursday - Metal Punk and Hardcore Vinyl Slam
DESCRIPTION:Alamo Room Event – B.Y.O.Vinyl for a thrashy evening of slamming Metal\, Punk and Hardcore. Hosted by David & Bill.\n\nCheck out the @thrasher_thursday_wbw Instagram Page! https://www.instagram.com/thrasher_thursday_wbw/\n\nThey’ve got plenty of records to sift through for hours of headbanging\, or bring your favorites! (Head protection not provided.)\n\n1st Thursday of Every Month!\nDon’t worry taproom goers\, the Alamo Room is sound insulated from the main hall
URL:https://wilmingtonbrewworks.com/event/metal-monday-metal-punk-and-hardcore-vinyl-slam-2/2028-11-02/
LOCATION:The Alamo Room\, 3129 Miller Road\, Wilmington\, DE\, 19802\, United States
CATEGORIES:Alamo Room Events
ATTACH;FMTTYPE=image/png:https://wilmingtonbrewworks.com/wp-content/uploads/2023/12/Thrasher2025tv-event.png
END:VEVENT
BEGIN:VEVENT
DTSTART;TZID=America/New_York:20281207T180000
DTEND;TZID=America/New_York:20281207T210000
DTSTAMP:20260420T134159
CREATED:20241226T153752Z
LAST-MODIFIED:20241226T183248Z
UID:10002788-1859824800-1859835600@wilmingtonbrewworks.com
SUMMARY:Thrasher Thursday - Metal Punk and Hardcore Vinyl Slam
DESCRIPTION:Alamo Room Event – B.Y.O.Vinyl for a thrashy evening of slamming Metal\, Punk and Hardcore. Hosted by David & Bill.\n\nCheck out the @thrasher_thursday_wbw Instagram Page! https://www.instagram.com/thrasher_thursday_wbw/\n\nThey’ve got plenty of records to sift through for hours of headbanging\, or bring your favorites! (Head protection not provided.)\n\n1st Thursday of Every Month!\nDon’t worry taproom goers\, the Alamo Room is sound insulated from the main hall
URL:https://wilmingtonbrewworks.com/event/metal-monday-metal-punk-and-hardcore-vinyl-slam-2/2028-12-07/
LOCATION:The Alamo Room\, 3129 Miller Road\, Wilmington\, DE\, 19802\, United States
CATEGORIES:Alamo Room Events
ATTACH;FMTTYPE=image/png:https://wilmingtonbrewworks.com/wp-content/uploads/2023/12/Thrasher2025tv-event.png
END:VEVENT
BEGIN:VEVENT
DTSTART;TZID=America/New_York:20290104T180000
DTEND;TZID=America/New_York:20290104T210000
DTSTAMP:20260420T134159
CREATED:20241226T153752Z
LAST-MODIFIED:20241226T183248Z
UID:10002789-1862244000-1862254800@wilmingtonbrewworks.com
SUMMARY:Thrasher Thursday - Metal Punk and Hardcore Vinyl Slam
DESCRIPTION:Alamo Room Event – B.Y.O.Vinyl for a thrashy evening of slamming Metal\, Punk and Hardcore. Hosted by David & Bill.\n\nCheck out the @thrasher_thursday_wbw Instagram Page! https://www.instagram.com/thrasher_thursday_wbw/\n\nThey’ve got plenty of records to sift through for hours of headbanging\, or bring your favorites! (Head protection not provided.)\n\n1st Thursday of Every Month!\nDon’t worry taproom goers\, the Alamo Room is sound insulated from the main hall
URL:https://wilmingtonbrewworks.com/event/metal-monday-metal-punk-and-hardcore-vinyl-slam-2/2029-01-04/
LOCATION:The Alamo Room\, 3129 Miller Road\, Wilmington\, DE\, 19802\, United States
CATEGORIES:Alamo Room Events
ATTACH;FMTTYPE=image/png:https://wilmingtonbrewworks.com/wp-content/uploads/2023/12/Thrasher2025tv-event.png
END:VEVENT
BEGIN:VEVENT
DTSTART;TZID=America/New_York:20290201T180000
DTEND;TZID=America/New_York:20290201T210000
DTSTAMP:20260420T134159
CREATED:20241226T153752Z
LAST-MODIFIED:20241226T183248Z
UID:10002790-1864663200-1864674000@wilmingtonbrewworks.com
SUMMARY:Thrasher Thursday - Metal Punk and Hardcore Vinyl Slam
DESCRIPTION:Alamo Room Event – B.Y.O.Vinyl for a thrashy evening of slamming Metal\, Punk and Hardcore. Hosted by David & Bill.\n\nCheck out the @thrasher_thursday_wbw Instagram Page! https://www.instagram.com/thrasher_thursday_wbw/\n\nThey’ve got plenty of records to sift through for hours of headbanging\, or bring your favorites! (Head protection not provided.)\n\n1st Thursday of Every Month!\nDon’t worry taproom goers\, the Alamo Room is sound insulated from the main hall
URL:https://wilmingtonbrewworks.com/event/metal-monday-metal-punk-and-hardcore-vinyl-slam-2/2029-02-01/
LOCATION:The Alamo Room\, 3129 Miller Road\, Wilmington\, DE\, 19802\, United States
CATEGORIES:Alamo Room Events
ATTACH;FMTTYPE=image/png:https://wilmingtonbrewworks.com/wp-content/uploads/2023/12/Thrasher2025tv-event.png
END:VEVENT
BEGIN:VEVENT
DTSTART;TZID=America/New_York:20290301T180000
DTEND;TZID=America/New_York:20290301T210000
DTSTAMP:20260420T134159
CREATED:20241226T153752Z
LAST-MODIFIED:20241226T183248Z
UID:10002791-1867082400-1867093200@wilmingtonbrewworks.com
SUMMARY:Thrasher Thursday - Metal Punk and Hardcore Vinyl Slam
DESCRIPTION:Alamo Room Event – B.Y.O.Vinyl for a thrashy evening of slamming Metal\, Punk and Hardcore. Hosted by David & Bill.\n\nCheck out the @thrasher_thursday_wbw Instagram Page! https://www.instagram.com/thrasher_thursday_wbw/\n\nThey’ve got plenty of records to sift through for hours of headbanging\, or bring your favorites! (Head protection not provided.)\n\n1st Thursday of Every Month!\nDon’t worry taproom goers\, the Alamo Room is sound insulated from the main hall
URL:https://wilmingtonbrewworks.com/event/metal-monday-metal-punk-and-hardcore-vinyl-slam-2/2029-03-01/
LOCATION:The Alamo Room\, 3129 Miller Road\, Wilmington\, DE\, 19802\, United States
CATEGORIES:Alamo Room Events
ATTACH;FMTTYPE=image/png:https://wilmingtonbrewworks.com/wp-content/uploads/2023/12/Thrasher2025tv-event.png
END:VEVENT
BEGIN:VEVENT
DTSTART;TZID=America/New_York:20290405T180000
DTEND;TZID=America/New_York:20290405T210000
DTSTAMP:20260420T134159
CREATED:20241226T153752Z
LAST-MODIFIED:20241226T183248Z
UID:10002792-1870106400-1870117200@wilmingtonbrewworks.com
SUMMARY:Thrasher Thursday - Metal Punk and Hardcore Vinyl Slam
DESCRIPTION:Alamo Room Event – B.Y.O.Vinyl for a thrashy evening of slamming Metal\, Punk and Hardcore. Hosted by David & Bill.\n\nCheck out the @thrasher_thursday_wbw Instagram Page! https://www.instagram.com/thrasher_thursday_wbw/\n\nThey’ve got plenty of records to sift through for hours of headbanging\, or bring your favorites! (Head protection not provided.)\n\n1st Thursday of Every Month!\nDon’t worry taproom goers\, the Alamo Room is sound insulated from the main hall
URL:https://wilmingtonbrewworks.com/event/metal-monday-metal-punk-and-hardcore-vinyl-slam-2/2029-04-05/
LOCATION:The Alamo Room\, 3129 Miller Road\, Wilmington\, DE\, 19802\, United States
CATEGORIES:Alamo Room Events
ATTACH;FMTTYPE=image/png:https://wilmingtonbrewworks.com/wp-content/uploads/2023/12/Thrasher2025tv-event.png
END:VEVENT
BEGIN:VEVENT
DTSTART;TZID=America/New_York:20290503T180000
DTEND;TZID=America/New_York:20290503T210000
DTSTAMP:20260420T134159
CREATED:20241226T153752Z
LAST-MODIFIED:20241226T183248Z
UID:10002793-1872525600-1872536400@wilmingtonbrewworks.com
SUMMARY:Thrasher Thursday - Metal Punk and Hardcore Vinyl Slam
DESCRIPTION:Alamo Room Event – B.Y.O.Vinyl for a thrashy evening of slamming Metal\, Punk and Hardcore. Hosted by David & Bill.\n\nCheck out the @thrasher_thursday_wbw Instagram Page! https://www.instagram.com/thrasher_thursday_wbw/\n\nThey’ve got plenty of records to sift through for hours of headbanging\, or bring your favorites! (Head protection not provided.)\n\n1st Thursday of Every Month!\nDon’t worry taproom goers\, the Alamo Room is sound insulated from the main hall
URL:https://wilmingtonbrewworks.com/event/metal-monday-metal-punk-and-hardcore-vinyl-slam-2/2029-05-03/
LOCATION:The Alamo Room\, 3129 Miller Road\, Wilmington\, DE\, 19802\, United States
CATEGORIES:Alamo Room Events
ATTACH;FMTTYPE=image/png:https://wilmingtonbrewworks.com/wp-content/uploads/2023/12/Thrasher2025tv-event.png
END:VEVENT
BEGIN:VEVENT
DTSTART;TZID=America/New_York:20290607T180000
DTEND;TZID=America/New_York:20290607T210000
DTSTAMP:20260420T134159
CREATED:20241226T153752Z
LAST-MODIFIED:20241226T183248Z
UID:10002794-1875549600-1875560400@wilmingtonbrewworks.com
SUMMARY:Thrasher Thursday - Metal Punk and Hardcore Vinyl Slam
DESCRIPTION:Alamo Room Event – B.Y.O.Vinyl for a thrashy evening of slamming Metal\, Punk and Hardcore. Hosted by David & Bill.\n\nCheck out the @thrasher_thursday_wbw Instagram Page! https://www.instagram.com/thrasher_thursday_wbw/\n\nThey’ve got plenty of records to sift through for hours of headbanging\, or bring your favorites! (Head protection not provided.)\n\n1st Thursday of Every Month!\nDon’t worry taproom goers\, the Alamo Room is sound insulated from the main hall
URL:https://wilmingtonbrewworks.com/event/metal-monday-metal-punk-and-hardcore-vinyl-slam-2/2029-06-07/
LOCATION:The Alamo Room\, 3129 Miller Road\, Wilmington\, DE\, 19802\, United States
CATEGORIES:Alamo Room Events
ATTACH;FMTTYPE=image/png:https://wilmingtonbrewworks.com/wp-content/uploads/2023/12/Thrasher2025tv-event.png
END:VEVENT
BEGIN:VEVENT
DTSTART;TZID=America/New_York:20290705T180000
DTEND;TZID=America/New_York:20290705T210000
DTSTAMP:20260420T134159
CREATED:20241226T153752Z
LAST-MODIFIED:20241226T183248Z
UID:10002795-1877968800-1877979600@wilmingtonbrewworks.com
SUMMARY:Thrasher Thursday - Metal Punk and Hardcore Vinyl Slam
DESCRIPTION:Alamo Room Event – B.Y.O.Vinyl for a thrashy evening of slamming Metal\, Punk and Hardcore. Hosted by David & Bill.\n\nCheck out the @thrasher_thursday_wbw Instagram Page! https://www.instagram.com/thrasher_thursday_wbw/\n\nThey’ve got plenty of records to sift through for hours of headbanging\, or bring your favorites! (Head protection not provided.)\n\n1st Thursday of Every Month!\nDon’t worry taproom goers\, the Alamo Room is sound insulated from the main hall
URL:https://wilmingtonbrewworks.com/event/metal-monday-metal-punk-and-hardcore-vinyl-slam-2/2029-07-05/
LOCATION:The Alamo Room\, 3129 Miller Road\, Wilmington\, DE\, 19802\, United States
CATEGORIES:Alamo Room Events
ATTACH;FMTTYPE=image/png:https://wilmingtonbrewworks.com/wp-content/uploads/2023/12/Thrasher2025tv-event.png
END:VEVENT
BEGIN:VEVENT
DTSTART;TZID=America/New_York:20290802T180000
DTEND;TZID=America/New_York:20290802T210000
DTSTAMP:20260420T134159
CREATED:20241226T153752Z
LAST-MODIFIED:20241226T183248Z
UID:10002796-1880388000-1880398800@wilmingtonbrewworks.com
SUMMARY:Thrasher Thursday - Metal Punk and Hardcore Vinyl Slam
DESCRIPTION:Alamo Room Event – B.Y.O.Vinyl for a thrashy evening of slamming Metal\, Punk and Hardcore. Hosted by David & Bill.\n\nCheck out the @thrasher_thursday_wbw Instagram Page! https://www.instagram.com/thrasher_thursday_wbw/\n\nThey’ve got plenty of records to sift through for hours of headbanging\, or bring your favorites! (Head protection not provided.)\n\n1st Thursday of Every Month!\nDon’t worry taproom goers\, the Alamo Room is sound insulated from the main hall
URL:https://wilmingtonbrewworks.com/event/metal-monday-metal-punk-and-hardcore-vinyl-slam-2/2029-08-02/
LOCATION:The Alamo Room\, 3129 Miller Road\, Wilmington\, DE\, 19802\, United States
CATEGORIES:Alamo Room Events
ATTACH;FMTTYPE=image/png:https://wilmingtonbrewworks.com/wp-content/uploads/2023/12/Thrasher2025tv-event.png
END:VEVENT
BEGIN:VEVENT
DTSTART;TZID=America/New_York:20290906T180000
DTEND;TZID=America/New_York:20290906T210000
DTSTAMP:20260420T134159
CREATED:20241226T153752Z
LAST-MODIFIED:20241226T183248Z
UID:10002797-1883412000-1883422800@wilmingtonbrewworks.com
SUMMARY:Thrasher Thursday - Metal Punk and Hardcore Vinyl Slam
DESCRIPTION:Alamo Room Event – B.Y.O.Vinyl for a thrashy evening of slamming Metal\, Punk and Hardcore. Hosted by David & Bill.\n\nCheck out the @thrasher_thursday_wbw Instagram Page! https://www.instagram.com/thrasher_thursday_wbw/\n\nThey’ve got plenty of records to sift through for hours of headbanging\, or bring your favorites! (Head protection not provided.)\n\n1st Thursday of Every Month!\nDon’t worry taproom goers\, the Alamo Room is sound insulated from the main hall
URL:https://wilmingtonbrewworks.com/event/metal-monday-metal-punk-and-hardcore-vinyl-slam-2/2029-09-06/
LOCATION:The Alamo Room\, 3129 Miller Road\, Wilmington\, DE\, 19802\, United States
CATEGORIES:Alamo Room Events
ATTACH;FMTTYPE=image/png:https://wilmingtonbrewworks.com/wp-content/uploads/2023/12/Thrasher2025tv-event.png
END:VEVENT
BEGIN:VEVENT
DTSTART;TZID=America/New_York:20291004T180000
DTEND;TZID=America/New_York:20291004T210000
DTSTAMP:20260420T134159
CREATED:20241226T153752Z
LAST-MODIFIED:20241226T183248Z
UID:10002798-1885831200-1885842000@wilmingtonbrewworks.com
SUMMARY:Thrasher Thursday - Metal Punk and Hardcore Vinyl Slam
DESCRIPTION:Alamo Room Event – B.Y.O.Vinyl for a thrashy evening of slamming Metal\, Punk and Hardcore. Hosted by David & Bill.\n\nCheck out the @thrasher_thursday_wbw Instagram Page! https://www.instagram.com/thrasher_thursday_wbw/\n\nThey’ve got plenty of records to sift through for hours of headbanging\, or bring your favorites! (Head protection not provided.)\n\n1st Thursday of Every Month!\nDon’t worry taproom goers\, the Alamo Room is sound insulated from the main hall
URL:https://wilmingtonbrewworks.com/event/metal-monday-metal-punk-and-hardcore-vinyl-slam-2/2029-10-04/
LOCATION:The Alamo Room\, 3129 Miller Road\, Wilmington\, DE\, 19802\, United States
CATEGORIES:Alamo Room Events
ATTACH;FMTTYPE=image/png:https://wilmingtonbrewworks.com/wp-content/uploads/2023/12/Thrasher2025tv-event.png
END:VEVENT
BEGIN:VEVENT
DTSTART;TZID=America/New_York:20291101T180000
DTEND;TZID=America/New_York:20291101T210000
DTSTAMP:20260420T134159
CREATED:20241226T153752Z
LAST-MODIFIED:20241226T183248Z
UID:10002799-1888250400-1888261200@wilmingtonbrewworks.com
SUMMARY:Thrasher Thursday - Metal Punk and Hardcore Vinyl Slam
DESCRIPTION:Alamo Room Event – B.Y.O.Vinyl for a thrashy evening of slamming Metal\, Punk and Hardcore. Hosted by David & Bill.\n\nCheck out the @thrasher_thursday_wbw Instagram Page! https://www.instagram.com/thrasher_thursday_wbw/\n\nThey’ve got plenty of records to sift through for hours of headbanging\, or bring your favorites! (Head protection not provided.)\n\n1st Thursday of Every Month!\nDon’t worry taproom goers\, the Alamo Room is sound insulated from the main hall
URL:https://wilmingtonbrewworks.com/event/metal-monday-metal-punk-and-hardcore-vinyl-slam-2/2029-11-01/
LOCATION:The Alamo Room\, 3129 Miller Road\, Wilmington\, DE\, 19802\, United States
CATEGORIES:Alamo Room Events
ATTACH;FMTTYPE=image/png:https://wilmingtonbrewworks.com/wp-content/uploads/2023/12/Thrasher2025tv-event.png
END:VEVENT
BEGIN:VEVENT
DTSTART;TZID=America/New_York:20291206T180000
DTEND;TZID=America/New_York:20291206T210000
DTSTAMP:20260420T134159
CREATED:20241226T153752Z
LAST-MODIFIED:20241226T183248Z
UID:10002800-1891274400-1891285200@wilmingtonbrewworks.com
SUMMARY:Thrasher Thursday - Metal Punk and Hardcore Vinyl Slam
DESCRIPTION:Alamo Room Event – B.Y.O.Vinyl for a thrashy evening of slamming Metal\, Punk and Hardcore. Hosted by David & Bill.\n\nCheck out the @thrasher_thursday_wbw Instagram Page! https://www.instagram.com/thrasher_thursday_wbw/\n\nThey’ve got plenty of records to sift through for hours of headbanging\, or bring your favorites! (Head protection not provided.)\n\n1st Thursday of Every Month!\nDon’t worry taproom goers\, the Alamo Room is sound insulated from the main hall
URL:https://wilmingtonbrewworks.com/event/metal-monday-metal-punk-and-hardcore-vinyl-slam-2/2029-12-06/
LOCATION:The Alamo Room\, 3129 Miller Road\, Wilmington\, DE\, 19802\, United States
CATEGORIES:Alamo Room Events
ATTACH;FMTTYPE=image/png:https://wilmingtonbrewworks.com/wp-content/uploads/2023/12/Thrasher2025tv-event.png
END:VEVENT
BEGIN:VEVENT
DTSTART;TZID=America/New_York:20300103T180000
DTEND;TZID=America/New_York:20300103T210000
DTSTAMP:20260420T134159
CREATED:20241226T153752Z
LAST-MODIFIED:20241226T183248Z
UID:10002993-1893693600-1893704400@wilmingtonbrewworks.com
SUMMARY:Thrasher Thursday - Metal Punk and Hardcore Vinyl Slam
DESCRIPTION:Alamo Room Event – B.Y.O.Vinyl for a thrashy evening of slamming Metal\, Punk and Hardcore. Hosted by David & Bill.\n\nCheck out the @thrasher_thursday_wbw Instagram Page! https://www.instagram.com/thrasher_thursday_wbw/\n\nThey’ve got plenty of records to sift through for hours of headbanging\, or bring your favorites! (Head protection not provided.)\n\n1st Thursday of Every Month!\nDon’t worry taproom goers\, the Alamo Room is sound insulated from the main hall
URL:https://wilmingtonbrewworks.com/event/metal-monday-metal-punk-and-hardcore-vinyl-slam-2/2030-01-03/
LOCATION:The Alamo Room\, 3129 Miller Road\, Wilmington\, DE\, 19802\, United States
CATEGORIES:Alamo Room Events
ATTACH;FMTTYPE=image/png:https://wilmingtonbrewworks.com/wp-content/uploads/2023/12/Thrasher2025tv-event.png
END:VEVENT
END:VCALENDAR