BEGIN:VCALENDAR
VERSION:2.0
PRODID:-//Wilmington Brew Works - ECPv6.15.20//NONSGML v1.0//EN
CALSCALE:GREGORIAN
METHOD:PUBLISH
X-ORIGINAL-URL:https://wilmingtonbrewworks.com
X-WR-CALDESC:Events for Wilmington Brew Works
REFRESH-INTERVAL;VALUE=DURATION:PT1H
X-Robots-Tag:noindex
X-PUBLISHED-TTL:PT1H
BEGIN:VTIMEZONE
TZID:America/New_York
BEGIN:DAYLIGHT
TZOFFSETFROM:-0500
TZOFFSETTO:-0400
TZNAME:EDT
DTSTART:20230312T070000
END:DAYLIGHT
BEGIN:STANDARD
TZOFFSETFROM:-0400
TZOFFSETTO:-0500
TZNAME:EST
DTSTART:20231105T060000
END:STANDARD
BEGIN:DAYLIGHT
TZOFFSETFROM:-0500
TZOFFSETTO:-0400
TZNAME:EDT
DTSTART:20240310T070000
END:DAYLIGHT
BEGIN:STANDARD
TZOFFSETFROM:-0400
TZOFFSETTO:-0500
TZNAME:EST
DTSTART:20241103T060000
END:STANDARD
BEGIN:DAYLIGHT
TZOFFSETFROM:-0500
TZOFFSETTO:-0400
TZNAME:EDT
DTSTART:20250309T070000
END:DAYLIGHT
BEGIN:STANDARD
TZOFFSETFROM:-0400
TZOFFSETTO:-0500
TZNAME:EST
DTSTART:20251102T060000
END:STANDARD
END:VTIMEZONE
BEGIN:VEVENT
DTSTART;TZID=America/New_York:20241102T140000
DTEND;TZID=America/New_York:20241102T180000
DTSTAMP:20260421T132042
CREATED:20241009T144057Z
LAST-MODIFIED:20241009T144058Z
UID:10002695-1730556000-1730570400@wilmingtonbrewworks.com
SUMMARY:Happy Hour at the Tower
DESCRIPTION:Mark your calendar for the 2024 HHATT!! \n\n\n\n\nHappy Hour At The Tower is a community fundraiser organized to benefit Friends of Wilmington Parks and to promote Wilmington. The event features food trucks\, beer and wine\, live music\, local artists\, and the official seasonal lighting of the Tower. \nBEER BY WILMINGTON BREW WORKS \nMUSIC BY CHORDUROY \n\nTickets available HERE
URL:https://wilmingtonbrewworks.com/event/happy-hour-at-the-tower/
LOCATION:Rockford Park\, Lookout Dr\, Wilmington\, 19806\, United States
CATEGORIES:Off-Site Events
ATTACH;FMTTYPE=image/jpeg:https://wilmingtonbrewworks.com/wp-content/uploads/2024/10/HHATT.jpg
END:VEVENT
BEGIN:VEVENT
DTSTART;TZID=America/New_York:20241102T183000
DTEND;TZID=America/New_York:20241102T210000
DTSTAMP:20260421T132042
CREATED:20241009T211921Z
LAST-MODIFIED:20241009T211922Z
UID:10002696-1730572200-1730581200@wilmingtonbrewworks.com
SUMMARY:AFTER PARTY: Happy Hour at the Tower
DESCRIPTION:Spend the afternoon supporting the Friends of Wilmington Parks at the Happy Hour at the Tower\, and wind down your evening at Wilmington Brew Works when it’s over: \nSpokey Speaky\nLIVE IN THE BEER GARDEN!
URL:https://wilmingtonbrewworks.com/event/after-party-happy-hour-at-the-tower/
LOCATION:Wilmington Brew Works\, 3129 Miller Road\, Wilmington\, DE\, 19802\, United States
CATEGORIES:Taproom Events
ATTACH;FMTTYPE=image/png:https://wilmingtonbrewworks.com/wp-content/uploads/2024/10/HHATT-After-PartyEvent.png
END:VEVENT
END:VCALENDAR