BEGIN:VCALENDAR
VERSION:2.0
PRODID:-//Wilmington Brew Works - ECPv6.15.20//NONSGML v1.0//EN
CALSCALE:GREGORIAN
METHOD:PUBLISH
X-WR-CALNAME:Wilmington Brew Works
X-ORIGINAL-URL:https://wilmingtonbrewworks.com
X-WR-CALDESC:Events for Wilmington Brew Works
REFRESH-INTERVAL;VALUE=DURATION:PT1H
X-Robots-Tag:noindex
X-PUBLISHED-TTL:PT1H
BEGIN:VTIMEZONE
TZID:America/New_York
BEGIN:DAYLIGHT
TZOFFSETFROM:-0500
TZOFFSETTO:-0400
TZNAME:EDT
DTSTART:20250309T070000
END:DAYLIGHT
BEGIN:STANDARD
TZOFFSETFROM:-0400
TZOFFSETTO:-0500
TZNAME:EST
DTSTART:20251102T060000
END:STANDARD
BEGIN:DAYLIGHT
TZOFFSETFROM:-0500
TZOFFSETTO:-0400
TZNAME:EDT
DTSTART:20260308T070000
END:DAYLIGHT
BEGIN:STANDARD
TZOFFSETFROM:-0400
TZOFFSETTO:-0500
TZNAME:EST
DTSTART:20261101T060000
END:STANDARD
BEGIN:DAYLIGHT
TZOFFSETFROM:-0500
TZOFFSETTO:-0400
TZNAME:EDT
DTSTART:20270314T070000
END:DAYLIGHT
BEGIN:STANDARD
TZOFFSETFROM:-0400
TZOFFSETTO:-0500
TZNAME:EST
DTSTART:20271107T060000
END:STANDARD
END:VTIMEZONE
BEGIN:VEVENT
DTSTART;TZID=America/New_York:20260507T180000
DTEND;TZID=America/New_York:20260507T210000
DTSTAMP:20260421T124332
CREATED:20241226T153752Z
LAST-MODIFIED:20241226T183248Z
UID:10002757-1778176800-1778187600@wilmingtonbrewworks.com
SUMMARY:Thrasher Thursday - Metal Punk and Hardcore Vinyl Slam
DESCRIPTION:Alamo Room Event – B.Y.O.Vinyl for a thrashy evening of slamming Metal\, Punk and Hardcore. Hosted by David & Bill.\n\nCheck out the @thrasher_thursday_wbw Instagram Page! https://www.instagram.com/thrasher_thursday_wbw/\n\nThey’ve got plenty of records to sift through for hours of headbanging\, or bring your favorites! (Head protection not provided.)\n\n1st Thursday of Every Month!\nDon’t worry taproom goers\, the Alamo Room is sound insulated from the main hall
URL:https://wilmingtonbrewworks.com/event/metal-monday-metal-punk-and-hardcore-vinyl-slam-2/2026-05-07/
LOCATION:The Alamo Room\, 3129 Miller Road\, Wilmington\, DE\, 19802\, United States
CATEGORIES:Alamo Room Events
ATTACH;FMTTYPE=image/png:https://wilmingtonbrewworks.com/wp-content/uploads/2023/12/Thrasher2025tv-event.png
END:VEVENT
BEGIN:VEVENT
DTSTART;TZID=America/New_York:20260526T180000
DTEND;TZID=America/New_York:20260526T210000
DTSTAMP:20260421T124332
CREATED:20260126T224158Z
LAST-MODIFIED:20260126T224158Z
UID:10004413-1779818400-1779829200@wilmingtonbrewworks.com
SUMMARY:Vinyl Pop-Up Shops
DESCRIPTION:Pop Up Vinyl Sale in coordination with Turntable Tuesday.\n\nNew and Vintage Vinyl for sale in the Alamo Room\, along with guest vinyl DJs.\n\n4th Thursday Each Month\, multiple Vinyl Vendors and Record Shops each month!\n\nFind\, Buy and Listen to new tracks all at once.
URL:https://wilmingtonbrewworks.com/event/vinyl-pop-up-shops-4/2026-05-26/
LOCATION:Wilmington Brew Works\, 3129 Miller Road\, Wilmington\, DE\, 19802\, United States
CATEGORIES:Alamo Room Events,Taproom Events
ATTACH;FMTTYPE=image/png:https://wilmingtonbrewworks.com/wp-content/uploads/2026/01/WBW-Vinyl2026-Pop-Ups.png
END:VEVENT
END:VCALENDAR