BEGIN:VCALENDAR
VERSION:2.0
PRODID:-//Wilmington Brew Works - ECPv6.15.20//NONSGML v1.0//EN
CALSCALE:GREGORIAN
METHOD:PUBLISH
X-ORIGINAL-URL:https://wilmingtonbrewworks.com
X-WR-CALDESC:Events for Wilmington Brew Works
REFRESH-INTERVAL;VALUE=DURATION:PT1H
X-Robots-Tag:noindex
X-PUBLISHED-TTL:PT1H
BEGIN:VTIMEZONE
TZID:America/New_York
BEGIN:DAYLIGHT
TZOFFSETFROM:-0500
TZOFFSETTO:-0400
TZNAME:EDT
DTSTART:20240310T070000
END:DAYLIGHT
BEGIN:STANDARD
TZOFFSETFROM:-0400
TZOFFSETTO:-0500
TZNAME:EST
DTSTART:20241103T060000
END:STANDARD
BEGIN:DAYLIGHT
TZOFFSETFROM:-0500
TZOFFSETTO:-0400
TZNAME:EDT
DTSTART:20250309T070000
END:DAYLIGHT
BEGIN:STANDARD
TZOFFSETFROM:-0400
TZOFFSETTO:-0500
TZNAME:EST
DTSTART:20251102T060000
END:STANDARD
BEGIN:DAYLIGHT
TZOFFSETFROM:-0500
TZOFFSETTO:-0400
TZNAME:EDT
DTSTART:20260308T070000
END:DAYLIGHT
BEGIN:STANDARD
TZOFFSETFROM:-0400
TZOFFSETTO:-0500
TZNAME:EST
DTSTART:20261101T060000
END:STANDARD
END:VTIMEZONE
BEGIN:VEVENT
DTSTART;TZID=America/New_York:20251219T200000
DTEND;TZID=America/New_York:20251219T220000
DTSTAMP:20260420T124856
CREATED:20251203T010419Z
LAST-MODIFIED:20251203T010459Z
UID:10004034-1766174400-1766181600@wilmingtonbrewworks.com
SUMMARY:Alamo Room Comedy! feat. Steven Farmer!
DESCRIPTION:Internationally touring comedian Steven Farmer headlines Wilmington Brew Works-Alamo Room! (Limited Seating)\n\nTICKETS\n\nHeadliner: Steven Farmer\nSteven Farmer is a comedian\, filmmaker\, actor\, and author based in Austin\, TX. After finally escaping Arkansas with a theatre degree from an agricultural school\, he began his journey in standup comedy where he’s headlined across the country touring the U.S. and Europe. Steven’s comedy draws on his crazy experiences of growing up in a small town\, his constant confusion with cultures while traveling\, working jobs he had no business (or qualification) to be doing\, and his unique ability to seamlessly switch between accents\, impressions\, and original characters. His standup comedy clips on social media have gone viral several times gaining millions of views. His comedy sketches on his YouTube channel have won multiple film festival awards around the world and have been featured on channels such as Right This Minute. Steven also does voice-over work for large companies such as Pet Lab Co. as well as many companies and franchises he’d love to brag about but they had him sign an NDA (yeah\, they really do that). Steven was one of the few comedians selected to compete in the prestigious San Francisco Comedy Competition and Boston Comedy Festival (Semifinalist). His 1st comedy special ‘Arkansas Refugee‘ is now available on YouTube.\n\nFeaturing: Special Guests\n\nTICKETS
URL:https://wilmingtonbrewworks.com/event/alamo-room-comedy-feat-steven-farmer/
LOCATION:The Alamo Room\, 3129 Miller Road\, Wilmington\, DE\, 19802\, United States
CATEGORIES:Alamo Room Events,Taproom Events,Ticketed Events
ATTACH;FMTTYPE=image/png:https://wilmingtonbrewworks.com/wp-content/uploads/2025/12/Wilmington-Brew-Works.png
END:VEVENT
END:VCALENDAR